BEGIN:VCALENDAR
VERSION:2.0
PRODID:-//AspenOUT - ECPv6.15.20//NONSGML v1.0//EN
CALSCALE:GREGORIAN
METHOD:PUBLISH
X-WR-CALNAME:AspenOUT
X-ORIGINAL-URL:https://aspenout.com
X-WR-CALDESC:Events for AspenOUT
REFRESH-INTERVAL;VALUE=DURATION:PT1H
X-Robots-Tag:noindex
X-PUBLISHED-TTL:PT1H
BEGIN:VTIMEZONE
TZID:America/Denver
BEGIN:DAYLIGHT
TZOFFSETFROM:-0700
TZOFFSETTO:-0600
TZNAME:MDT
DTSTART:20220313T090000
END:DAYLIGHT
BEGIN:STANDARD
TZOFFSETFROM:-0600
TZOFFSETTO:-0700
TZNAME:MST
DTSTART:20221106T080000
END:STANDARD
BEGIN:DAYLIGHT
TZOFFSETFROM:-0700
TZOFFSETTO:-0600
TZNAME:MDT
DTSTART:20230312T090000
END:DAYLIGHT
BEGIN:STANDARD
TZOFFSETFROM:-0600
TZOFFSETTO:-0700
TZNAME:MST
DTSTART:20231105T080000
END:STANDARD
BEGIN:DAYLIGHT
TZOFFSETFROM:-0700
TZOFFSETTO:-0600
TZNAME:MDT
DTSTART:20240310T090000
END:DAYLIGHT
BEGIN:STANDARD
TZOFFSETFROM:-0600
TZOFFSETTO:-0700
TZNAME:MST
DTSTART:20241103T080000
END:STANDARD
END:VTIMEZONE
BEGIN:VEVENT
DTSTART;TZID=America/Denver:20230623T200000
DTEND;TZID=America/Denver:20230623T220000
DTSTAMP:20260421T122950
CREATED:20230531T150958Z
LAST-MODIFIED:20230531T151917Z
UID:10000001-1687550400-1687557600@aspenout.com
SUMMARY:TAWCA Dance Party
DESCRIPTION:CLICK HERE TO PURCHASE TICKETS \n\nDoors open for show @ 8:00pm / Show @ 8:30pm\nSTANDING ROOM SHOW / AGES: 21+\nLocation: TACAW\, 400 Robinson St\, Basalt\, CO 81621\nPRIDE DANCE PARTY HOSTED BY PATTIE GONIA\n \n\nJune 23 @ 8:30 pm\n\nSHOW @ 8:30PM / DOORS @ 8:00PM \n$16 MEMBER / $20 ADVANCE / $30 DAY OF \nSTANDING ROOM SHOW | AGES: 21+
URL:https://aspenout.com/event/tawca-dance-party/
ATTACH;FMTTYPE=image/png:https://aspenout.com/wp-content/uploads/2023/05/aspen-pride-dance-party-aspenout.png
END:VEVENT
END:VCALENDAR