BEGIN:VCALENDAR
VERSION:2.0
PRODID:-//AspenOUT - ECPv6.15.20//NONSGML v1.0//EN
CALSCALE:GREGORIAN
METHOD:PUBLISH
X-ORIGINAL-URL:https://aspenout.com
X-WR-CALDESC:Events for AspenOUT
REFRESH-INTERVAL;VALUE=DURATION:PT1H
X-Robots-Tag:noindex
X-PUBLISHED-TTL:PT1H
BEGIN:VTIMEZONE
TZID:America/Denver
BEGIN:DAYLIGHT
TZOFFSETFROM:-0700
TZOFFSETTO:-0600
TZNAME:MDT
DTSTART:20220313T090000
END:DAYLIGHT
BEGIN:STANDARD
TZOFFSETFROM:-0600
TZOFFSETTO:-0700
TZNAME:MST
DTSTART:20221106T080000
END:STANDARD
BEGIN:DAYLIGHT
TZOFFSETFROM:-0700
TZOFFSETTO:-0600
TZNAME:MDT
DTSTART:20230312T090000
END:DAYLIGHT
BEGIN:STANDARD
TZOFFSETFROM:-0600
TZOFFSETTO:-0700
TZNAME:MST
DTSTART:20231105T080000
END:STANDARD
BEGIN:DAYLIGHT
TZOFFSETFROM:-0700
TZOFFSETTO:-0600
TZNAME:MDT
DTSTART:20240310T090000
END:DAYLIGHT
BEGIN:STANDARD
TZOFFSETFROM:-0600
TZOFFSETTO:-0700
TZNAME:MST
DTSTART:20241103T080000
END:STANDARD
END:VTIMEZONE
BEGIN:VEVENT
DTSTART;TZID=America/Denver:20230709T180000
DTEND;TZID=America/Denver:20230709T193000
DTSTAMP:20260421T105303
CREATED:20230627T225503Z
LAST-MODIFIED:20230627T225503Z
UID:10000008-1688925600-1688931000@aspenout.com
SUMMARY:Free Outdoor Yoga with Mountain Pride
DESCRIPTION:Free outdoor yoga class with Mountain Pride and Endorphin Eagle on July 7 at 6pm at Eagle Town Park. \nOur friends at @endorphin_eagle are celebrating pride month with a few awesome classes\, merch\, and FUNdraising for @mountain_pride \nEndorphin is a group of individuals that connect and find community in one thing\, fitness. That’s what brings them together\, no matter the differences between each of us\, everyone is always welcome and celebrated every time they come together in the gym. Every day they aim to ensure everyone in our community feels loved and stoked to get their fitness on. \nThey are using this week to celebrate and to lift up LGBTQ voices\, celebrate LGBTQ culture and support LGBTQ rights. \nLet’s bring the Rainbow in the gym!
URL:https://aspenout.com/event/free-outdoor-yoga-with-mountain-pride/
LOCATION:Eagle Town Park\, 500-598 Washington Street\, Eagle\, co\, 81631
END:VEVENT
BEGIN:VEVENT
DTSTART;VALUE=DATE:20230710
DTEND;VALUE=DATE:20230715
DTSTAMP:20260421T105303
CREATED:20230711T205926Z
LAST-MODIFIED:20230711T210119Z
UID:10000012-1688947200-1689379199@aspenout.com
SUMMARY:Animation Film Camp with Aspen Film
DESCRIPTION:This one-week\, full-day\, immersive Animation Film Camp with Aspen Film is designed for teens who are curious and serious about learning to express themselves through animated storytelling\, as well as to experience what it’s like to be a part of a creative Team. Aspen Film partners with the Colorado Film School and the Red Brick Center for the Arts to provide experienced\, bi-lingual educators to teach the camp. SCHOLARSHIPS AVAILABLE. More information at https://aspenfilm.org/film-camp/. \nAspen Film is a grantee of AspenOUT and benefits from the funds raised annually at Aspen Gay Ski Week.
URL:https://aspenout.com/event/animation-film-camp-with-aspen-film/
LOCATION:Red Brick Center for the Arts\, 110 East Hallam St.\, Aspen\, CO\, 81611
CATEGORIES:Youth
ATTACH;FMTTYPE=application/pdf:https://aspenout.com/wp-content/uploads/2023/07/Aspen-Film-Camp_Animation-Flyer.pdf
END:VEVENT
END:VCALENDAR