BEGIN:VCALENDAR
VERSION:2.0
PRODID:-//AspenOUT - ECPv6.15.20//NONSGML v1.0//EN
CALSCALE:GREGORIAN
METHOD:PUBLISH
X-WR-CALNAME:AspenOUT
X-ORIGINAL-URL:https://aspenout.com
X-WR-CALDESC:Events for AspenOUT
REFRESH-INTERVAL;VALUE=DURATION:PT1H
X-Robots-Tag:noindex
X-PUBLISHED-TTL:PT1H
BEGIN:VTIMEZONE
TZID:America/Denver
BEGIN:DAYLIGHT
TZOFFSETFROM:-0700
TZOFFSETTO:-0600
TZNAME:MDT
DTSTART:20220313T090000
END:DAYLIGHT
BEGIN:STANDARD
TZOFFSETFROM:-0600
TZOFFSETTO:-0700
TZNAME:MST
DTSTART:20221106T080000
END:STANDARD
BEGIN:DAYLIGHT
TZOFFSETFROM:-0700
TZOFFSETTO:-0600
TZNAME:MDT
DTSTART:20230312T090000
END:DAYLIGHT
BEGIN:STANDARD
TZOFFSETFROM:-0600
TZOFFSETTO:-0700
TZNAME:MST
DTSTART:20231105T080000
END:STANDARD
BEGIN:DAYLIGHT
TZOFFSETFROM:-0700
TZOFFSETTO:-0600
TZNAME:MDT
DTSTART:20240310T090000
END:DAYLIGHT
BEGIN:STANDARD
TZOFFSETFROM:-0600
TZOFFSETTO:-0700
TZNAME:MST
DTSTART:20241103T080000
END:STANDARD
END:VTIMEZONE
BEGIN:VEVENT
DTSTART;VALUE=DATE:20230919
DTEND;VALUE=DATE:20230925
DTSTAMP:20260421T123853
CREATED:20230821T222121Z
LAST-MODIFIED:20230821T222123Z
UID:10000540-1695081600-1695599999@aspenout.com
SUMMARY:Filmfest 2023 presented by Aspen Film
DESCRIPTION:Aspen Film presents its 44th Filmfest. This annual fall festival is known to showcase top filmmaking talent from around the world\, featuring films that have premiered at the Cannes\, Sundance\, Telluride\, Toronto\, and Venice film festivals. This year\, Filmfest will run from September 19-24 at the Aspen Film Isis Theatre. \nClick HERE for more information and to purchase passes.
URL:https://aspenout.com/event/filmfest-2023-presented-by-aspen-film/
LOCATION:Aspen Film Isis Theatre\, 406 East Hopkins Ave.\, Aspen\, CO\, 81611
CATEGORIES:Youth and Adults
ATTACH;FMTTYPE=image/png:https://aspenout.com/wp-content/uploads/2023/08/FF23_columnweb.png
END:VEVENT
BEGIN:VEVENT
DTSTART;TZID=America/Denver:20230919T160000
DTEND;TZID=America/Denver:20230919T170000
DTSTAMP:20260421T123853
CREATED:20230731T173616Z
LAST-MODIFIED:20230809T195930Z
UID:10000478-1695139200-1695142800@aspenout.com
SUMMARY:LGBTQIA+ Adult Therapy Group
DESCRIPTION:Midvalley Family Practice is hosting a therapy group for adult LGBTQIA+ community members. The group meets Tuesdays from 4-5pm from August 1 – September 26 at their Basalt office\, 1450 East Valley Road\, Suite 102.
URL:https://aspenout.com/event/lgbtqia-adult-therapy-group/2023-09-19/
LOCATION:Midvalley Family Practice\, 1450 East Valley Road\, Suite 102\, Basalt\, CO\, 81621
CATEGORIES:Adults Only
ATTACH;FMTTYPE=image/jpeg:https://aspenout.com/wp-content/uploads/2023/07/Midvalley-group.jpg
END:VEVENT
BEGIN:VEVENT
DTSTART;TZID=America/Denver:20230919T173000
DTEND;TZID=America/Denver:20230919T183000
DTSTAMP:20260421T123853
CREATED:20230717T183916Z
LAST-MODIFIED:20230809T195719Z
UID:10000193-1695144600-1695148200@aspenout.com
SUMMARY:Connect & Climb
DESCRIPTION:Join PFLAG RFV and Cook Inclusive for a special climbing session with LGBTQ2A+ friends and family every 1st and 3rd Tuesday evening from 5:30-6:30pm at the Glenwood Springs Community Center. \nThe young folks can climb and spend time together while family members and Allies connect in the background. \nEmail info@pflagrfv.org if you have questions. \n.ALL ARE WELCOME! ¡TODOS SON BIENVENIDOS! \nCada 1er y 3er martes por la noche de 5:30 a 6:30. En el Centro Comunitario de Glenwood Springs. Únase a PFLAG RFV y Cook Inclusive para una sesión especial de escalada con amigos y familiares LGBTQ2A+. Los jóvenes pueden escalar y pasar tiempo juntos mientras los miembros de la familia y los Aliados se conectan de fondo. Envíe un correo electrónico a info@pflagrfv.org si tiene preguntas.
URL:https://aspenout.com/event/connect-climb-3/2023-09-19/
LOCATION:Glenwood Springs Community Center\, 100 Wulfsohn Road\, Glenwood Springs\, CO\, 81601
CATEGORIES:Youth,Youth and Adults
ATTACH;FMTTYPE=image/png:https://aspenout.com/wp-content/uploads/2023/07/ConnectClimbEnglish1.png
ORGANIZER;CN="PFLAG Roaring Fork Valley":MAILTO:info@pflagrfv.org
END:VEVENT
END:VCALENDAR