BEGIN:VCALENDAR
VERSION:2.0
PRODID:-//AspenOUT - ECPv6.15.20//NONSGML v1.0//EN
CALSCALE:GREGORIAN
METHOD:PUBLISH
X-WR-CALNAME:AspenOUT
X-ORIGINAL-URL:https://aspenout.com
X-WR-CALDESC:Events for AspenOUT
REFRESH-INTERVAL;VALUE=DURATION:PT1H
X-Robots-Tag:noindex
X-PUBLISHED-TTL:PT1H
BEGIN:VTIMEZONE
TZID:America/Denver
BEGIN:DAYLIGHT
TZOFFSETFROM:-0700
TZOFFSETTO:-0600
TZNAME:MDT
DTSTART:20220313T090000
END:DAYLIGHT
BEGIN:STANDARD
TZOFFSETFROM:-0600
TZOFFSETTO:-0700
TZNAME:MST
DTSTART:20221106T080000
END:STANDARD
BEGIN:DAYLIGHT
TZOFFSETFROM:-0700
TZOFFSETTO:-0600
TZNAME:MDT
DTSTART:20230312T090000
END:DAYLIGHT
BEGIN:STANDARD
TZOFFSETFROM:-0600
TZOFFSETTO:-0700
TZNAME:MST
DTSTART:20231105T080000
END:STANDARD
BEGIN:DAYLIGHT
TZOFFSETFROM:-0700
TZOFFSETTO:-0600
TZNAME:MDT
DTSTART:20240310T090000
END:DAYLIGHT
BEGIN:STANDARD
TZOFFSETFROM:-0600
TZOFFSETTO:-0700
TZNAME:MST
DTSTART:20241103T080000
END:STANDARD
END:VTIMEZONE
BEGIN:VEVENT
DTSTART;VALUE=DATE:20230919
DTEND;VALUE=DATE:20230925
DTSTAMP:20260421T123857
CREATED:20230821T222121Z
LAST-MODIFIED:20230821T222123Z
UID:10000540-1695081600-1695599999@aspenout.com
SUMMARY:Filmfest 2023 presented by Aspen Film
DESCRIPTION:Aspen Film presents its 44th Filmfest. This annual fall festival is known to showcase top filmmaking talent from around the world\, featuring films that have premiered at the Cannes\, Sundance\, Telluride\, Toronto\, and Venice film festivals. This year\, Filmfest will run from September 19-24 at the Aspen Film Isis Theatre. \nClick HERE for more information and to purchase passes.
URL:https://aspenout.com/event/filmfest-2023-presented-by-aspen-film/
LOCATION:Aspen Film Isis Theatre\, 406 East Hopkins Ave.\, Aspen\, CO\, 81611
CATEGORIES:Youth and Adults
ATTACH;FMTTYPE=image/png:https://aspenout.com/wp-content/uploads/2023/08/FF23_columnweb.png
END:VEVENT
BEGIN:VEVENT
DTSTART;TZID=America/Denver:20230923T110000
DTEND;TZID=America/Denver:20230923T160000
DTSTAMP:20260421T123857
CREATED:20230809T184906Z
LAST-MODIFIED:20230911T205204Z
UID:10000494-1695466800-1695484800@aspenout.com
SUMMARY:Mental Fitness Fair with HeadQuarters (formerly Aspen Strong)
DESCRIPTION:HeadQuarters Mental Fitness Fair\nMental Fitness is the purposeful practice of taking care of your mind. Through this we gain the tools and skills to cope with everyday stressors\, creating the resiliency to thrive. This collaborative event is designed to provide community members the opportunity to explore different modalities they can use for their mental fitness and discover mental health resources offered from Aspen to Parachute. \nEvent Rundown\n11:00 Fair Kickoff\nVendors/Organizations from Aspen to Parachute will come together to highlight the tools and resources they provide to encourage Mental Fitness\n11:00 – 4:00 Carnival Games Fun for the whole family!\n1:00 – 1:30 HeadQuarters Special Announcements\n1:30 – 2:00 Competition Lawn Games: Egg-Spoon Race (all ages)\, Tug-of-War\, Kettle Bell Challenge\n3:00 – 4:00 Breakout Workshops\nWorkshop sessions that encourage positive Mental Fitness. Finding practices that work for you can be costly and overwhelming. These short sessions will allow people to discover tools and resources that may work for you. \nWant to get involved?\nSponsorship Levels\nSponsorship Application\nLearn more about the fair! \nHeadQuarters (formerly Aspen Strong) is a grantee of AspenOUT.
URL:https://aspenout.com/event/mental-fitness-fair-with-headquarters-formerly-aspen-strong/
LOCATION:Willits Triangle Park\, 750 East Valley Road\, Bsalt\, CO\, 81621
CATEGORIES:Youth and Adults
ATTACH;FMTTYPE=application/pdf:https://aspenout.com/wp-content/uploads/2023/08/MENTAL-FITNESS-FAIR-POSTER-FINAL-11-×-17-in_Final.pdf
END:VEVENT
BEGIN:VEVENT
DTSTART;TZID=America/Denver:20230923T180000
DTEND;TZID=America/Denver:20230923T220000
DTSTAMP:20260421T123857
CREATED:20230809T194149Z
LAST-MODIFIED:20230809T195219Z
UID:10000495-1695492000-1695506400@aspenout.com
SUMMARY:One Colorado's PRISM Awards
DESCRIPTION:The Prism Awards\, formerly the Ally Awards\, is One Colorado’s annual gala to honor individuals and organizations who have made a substantive difference in the lives of LGBTQ+ Coloradans and their families. The event will be hosted on Saturday\, September 23rd from 6pm – 10pm at the Denver Art Museum. The evening will kick off with a cocktail reception and silent auction with a hosted bar and heavy hors d’oeuvres. Guests will then move to the pavilion and attendees will enjoy an awards ceremony with special guest speakers\, delectable desserts\, and champagne. \nTickets & Sponsorships\nEarly Bird ticket sales end August 11th. Tickets will be available for purchase at regular price until the evening of the Prism Awards on September 23rd. If you would like to attend the event but are experiencing financial barriers\, you can sign up to volunteer or email development@one-colorado.org for discount information. \nAll sponsorships should be received one month prior to the Prism Awards. \n\nTICKETS\nSPONSORSHIPS
URL:https://aspenout.com/event/one-colorados-prism-awards/
LOCATION:Denver Art Museum
CATEGORIES:Adults Only
ATTACH;FMTTYPE=image/png:https://aspenout.com/wp-content/uploads/2023/08/Prism.png
END:VEVENT
END:VCALENDAR