BEGIN:VCALENDAR
VERSION:2.0
PRODID:-//AspenOUT - ECPv6.15.20//NONSGML v1.0//EN
CALSCALE:GREGORIAN
METHOD:PUBLISH
X-ORIGINAL-URL:https://aspenout.com
X-WR-CALDESC:Events for AspenOUT
REFRESH-INTERVAL;VALUE=DURATION:PT1H
X-Robots-Tag:noindex
X-PUBLISHED-TTL:PT1H
BEGIN:VTIMEZONE
TZID:America/Denver
BEGIN:DAYLIGHT
TZOFFSETFROM:-0700
TZOFFSETTO:-0600
TZNAME:MDT
DTSTART:20250309T090000
END:DAYLIGHT
BEGIN:STANDARD
TZOFFSETFROM:-0600
TZOFFSETTO:-0700
TZNAME:MST
DTSTART:20251102T080000
END:STANDARD
BEGIN:DAYLIGHT
TZOFFSETFROM:-0700
TZOFFSETTO:-0600
TZNAME:MDT
DTSTART:20260308T090000
END:DAYLIGHT
BEGIN:STANDARD
TZOFFSETFROM:-0600
TZOFFSETTO:-0700
TZNAME:MST
DTSTART:20261101T080000
END:STANDARD
BEGIN:DAYLIGHT
TZOFFSETFROM:-0700
TZOFFSETTO:-0600
TZNAME:MDT
DTSTART:20270314T090000
END:DAYLIGHT
BEGIN:STANDARD
TZOFFSETFROM:-0600
TZOFFSETTO:-0700
TZNAME:MST
DTSTART:20271107T080000
END:STANDARD
END:VTIMEZONE
BEGIN:VEVENT
DTSTART;TZID=America/Denver:20260224T180000
DTEND;TZID=America/Denver:20260224T200000
DTSTAMP:20260422T002831
CREATED:20260123T151120Z
LAST-MODIFIED:20260202T191658Z
UID:10000621-1771956000-1771963200@aspenout.com
SUMMARY:Hues and Brews: Charcoal Life Drawing
DESCRIPTION:SIGN-UP TO HUES AND BREWS HERE\n			\n				\n				\n				\n				\n				\n\nHUES and BREWS – Sponsored by AspenOUT\n\n\n\n\nTuesday\, February 24\, 20266:00-8:00PMSupplies\, beverages\, and snacks includedScholarships Available\, Open to All \nExplore expressive figure drawing in a relaxed\, supportive charcoal life drawing class. Participants take turns rotating as clothed models\, giving everyone the chance to observe\, pose\, and draw while developing confidence and fundamental drawing skills. No prior experience required—just curiosity and a willingness to explore form\, gesture\, and tone. \n4th Tuesday LGBTQIA+ Art & Social Night On the 4th Tuesday of each month\, local LGBTQIA+ community and allies gather to socialize\, make art\, network\, and have fun—optionally with an adult beverage. Enjoy a rotating mix of creative projects in a variety of media; no art experience needed. Come as you are\, meet new friends\, and explore creativity in a welcoming\, low-pressure space.
URL:https://aspenout.com/event/hues-and-brews-feb-2026/
LOCATION:The Art Base\, 174 Midland Avenue\, Basalt\, CO\, 81621
CATEGORIES:Adults Only
ATTACH;FMTTYPE=image/jpeg:https://aspenout.com/wp-content/uploads/2026/01/hues-brew-artbase-aspenout-2026-feb.jpg
END:VEVENT
END:VCALENDAR