BEGIN:VCALENDAR
VERSION:2.0
PRODID:-//AspenOUT - ECPv6.15.20//NONSGML v1.0//EN
CALSCALE:GREGORIAN
METHOD:PUBLISH
X-ORIGINAL-URL:https://aspenout.com
X-WR-CALDESC:Events for AspenOUT
REFRESH-INTERVAL;VALUE=DURATION:PT1H
X-Robots-Tag:noindex
X-PUBLISHED-TTL:PT1H
BEGIN:VTIMEZONE
TZID:America/Denver
BEGIN:DAYLIGHT
TZOFFSETFROM:-0700
TZOFFSETTO:-0600
TZNAME:MDT
DTSTART:20250309T090000
END:DAYLIGHT
BEGIN:STANDARD
TZOFFSETFROM:-0600
TZOFFSETTO:-0700
TZNAME:MST
DTSTART:20251102T080000
END:STANDARD
BEGIN:DAYLIGHT
TZOFFSETFROM:-0700
TZOFFSETTO:-0600
TZNAME:MDT
DTSTART:20260308T090000
END:DAYLIGHT
BEGIN:STANDARD
TZOFFSETFROM:-0600
TZOFFSETTO:-0700
TZNAME:MST
DTSTART:20261101T080000
END:STANDARD
BEGIN:DAYLIGHT
TZOFFSETFROM:-0700
TZOFFSETTO:-0600
TZNAME:MDT
DTSTART:20270314T090000
END:DAYLIGHT
BEGIN:STANDARD
TZOFFSETFROM:-0600
TZOFFSETTO:-0700
TZNAME:MST
DTSTART:20271107T080000
END:STANDARD
END:VTIMEZONE
BEGIN:VEVENT
DTSTART;TZID=America/Denver:20260409T173000
DTEND;TZID=America/Denver:20260409T193000
DTSTAMP:20260421T122934
CREATED:20260310T175831Z
LAST-MODIFIED:20260310T180259Z
UID:10000627-1775755800-1775763000@aspenout.com
SUMMARY:Prism at the Brick: Pop Art Pets – Aspen
DESCRIPTION:SIGN UP HERE\n			\n			\n				\n				\n				\n				\n				\n				\n				\n				\n				\n				\n\n\n\n\n\n\n\nAbout the Session\nLearn to create a vibrant portrait of your favorite family member! Bring a printed pic of your pet or use one of the pictures provided.  \nParticipants must be 21 years of age or older. \n\n\n\n\n\n\n\n\n\n\n\nIn collaboration with AspenOut\, join us at the Red Brick Center for the Arts for a fun and social art-making evening. Whether you have art experience or not\, come create during our evening sessions and enjoy a complimentary glass of wine or beer. \n\n\n\n\n\n\n\n\n\n\n\nCost\n$10; supplies are included. \nThe Red Brick Center for the Arts is conveniently located just two blocks away from the RFTA bus stop on Garmisch Street. \n\n\n\n\n\n\n\n\n			\n			\n				\n				\n				\n				\n			\n				\n				\n			\n				\n				\n				\n				\n				\n				\n				\n				\n				\n				\n				\n				\n				\n				\n				\n				\n				\n				\n			\n			\n				\n				\n				\n				\n			\n				\n				\n				\n				\n				\n				\n				\n				\n				\n				\n				Get in Touch. Get Involved.\nWe are always looking for new volunteers\, future board members\, and more. Let us know how you’d like to be involved with AspenOUT. \n			\n			\n				\n				\n				\n				\n			\n				\n				\n				\n				\n				\n				\n				\n				\n				\n				\n				\n					\n					\n						298 Park Ave. Suite A5\, Basalt\, CO\, 81621\n						\n					\n				\n			\n			\n				\n				\n				\n				\n				\n				\n				\n				\n				\n				\n					\n					\n						Text Us: ‪(323) 553-0258\n						\n					\n				\n			\n			\n				\n				\n				\n				\n				\n				Become A Sponsor\n			\n			\n				\n				\n				\n				\n			\n				\n				\n				\n				\n				\n				\n				\n				\n				\n				\n				\n				\n				\n				\n					\n						\n				\n				\n				\n				\n				Name\n				\n			 \n\n				\n				\n				\n				\n				Email Address\n				\n			 \n\n				\n				\n				\n				\n				Message\n				\n			 \n\n						\n						\n							\n							Submit\n						\n						\n					\n				\n			\n\n			\n				\n				\n				\n				\n			\n				\n				\n				\n				\n				\n				\n				\n				\n				\n				\n				FollowFollow
URL:https://aspenout.com/event/prism-at-the-brick-pop-art-pets-aspen/
LOCATION:Red Brick Center for the Arts\, 110 East Hallam St.\, Aspen\, CO\, 81611
CATEGORIES:Adults Only
ATTACH;FMTTYPE=image/jpeg:https://aspenout.com/wp-content/uploads/2026/03/red-brick-pop-art-april-2026.jpg
ORGANIZER;CN="AspenOUT":MAILTO:info@aspenout.org
END:VEVENT
END:VCALENDAR