BEGIN:VCALENDAR
VERSION:2.0
PRODID:-//AspenOUT - ECPv6.15.20//NONSGML v1.0//EN
CALSCALE:GREGORIAN
METHOD:PUBLISH
X-ORIGINAL-URL:https://aspenout.com
X-WR-CALDESC:Events for AspenOUT
REFRESH-INTERVAL;VALUE=DURATION:PT1H
X-Robots-Tag:noindex
X-PUBLISHED-TTL:PT1H
BEGIN:VTIMEZONE
TZID:America/Denver
BEGIN:DAYLIGHT
TZOFFSETFROM:-0700
TZOFFSETTO:-0600
TZNAME:MDT
DTSTART:20250309T090000
END:DAYLIGHT
BEGIN:STANDARD
TZOFFSETFROM:-0600
TZOFFSETTO:-0700
TZNAME:MST
DTSTART:20251102T080000
END:STANDARD
BEGIN:DAYLIGHT
TZOFFSETFROM:-0700
TZOFFSETTO:-0600
TZNAME:MDT
DTSTART:20260308T090000
END:DAYLIGHT
BEGIN:STANDARD
TZOFFSETFROM:-0600
TZOFFSETTO:-0700
TZNAME:MST
DTSTART:20261101T080000
END:STANDARD
BEGIN:DAYLIGHT
TZOFFSETFROM:-0700
TZOFFSETTO:-0600
TZNAME:MDT
DTSTART:20270314T090000
END:DAYLIGHT
BEGIN:STANDARD
TZOFFSETFROM:-0600
TZOFFSETTO:-0700
TZNAME:MST
DTSTART:20271107T080000
END:STANDARD
END:VTIMEZONE
BEGIN:VEVENT
DTSTART;TZID=America/Denver:20260511T190000
DTEND;TZID=America/Denver:20260511T200000
DTSTAMP:20260421T171500
CREATED:20260407T020735Z
LAST-MODIFIED:20260420T195431Z
UID:10000631-1778526000-1778529600@aspenout.com
SUMMARY:Read the Rainbow Book Club - Alpenglow
DESCRIPTION:GET DIRECTIONS TO BOOKSTORE\n			\n				\n				\n				\n				\n				\n\nREAD the RAINBOW Book ClubMonday\, June 8\, 2026 • 7PM\n\n\n\n\nExplore queer characters and enjoy like-minded folks as we start a new journey with Read the Rainbow Book Club hosted at Alpenglow Bookstore in Glenwood Springs. Snacks provided.
URL:https://aspenout.com/event/read-the-rainbow-book-club-june-2026/
LOCATION:CO
CATEGORIES:Adults Only
ATTACH;FMTTYPE=image/jpeg:https://aspenout.com/wp-content/uploads/2026/04/read-the-rainbow-june-pride-month-aspen-out.jpg
END:VEVENT
END:VCALENDAR