BEGIN:VCALENDAR
VERSION:2.0
PRODID:-//AspenOUT - ECPv6.15.20//NONSGML v1.0//EN
CALSCALE:GREGORIAN
METHOD:PUBLISH
X-ORIGINAL-URL:https://aspenout.com
X-WR-CALDESC:Events for AspenOUT
REFRESH-INTERVAL;VALUE=DURATION:PT1H
X-Robots-Tag:noindex
X-PUBLISHED-TTL:PT1H
BEGIN:VTIMEZONE
TZID:America/Denver
BEGIN:DAYLIGHT
TZOFFSETFROM:-0700
TZOFFSETTO:-0600
TZNAME:MDT
DTSTART:20230312T090000
END:DAYLIGHT
BEGIN:STANDARD
TZOFFSETFROM:-0600
TZOFFSETTO:-0700
TZNAME:MST
DTSTART:20231105T080000
END:STANDARD
BEGIN:DAYLIGHT
TZOFFSETFROM:-0700
TZOFFSETTO:-0600
TZNAME:MDT
DTSTART:20240310T090000
END:DAYLIGHT
BEGIN:STANDARD
TZOFFSETFROM:-0600
TZOFFSETTO:-0700
TZNAME:MST
DTSTART:20241103T080000
END:STANDARD
BEGIN:DAYLIGHT
TZOFFSETFROM:-0700
TZOFFSETTO:-0600
TZNAME:MDT
DTSTART:20250309T090000
END:DAYLIGHT
BEGIN:STANDARD
TZOFFSETFROM:-0600
TZOFFSETTO:-0700
TZNAME:MST
DTSTART:20251102T080000
END:STANDARD
END:VTIMEZONE
BEGIN:VEVENT
DTSTART;TZID=America/Denver:20240512T183000
DTEND;TZID=America/Denver:20240512T200000
DTSTAMP:20260424T214733
CREATED:20230814T211015Z
LAST-MODIFIED:20230814T211509Z
UID:10000534-1715538600-1715544000@aspenout.com
SUMMARY:PFLAG Peer to Peer Meetup in Glenwood Springs
DESCRIPTION:Join other parents\, caregivers and allies of LGBTQ+ loved ones to learn and support each other. \n\nBasalt – Every 3rd Monday at 6:30pm\nGlenwood Springs – Every 2nd Sunday at 6:30pm. In person and Zoom.\nRifle – Coming Soon!\n\nIt doesn’t matter where you are in your journey of understanding and allyship for your loved ones; we will meet you where you’re at and offer empathy\, support\, and chances to learn in a way that feels right for you. \nFor location and details\, please contact info@pflagrfv.org\, twilson@youthzone.org\, call or text to (970)945-9300.\nPeer to Peer Metups are financially supported by AspenOUT.
URL:https://aspenout.com/event/pflag-peer-to-peer-meetup-2/2024-05-12/
LOCATION:CO
CATEGORIES:Youth and Adults
ATTACH;FMTTYPE=image/jpeg:https://aspenout.com/wp-content/uploads/2023/08/Peer-to-Peer.jpeg
ORGANIZER;CN="PFLAG Roaring Fork Valley":MAILTO:info@pflagrfv.org
END:VEVENT
BEGIN:VEVENT
DTSTART;VALUE=DATE:20240518
DTEND;VALUE=DATE:20240521
DTSTAMP:20260424T214733
CREATED:20240401T170415Z
LAST-MODIFIED:20240401T190207Z
UID:10000575-1716001200-1716173999@aspenout.com
SUMMARY:Denver Colfax Marathon - In Honor Of Jack Raife
DESCRIPTION:SUPPORT THE RUNNERS\n			\n			\n				\n				\n				\n				\n				\n				JOIN THE TEAM\n			\n			\n				\n				\n				\n				\n			\n				\n				\n				\n				\n				\n				\n			\n				\n				\n				\n				\n			\n				\n				\n				\n				\n				\n				\n				\n				\n				\n				\n				Run in Jack Raife’s memory. \n\nJack Holden Raife died at the early age of 18 on April 2nd\, 2023\, from taking his life. Jack was born on November 30th\, 2004\, in Aspen\, Colorado. He joined his family of three in Basalt: his sister and best friend\, Makena\, his mother\, Kathy\, and his father\, David. He was one of the brightest souls the world has ever known. \nHis love for fashion\, airplanes\, animals\, and piano brought so much love and light into our worlds. He was a proud member of the LGBTQ+ community and went about life with an unapologetic sparkle. After growing up in the Roaring Fork Valley\, he spent time in Utah and Boulder\, where he met many friends who loved him dearly. In 2022\, Jack graduated from Telos Academy a semester early\, where he then started an accelerated college career at the University of Colorado Boulder. \nJack had a beautiful and bright future and was the sweetest\, kindest\, most caring\, and forgiving soul. He left a positive impact on every life he touched. Jack’s presence lit up every room he walked into\, slaying and turning heads. Jack Raife will be deeply missed by his sister\, family\, and friends whom he surrounds himself with. His witty and creative mind will forever be remembered\, but his impact on the world is just beginning. \n-Makena Raife \n\nAspenOUT \n\nUnderwrote therapy for local LGBTQ+ youth – 500+ hours since 2021\nFunds local GSA and PFLAG clubs\nSupports and produces pride events and social gatherings\nGives grants to local\, regional\, and national LBGTQ+ nonprofits – 22+ organizations\nGives Scholarships to area students – 6 to 12 each school year\nProduces AGSW – the one and only!\n\nAspenOUT is a fantastic organization that is leading the charge in the RFV. Working together can create a more supportive environment where mental health conversations are encouraged\, and young people feel empowered to seek help. \nYouth Mental Health Support: AspenOUT works to make sure all LQBTQ+ youth in the Roaring Fork Valley (RFV)\, regardless of income and regardless of parental knowledge of their gender identity or sexual orientation\, have access to a licensed\, skilled\, and compassionate therapist specifically trained in LGBTQ+ youth engagement. AspenOUT works with school counselors and administrators\, local GSA and PFLAG clubs\, and the local suicide prevention nonprofit to apprise kids in need that they can obtain free\, confidential counseling at a free or reduced rate.
URL:https://aspenout.com/event/denver-colfax-marathon-in-honor-of-jack-raife/
LOCATION:Denver\, CO\, Denver\, Colorado
CATEGORIES:Youth and Adults
ATTACH;FMTTYPE=image/jpeg:https://aspenout.com/wp-content/uploads/2024/04/jack-run-in-memory-2024.jpg
END:VEVENT
BEGIN:VEVENT
DTSTART;TZID=America/Denver:20240520T183000
DTEND;TZID=America/Denver:20240520T200000
DTSTAMP:20260424T214733
CREATED:20230814T210749Z
LAST-MODIFIED:20230814T211442Z
UID:10000506-1716229800-1716235200@aspenout.com
SUMMARY:PFLAG Peer to Peer Meetup in Basalt
DESCRIPTION:Join other parents\, caregivers and allies of LGBTQ+ loved ones to learn and support each other. \n\nBasalt – Every 3rd Monday at 6:30pm\nGlenwood Springs – Every 2nd Sunday at 6:30pm\nRifle – Coming Soon!\n\nIt doesn’t matter where you are in your journey of understanding and allyship for your loved ones; we will meet you where you’re at and offer empathy\, support\, and chances to learn in a way that feels right for you. \nFor location and details\, please contact info@pflagrfv.org\, twilson@youthzone.org\, call or text to (970)945-9300.\nPeer to Peer Metups are financially supported by AspenOUT.
URL:https://aspenout.com/event/pflag-peer-to-peer-meetup/2024-05-20/
LOCATION:CO
CATEGORIES:Youth and Adults
ATTACH;FMTTYPE=image/jpeg:https://aspenout.com/wp-content/uploads/2023/08/Peer-to-Peer.jpeg
ORGANIZER;CN="PFLAG Roaring Fork Valley":MAILTO:info@pflagrfv.org
END:VEVENT
BEGIN:VEVENT
DTSTART;TZID=America/Denver:20240521T173000
DTEND;TZID=America/Denver:20240521T183000
DTSTAMP:20260424T214734
CREATED:20230717T183916Z
LAST-MODIFIED:20230809T195719Z
UID:10000201-1716312600-1716316200@aspenout.com
SUMMARY:Connect & Climb
DESCRIPTION:Join PFLAG RFV and Cook Inclusive for a special climbing session with LGBTQ2A+ friends and family every 1st and 3rd Tuesday evening from 5:30-6:30pm at the Glenwood Springs Community Center. \nThe young folks can climb and spend time together while family members and Allies connect in the background. \nEmail info@pflagrfv.org if you have questions. \n.ALL ARE WELCOME! ¡TODOS SON BIENVENIDOS! \nCada 1er y 3er martes por la noche de 5:30 a 6:30. En el Centro Comunitario de Glenwood Springs. Únase a PFLAG RFV y Cook Inclusive para una sesión especial de escalada con amigos y familiares LGBTQ2A+. Los jóvenes pueden escalar y pasar tiempo juntos mientras los miembros de la familia y los Aliados se conectan de fondo. Envíe un correo electrónico a info@pflagrfv.org si tiene preguntas.
URL:https://aspenout.com/event/connect-climb-3/2024-05-21/
LOCATION:Glenwood Springs Community Center\, 100 Wulfsohn Road\, Glenwood Springs\, CO\, 81601
CATEGORIES:Youth,Youth and Adults
ATTACH;FMTTYPE=image/png:https://aspenout.com/wp-content/uploads/2023/07/ConnectClimbEnglish1.png
ORGANIZER;CN="PFLAG Roaring Fork Valley":MAILTO:info@pflagrfv.org
END:VEVENT
END:VCALENDAR