BEGIN:VCALENDAR
VERSION:2.0
PRODID:-//AspenOUT - ECPv6.15.20//NONSGML v1.0//EN
CALSCALE:GREGORIAN
METHOD:PUBLISH
X-ORIGINAL-URL:https://aspenout.com
X-WR-CALDESC:Events for AspenOUT
REFRESH-INTERVAL;VALUE=DURATION:PT1H
X-Robots-Tag:noindex
X-PUBLISHED-TTL:PT1H
BEGIN:VTIMEZONE
TZID:America/Denver
BEGIN:DAYLIGHT
TZOFFSETFROM:-0700
TZOFFSETTO:-0600
TZNAME:MDT
DTSTART:20240310T090000
END:DAYLIGHT
BEGIN:STANDARD
TZOFFSETFROM:-0600
TZOFFSETTO:-0700
TZNAME:MST
DTSTART:20241103T080000
END:STANDARD
BEGIN:DAYLIGHT
TZOFFSETFROM:-0700
TZOFFSETTO:-0600
TZNAME:MDT
DTSTART:20250309T090000
END:DAYLIGHT
BEGIN:STANDARD
TZOFFSETFROM:-0600
TZOFFSETTO:-0700
TZNAME:MST
DTSTART:20251102T080000
END:STANDARD
BEGIN:DAYLIGHT
TZOFFSETFROM:-0700
TZOFFSETTO:-0600
TZNAME:MDT
DTSTART:20260308T090000
END:DAYLIGHT
BEGIN:STANDARD
TZOFFSETFROM:-0600
TZOFFSETTO:-0700
TZNAME:MST
DTSTART:20261101T080000
END:STANDARD
END:VTIMEZONE
BEGIN:VEVENT
DTSTART;TZID=America/Denver:20250611T180000
DTEND;TZID=America/Denver:20250611T200000
DTSTAMP:20260424T031741
CREATED:20250530T143931Z
LAST-MODIFIED:20250530T160252Z
UID:10000590-1749664800-1749672000@aspenout.com
SUMMARY:Pride Kids Flicks Films Event
DESCRIPTION:Kid Flicks: Pride Short Films /// June 11 @ 6:00 PM | FREE with RSVPAges 10+ | Seated Show | Youth 16 & under must be accompanied by an adult \nCelebrate Pride Month with a powerful evening of short films that uplift and inspire! TACAW is proud to present Kid Flicks: Pride a vibrant collection of LGBTQ+ stories from the New York International Children’s Film Festival. Curated for ages 10 and up\, these films explore identity\, community\, and love through fun\, creative storytelling. From schoolyard crushes to Hawaiian traditions\, this free screening offers meaningful representation and joyful celebration for young audiences and families alike. \n			\n				Click Here To RSVP\n			\n			\n				\n				\n				\n				\n			\n				\n				\n				\n				\n				\n				\n				\n				\n				\n				\n				We’re proud to present the New York International Children’s Film Festival’s Kid Flicks Pride Tour—a special touring program celebrating LGBTQ+ stories and storytellers through vibrant\, inclusive short films for young audiences. \nKid Flicks: Pride is a celebration of self-expression\, community\, legacy\, and love. Curated specifically for ages 9 and up\, these shorts from around the world feature a wide range of LGBTQ+ identities and experiences in as many unique styles. Schoolyard matchmakers\, a Belgian teen\, a group of Indigenous Hawaiian māhū\, and more highlight the power that comes from embracing who you are. \nThe New York International Children’s Film Festival (NYICFF) is the largest film festival for kids and families in North America\, known for its bold\, creative\, and diverse programming from around the world. With Kid Flicks\, NYICFF brings award-winning and audience-favorite short films to communities nationwide—offering fun\, thought-provoking\, and beautifully crafted stories that spark connection and conversation. \nFilm List \nSequin \nWhile waiting for the bus\, a spirited young girl befriends a familiar-seeming stranger after bonding over a small gift. \nSlow Dance \nA middle school dance floor is the ultimate field of courage for our protagonist. \nCupids \nThis whimsical comedy love letter to New York’s essential workers follows a whole class on the last day of school as they scheme to find the perfect partner for their adored bus driver\, Ms. Cheryl\, and save her from a lonely summer without them. \nDragfox \nSam’s search for identity gets interrupted by a mysterious neighborhood fox. \nKapaemahu \nThis Oscar® shortlisted film uncovers the healing power of the past when the long-hidden history of four stones and the legendary spirits within them is revealed. \nScrap Fabric \nFearing disapproval\, a teenage trans girl secretly sews a prom dress from her mother’s scrap fabric. \nSelf Story \nLou is navigating the-ever challenging terrain of gender. With inspiration from acclaimed filmmaker Céline Sciamma\, they come into their own. \nFirst Down \nAmerica’s first all-girls tackle football league brings together a band of misfits and outcasts who compete for the title while tackling struggles on and off the field. \n\nLearn more about NEW YORK INTERNATIONAL CHILDREN’S FILM FESTIVAL: Website / Facebook / Instagram
URL:https://aspenout.com/event/pride-kids-flicks-films-event/
LOCATION:TACAW\, 400 Robinson Street\, Basalt\, CO\, 81621
CATEGORIES:Youth and Adults
ATTACH;FMTTYPE=image/jpeg:https://aspenout.com/wp-content/uploads/2025/05/aspenout-tacaw-pride-kids-films-2025.jpg
END:VEVENT
END:VCALENDAR