BEGIN:VCALENDAR
VERSION:2.0
PRODID:-//AspenOUT - ECPv6.15.20//NONSGML v1.0//EN
CALSCALE:GREGORIAN
METHOD:PUBLISH
X-WR-CALNAME:AspenOUT
X-ORIGINAL-URL:https://aspenout.com
X-WR-CALDESC:Events for AspenOUT
REFRESH-INTERVAL;VALUE=DURATION:PT1H
X-Robots-Tag:noindex
X-PUBLISHED-TTL:PT1H
BEGIN:VTIMEZONE
TZID:America/Denver
BEGIN:DAYLIGHT
TZOFFSETFROM:-0700
TZOFFSETTO:-0600
TZNAME:MDT
DTSTART:20240310T090000
END:DAYLIGHT
BEGIN:STANDARD
TZOFFSETFROM:-0600
TZOFFSETTO:-0700
TZNAME:MST
DTSTART:20241103T080000
END:STANDARD
BEGIN:DAYLIGHT
TZOFFSETFROM:-0700
TZOFFSETTO:-0600
TZNAME:MDT
DTSTART:20250309T090000
END:DAYLIGHT
BEGIN:STANDARD
TZOFFSETFROM:-0600
TZOFFSETTO:-0700
TZNAME:MST
DTSTART:20251102T080000
END:STANDARD
BEGIN:DAYLIGHT
TZOFFSETFROM:-0700
TZOFFSETTO:-0600
TZNAME:MDT
DTSTART:20260308T090000
END:DAYLIGHT
BEGIN:STANDARD
TZOFFSETFROM:-0600
TZOFFSETTO:-0700
TZNAME:MST
DTSTART:20261101T080000
END:STANDARD
END:VTIMEZONE
BEGIN:VEVENT
DTSTART;TZID=America/Denver:20250622T183000
DTEND;TZID=America/Denver:20250622T193000
DTSTAMP:20260424T031600
CREATED:20250421T161458Z
LAST-MODIFIED:20250422T005019Z
UID:10000587-1750617000-1750620600@aspenout.com
SUMMARY:First Draft: A Dialogue on Writing
DESCRIPTION:Join Mitzi Rapkin as she interviews author Torrey Peters at TACAW. Mitzi is the founder\, host and producer of the literary podcast\, “First Draft: A Dialogue on Writing\,” which features a new author interview each week. She has interviewed more than 500 contemporary writers of fiction\, nonfiction\, essays\, and poetry over the past eleven years. Her conversations explore essential questions about what it means to be human alongside the craft of writing and the themes of the writers’ works. Rapkin is also a journalist\, fiction writer\, certified integral coach\, facilitator\, and fiction-writing instructor.  \nGENRE: PANEL \nFirst Draft: A Dialogue on Writing is a literary podcast produced and hosted by Mitzi Rapkin. Each week the podcast features an in-depth interview with a fiction\, non-fiction\, essay\, or poetry writer. The show is equal parts investigation into the craft of writing and conversation about the topics of an author’s work. \nABOUT STAG DANCE \nIn this collection of one novel and three novellas\, Torrey Peters’s keen eye for the rough edges of community and desire push the limits of trans writing.In Stag Dance\, the titular novel\, a group of restless lumberjacks working in an illegal winter logging outfit plan a dance that some of them will volunteer to attend as women. When the broadest\, strongest\, plainest of the axmen announces his intention to dance as a woman\, he finds himself caught in a strange rivalry with a pretty young jack\, provoking a cascade of obsession\, jealousy\, and betrayal that will culminate on the big night in an astonishing vision of gender and transition.Three startling novellas surround Stag Dance: “Infect Your Friends and Loved Ones” imagines a gender apocalypse brought about by an unstable ex-girlfriend. In “The Chaser\,” a secret romance between roommates at a Quaker boarding school brings out intrigue and cruelty. In the last novella\, “The Masker\,” a party weekend on the Las Vegas strip turns dark when a young crossdresser must choose between two guides: a handsome mystery man who objectifies her in thrilling ways\, or a cynical veteran trans woman offering unglamorous sisterhood.Acidly funny and breathtaking in its scope\, with the inventive audacity of George Saunders or Jennifer Egan\, Stag Dance provokes\, unsettles\, and delights. \n			\n				Click Here To Learn More\n			\n			\n				\n				\n				\n				\n			\n				\n				\n				\n				\n				\n				\n			\n				\n				\n				\n				\n			\n				\n				\n				\n				\n				\n				\n				\n				\n				\n				\n				\n			\n				\n				\n				\n				\n				Torrey Peters is the author of the novel Detransition\, Baby\, which won the 2021 PEN/Hemingway award for debut fiction and was named a Best Book of the Century by the New York Times. Her second book\, Stag Dance\, will publish in March of 2025 \nTorrey is an amateur sauna builder\, rides a pink motorcycle\, and lives in Brooklyn and an off-grid cabin in Vermont. \nLearn more about Torrey Peters: WEBSITE / INSTAGRAM / TWITTER
URL:https://aspenout.com/event/first-draft-dialogue/
LOCATION:TACAW\, 400 Robinson Street\, Basalt\, CO\, 81621
CATEGORIES:Youth and Adults
ATTACH;FMTTYPE=image/jpeg:https://aspenout.com/wp-content/uploads/2025/04/promo-partner-tacaw-aspenout-2025-june-torrey.jpg
END:VEVENT
END:VCALENDAR