BEGIN:VCALENDAR
VERSION:2.0
PRODID:-//AspenOUT - ECPv6.15.20//NONSGML v1.0//EN
CALSCALE:GREGORIAN
METHOD:PUBLISH
X-WR-CALNAME:AspenOUT
X-ORIGINAL-URL:https://aspenout.com
X-WR-CALDESC:Events for AspenOUT
REFRESH-INTERVAL;VALUE=DURATION:PT1H
X-Robots-Tag:noindex
X-PUBLISHED-TTL:PT1H
BEGIN:VTIMEZONE
TZID:America/Denver
BEGIN:DAYLIGHT
TZOFFSETFROM:-0700
TZOFFSETTO:-0600
TZNAME:MDT
DTSTART:20240310T090000
END:DAYLIGHT
BEGIN:STANDARD
TZOFFSETFROM:-0600
TZOFFSETTO:-0700
TZNAME:MST
DTSTART:20241103T080000
END:STANDARD
BEGIN:DAYLIGHT
TZOFFSETFROM:-0700
TZOFFSETTO:-0600
TZNAME:MDT
DTSTART:20250309T090000
END:DAYLIGHT
BEGIN:STANDARD
TZOFFSETFROM:-0600
TZOFFSETTO:-0700
TZNAME:MST
DTSTART:20251102T080000
END:STANDARD
BEGIN:DAYLIGHT
TZOFFSETFROM:-0700
TZOFFSETTO:-0600
TZNAME:MDT
DTSTART:20260308T090000
END:DAYLIGHT
BEGIN:STANDARD
TZOFFSETFROM:-0600
TZOFFSETTO:-0700
TZNAME:MST
DTSTART:20261101T080000
END:STANDARD
END:VTIMEZONE
BEGIN:VEVENT
DTSTART;TZID=America/Denver:20250808T120000
DTEND;TZID=America/Denver:20250808T153000
DTSTAMP:20260423T223111
CREATED:20250724T164048Z
LAST-MODIFIED:20250724T164323Z
UID:10000598-1754654400-1754667000@aspenout.com
SUMMARY:Youth Pride Hike: Back-To-School 2025
DESCRIPTION:\n			\n			\n				\n				\n				\n				\n			\n				\n				\n			\n				\n				\n				\n				\n				\n				\n				\n				\n				\n			\n				\n				\n				\n				\n				\n				\n				\n				\n				\n				\n				\n				\n				\n				\n				\n				\n				\n				Join us on Friday\, August 8th • 12PM • The Collective\, Snowmass\n			\n			\n				\n				\n				\n				\n			\n				\n				\n				\n				\n				\n				\n				\n				\n				\n				\n				\n			\n				Get Directions To The Collective\n			\n			\n				\n				\n				\n				\n				\n				\n				\n				\n				\n				AspenOUT and The Collective team up for our annual all-inclusive Pride hike on Friday\, August 8th at 12PM. We’re gearing up for back-to-school with a fantastic hike sponsored by AspenOUT\, The Collective\, and The North Face. The first 45 youth who RSVP will receive a free North Face bag. Youth must RSVP\, have a signed waiver\, and attend to receive the free North Face bag. \nOur hike leader\, Romy\, will guide the way for this day full of fun\, including free swag\, music\, games\, and of course\, hiking! Enjoy free pizza\, music\, and games directly after the hike at The Collective.  \nWe’re fostering a community of future outdoor enthusiasts and the next generation of hikers. \n			\n				RELEASE AND WAIVER REQUIRED - CLICK HERE\n			\n			\n				\n				\n				\n				\n			\n				\n				\n				\n				\n				\n				\n				\n				\n				\n				\n				RSVP NOW TO RECEIVE YOUR FREE NORTH FACE BAG\n			\n				\n				\n				\n				\n				\n				\n				\n				\n					\n						\n				\n				\n				\n				\n				First Name\n				\n			 \n\n				\n				\n				\n				\n				Last Name\n				\n			 \n\n				\n				\n				\n				\n				Zip Code\n				\n			 \n\n				\n				\n				\n				\n				Email Address\n				\n			 \n\n						\n						\n							\n							Submit\n						\n						\n					\n				\n			\n\n			\n				\n				\n				\n				\n			\n				\n				\n			\n				\n				\n				\n				\n				\n				\n				\n				\n				\n			\n				\n				\n				\n				\n				\n				\n				\n				\n				\n				\n				\n				\n				\n				\n				\n				\n				\n				Meet Your Hike and Activity Leaders\n			\n			\n				\n				\n				\n				\n			\n				\n				\n				\n				\n				\n				\n			\n				\n				\n				\n				\n				\n				\n				\n				\n				\n				\n			\n				\n				\n				\n				\n				Romy[They/he]\nProfessional DJ\,The Collective Snowmass \n			\n			\n				\n				\n				\n				\n				\n			\n				\n				\n				\n				\n			\n				\n				\n				\n				\n				\n				\n				\n				\n				\n				\n				\n			\n			\n				\n				\n				\n				\n				\n				\n				\n				\n				\n				Timeline of the Day\n			\n				\n				\n				\n				\n				12PM – 12:30PM: Meet at The Collective • Pick up gear\, sunscreen\, water\, and more. \n12:30PM – 12:45PM: Set Your Intention Mindfulness \n12:45PM – 2:15PM: Let’s Hike! \n2:15PM – 3:30PM: Pizza Party and Hat Making at The Collective• Free pizza\, music\, and games after the hike. Plus\, create your own Hawaii Fluid Art piece!  \n \n			\n			\n				\n				\n				\n				\n			\n				\n				\n				\n				\n				\n				\n				\n				\n				\n				\n				\n				\n				\n					\n			\n				\n				\n						 \n						\n					\n						 \n						\n					\n						 \n						\n					\n						 \n						\n					\n						 \n						\n					\n						 \n						\n					\n						 \n						\n					\n						 \n						\n					\n						 \n						\n					\n						 \n						\n					\n						 \n						\n					\n						 \n						\n					\n						 \n						\n					\n						 \n						\n					\n						 \n						\n					\n			\n			\n				\n			\n			\n				\n				\n				\n				\n			\n				\n				\n			\n				\n				\n				\n				\n				\n				\n				\n				\n				\n			\n				\n				\n				\n				\n				\n				\n				\n				\n				\n				\n				\n				\n				\n				\n				\n				\n				\n				Welcoming Hawaii Fluid Art\n			\n			\n				\n				\n				\n				\n			\n				\n				\n				\n				\n				\n				\n				\n				\n				\n				\n				\n			\n			\n				\n				\n				\n				\n				\n				\n				\n				\n				\n				\n			\n			\n				\n				\n				\n				\n			\n				\n				\n			\n				\n				\n				\n				\n				\n				\n				\n				\n				\n			\n				\n				\n				\n				\n				\n				\n				\n				\n				\n				\n				\n				\n				\n				\n				\n				\n				\n				No matter who you are\, where you come from\, who you love\, or how you move\, the outdoors belong to you!\n			\n			\n				\n				\n				\n				\n				\n				\n				\n				\n				\n				About AspenOUT\nAspenOUT is dedicated to empowering the LGBTQIA+ (Q+) community and their families across the Roaring Fork Valley\, nationwide and worldwide via digital curricula. Through innovative programming\, vital resources\, and strategic financial support\, we champion the well-being of all queer individuals—lesbian\, gay\, bisexual\, transgender\, queer\, intersex\, asexual\, and beyond—fostering a culture of understanding and belonging. We alleviate the financial barriers to essential specialized therapy for families\, cultivate the potential of Q+ youth through empowerment initiatives and collegiate scholarships\, and build a vibrant community for adults and allies through engaging programs.\n			\n			\n				\n				\n				\n				\n			\n				\n				\n			\n				\n				\n				\n				\n				\n				\n				\n				\n				\n				\n				\n				\n				\n				\n				\n				\n				\n				\n			\n			\n				\n				\n				\n				\n			\n				\n				\n				\n				\n				\n				\n				\n				\n				\n				\n				Get in Touch. Get Involved.\nWe are always looking for new volunteers\, future board members\, and more. Let us know how you’d like to be involved with AspenOUT. \n			\n			\n				\n				\n				\n				\n			\n				\n				\n				\n				\n				\n				\n				\n				\n				\n				\n				\n					\n					\n						298 Park Ave. Suite A5\, Basalt\, CO\, 81621\n						\n					\n				\n			\n			\n				\n				\n				\n				\n				\n				\n				\n				\n				\n				\n					\n					\n						Text Us: ‪(323) 553-0258\n						\n					\n				\n			\n			\n				\n				\n				\n				\n				\n				Become A Sponsor\n			\n			\n				\n				\n				\n				\n			\n				\n				\n				\n				\n				\n				\n				\n				\n				\n				\n				\n				\n				\n				\n					\n						\n				\n				\n				\n				\n				Name\n				\n			 \n\n				\n				\n				\n				\n				Email Address\n				\n			 \n\n				\n				\n				\n				\n				Message\n				\n			 \n\n						\n						\n							\n							Submit\n						\n						\n					\n				\n			\n\n			\n				\n				\n				\n				\n			\n				\n				\n				\n				\n				\n				\n				\n				\n				\n				\n				FollowFollow
URL:https://aspenout.com/event/youth-pride-hike-back-to-school-2025/
LOCATION:The Collective Snowmass\, Base Village\, Snowmass Village\, CO\, 81615
CATEGORIES:Youth and Adults
ATTACH;FMTTYPE=image/jpeg:https://aspenout.com/wp-content/uploads/2025/07/back-to-school-youth-pride-hike-scaled.jpg
END:VEVENT
END:VCALENDAR