BEGIN:VCALENDAR
VERSION:2.0
PRODID:-//AspenOUT - ECPv6.15.20//NONSGML v1.0//EN
CALSCALE:GREGORIAN
METHOD:PUBLISH
X-ORIGINAL-URL:https://aspenout.com
X-WR-CALDESC:Events for AspenOUT
REFRESH-INTERVAL;VALUE=DURATION:PT1H
X-Robots-Tag:noindex
X-PUBLISHED-TTL:PT1H
BEGIN:VTIMEZONE
TZID:America/Denver
BEGIN:DAYLIGHT
TZOFFSETFROM:-0700
TZOFFSETTO:-0600
TZNAME:MDT
DTSTART:20240310T090000
END:DAYLIGHT
BEGIN:STANDARD
TZOFFSETFROM:-0600
TZOFFSETTO:-0700
TZNAME:MST
DTSTART:20241103T080000
END:STANDARD
BEGIN:DAYLIGHT
TZOFFSETFROM:-0700
TZOFFSETTO:-0600
TZNAME:MDT
DTSTART:20250309T090000
END:DAYLIGHT
BEGIN:STANDARD
TZOFFSETFROM:-0600
TZOFFSETTO:-0700
TZNAME:MST
DTSTART:20251102T080000
END:STANDARD
BEGIN:DAYLIGHT
TZOFFSETFROM:-0700
TZOFFSETTO:-0600
TZNAME:MDT
DTSTART:20260308T090000
END:DAYLIGHT
BEGIN:STANDARD
TZOFFSETFROM:-0600
TZOFFSETTO:-0700
TZNAME:MST
DTSTART:20261101T080000
END:STANDARD
END:VTIMEZONE
BEGIN:VEVENT
DTSTART;TZID=America/Denver:20251214T150000
DTEND;TZID=America/Denver:20251214T180000
DTSTAMP:20260423T160446
CREATED:20251122T011817Z
LAST-MODIFIED:20251122T012043Z
UID:10000612-1765724400-1765735200@aspenout.com
SUMMARY:Holiday Community Social - Gay4Good
DESCRIPTION:Holiday Community Social \nA gathering for everyone! Come enjoy a hot cocoa bar\, scrumptious snacks\, partake in a selection of craft activities\, and connect with community! \nThis is a dry event\, all ages welcome. Bring a treat or craft if you want! \nSunday\, December 14th • Third Street Center’s Calaway Room • 3-6PM \n			\n			\n				\n				\n				\n				\n			\n				\n				\n			\n				\n				\n				\n				\n				\n				\n				\n				\n				\n				\n				\n				\n				\n				\n				\n				\n				\n				\n			\n			\n				\n				\n				\n				\n			\n				\n				\n				\n				\n				\n				\n				\n				\n				\n				\n				Get in Touch. Get Involved.\nWe are always looking for new volunteers\, future board members\, and more. Let us know how you’d like to be involved with AspenOUT. \n			\n			\n				\n				\n				\n				\n			\n				\n				\n				\n				\n				\n				\n				\n				\n				\n				\n				\n					\n					\n						298 Park Ave. Suite A5\, Basalt\, CO\, 81621\n						\n					\n				\n			\n			\n				\n				\n				\n				\n				\n				\n				\n				\n				\n				\n					\n					\n						Text Us: ‪(323) 553-0258\n						\n					\n				\n			\n			\n				\n				\n				\n				\n				\n				Become A Sponsor\n			\n			\n				\n				\n				\n				\n			\n				\n				\n				\n				\n				\n				\n				\n				\n				\n				\n				\n				\n				\n				\n					\n						\n				\n				\n				\n				\n				Name\n				\n			 \n\n				\n				\n				\n				\n				Email Address\n				\n			 \n\n				\n				\n				\n				\n				Message\n				\n			 \n\n						\n						\n							\n							Submit\n						\n						\n					\n				\n			\n\n			\n				\n				\n				\n				\n			\n				\n				\n				\n				\n				\n				\n				\n				\n				\n				\n				FollowFollow
URL:https://aspenout.com/event/holiday-community-social-gay4good/
LOCATION:Third Street Center – Calaway Room\, 520 S 3rd St\, Carbondale\, CO\, 81623\, United States
CATEGORIES:Youth and Adults
ATTACH;FMTTYPE=image/jpeg:https://aspenout.com/wp-content/uploads/2025/11/holiday-community-social-gay4good.jpg
END:VEVENT
END:VCALENDAR