BEGIN:VCALENDAR
VERSION:2.0
PRODID:-//AspenOUT - ECPv6.15.20//NONSGML v1.0//EN
CALSCALE:GREGORIAN
METHOD:PUBLISH
X-ORIGINAL-URL:https://aspenout.com
X-WR-CALDESC:Events for AspenOUT
REFRESH-INTERVAL;VALUE=DURATION:PT1H
X-Robots-Tag:noindex
X-PUBLISHED-TTL:PT1H
BEGIN:VTIMEZONE
TZID:America/Denver
BEGIN:DAYLIGHT
TZOFFSETFROM:-0700
TZOFFSETTO:-0600
TZNAME:MDT
DTSTART:20220313T090000
END:DAYLIGHT
BEGIN:STANDARD
TZOFFSETFROM:-0600
TZOFFSETTO:-0700
TZNAME:MST
DTSTART:20221106T080000
END:STANDARD
BEGIN:DAYLIGHT
TZOFFSETFROM:-0700
TZOFFSETTO:-0600
TZNAME:MDT
DTSTART:20230312T090000
END:DAYLIGHT
BEGIN:STANDARD
TZOFFSETFROM:-0600
TZOFFSETTO:-0700
TZNAME:MST
DTSTART:20231105T080000
END:STANDARD
BEGIN:DAYLIGHT
TZOFFSETFROM:-0700
TZOFFSETTO:-0600
TZNAME:MDT
DTSTART:20240310T090000
END:DAYLIGHT
BEGIN:STANDARD
TZOFFSETFROM:-0600
TZOFFSETTO:-0700
TZNAME:MST
DTSTART:20241103T080000
END:STANDARD
END:VTIMEZONE
BEGIN:VEVENT
DTSTART;VALUE=DATE:20230710
DTEND;VALUE=DATE:20230715
DTSTAMP:20260422T132111
CREATED:20230711T205926Z
LAST-MODIFIED:20230711T210119Z
UID:10000012-1688947200-1689379199@aspenout.com
SUMMARY:Animation Film Camp with Aspen Film
DESCRIPTION:This one-week\, full-day\, immersive Animation Film Camp with Aspen Film is designed for teens who are curious and serious about learning to express themselves through animated storytelling\, as well as to experience what it’s like to be a part of a creative Team. Aspen Film partners with the Colorado Film School and the Red Brick Center for the Arts to provide experienced\, bi-lingual educators to teach the camp. SCHOLARSHIPS AVAILABLE. More information at https://aspenfilm.org/film-camp/. \nAspen Film is a grantee of AspenOUT and benefits from the funds raised annually at Aspen Gay Ski Week.
URL:https://aspenout.com/event/animation-film-camp-with-aspen-film/
LOCATION:Red Brick Center for the Arts\, 110 East Hallam St.\, Aspen\, CO\, 81611
CATEGORIES:Youth
ATTACH;FMTTYPE=application/pdf:https://aspenout.com/wp-content/uploads/2023/07/Aspen-Film-Camp_Animation-Flyer.pdf
END:VEVENT
BEGIN:VEVENT
DTSTART;TZID=America/Denver:20230718T160000
DTEND;TZID=America/Denver:20230718T170000
DTSTAMP:20260422T132111
CREATED:20230717T214719Z
LAST-MODIFIED:20230809T200141Z
UID:10000039-1689696000-1689699600@aspenout.com
SUMMARY:The Space LGBTQIA+ Youth Support Group in Glenwood
DESCRIPTION:Join YouthZone’s The Space\, a LGBTQIA+ youth peer-to-peer support group. We offer three peer groups from Parachute to Aspen. \nEVERY MONDAY 4:15 – 5:15 pm at YouthZone’s Rifle Office – 136 East 12th Street\, Rifle\, Colorado 81650 \nEVERY TUESDAY 4:00 – 5:00 pm at Glenwood CMC Campus – 1402 Blake Ave\, Glenwood Springs\, CO 81601 \nEVERY WEDNESDAY 3:00 – 4:00pm at Basalt TACAW – 400 Robinson St\, Basalt\, CO 81621 \nNo registration required.\nAges 12 – 18 years old.\nAlways free to attend.\nBring your friends.\nFood and drink provided.\nCall 970-945-9300 or email Travis Wilson at twilson@youthzone.com for more info.
URL:https://aspenout.com/event/the-space-lgbtqia-youth-support-group-in-glenwood/
LOCATION:Colorado Mountain College Glenwood Springs\, 1402 Blake Avenue\, Glenwood Springs\, CO\, 81601
CATEGORIES:Youth
ATTACH;FMTTYPE=image/jpeg:https://aspenout.com/wp-content/uploads/2023/07/TheSPACE_logo_DARKBLUE-300x295-1.jpg
ORGANIZER;CN="YouthZone":MAILTO:twilson@youthzone.com
END:VEVENT
BEGIN:VEVENT
DTSTART;TZID=America/Denver:20230718T173000
DTEND;TZID=America/Denver:20230718T183000
DTSTAMP:20260422T132111
CREATED:20230717T183038Z
LAST-MODIFIED:20230717T183039Z
UID:10000024-1689701400-1689705000@aspenout.com
SUMMARY:Connect & Climb
DESCRIPTION:Join PFLAG RFV and Cook Inclusive for a special climbing session with LGBTQ2A+ friends and family every 1st and 3rd Tuesday evening from 5:30-6:30pm at the Glenwood Springs Community Center. \nThe young folks can climb and spend time together while family members and Allies connect in the background. \nEmail info@pflagrfv.org if you have questions. \n.ALL ARE WELCOME! ¡TODOS SON BIENVENIDOS! \nCada 1er y 3er martes por la noche de 5:30 a 6:30. En el Centro Comunitario de Glenwood Springs. Únase a PFLAG RFV y Cook Inclusive para una sesión especial de escalada con amigos y familiares LGBTQ2A+. Los jóvenes pueden escalar y pasar tiempo juntos mientras los miembros de la familia y los Aliados se conectan de fondo. Envíe un correo electrónico a info@pflagrfv.org si tiene preguntas.
URL:https://aspenout.com/event/connect-climb/
LOCATION:Glenwood Springs Community Center\, 100 Wulfsohn Road\, Glenwood Springs\, CO\, 81601
CATEGORIES:Youth
ATTACH;FMTTYPE=image/png:https://aspenout.com/wp-content/uploads/2023/07/ConnectClimbEnglish1.png
END:VEVENT
BEGIN:VEVENT
DTSTART;VALUE=DATE:20230724
DTEND;VALUE=DATE:20230728
DTSTAMP:20260422T132111
CREATED:20230627T231259Z
LAST-MODIFIED:20230627T232252Z
UID:10000009-1690156800-1690502399@aspenout.com
SUMMARY:Mountain Pride Adventure Camp for Youth
DESCRIPTION:Enjoy a week of outdoor adventure camp with other LGBTQ+ identifying youth and youth allies!  Trained and experienced program leaders guide campers each day on new adventures together\, exploring our incredible “backyard” around Eagle County. Participants are exposed to a variety of high adventure activities that  include hiking\, outdoor rock climbing\, stand-up paddle boarding\, and daily debriefs with topics including Understanding Identity\, Confidence and Self-Efficacy\, Resiliency\, and Sense of Belonging. Activities may vary and are dependent on weather and conditions. Questions about this camp? Please contact Outdoor Recreation Supervisor – Megan Carter at mcarter@mountainrec.org or 970-688-7333. @mountain_pride
URL:https://aspenout.com/event/mountain-pride-adventure-camp-for-youth/
LOCATION:Gypsum\, Colorado\, 52 Lundgren Blvd\, Gypsum\, CO\, 81637
CATEGORIES:Youth
END:VEVENT
BEGIN:VEVENT
DTSTART;VALUE=DATE:20230724
DTEND;VALUE=DATE:20230729
DTSTAMP:20260422T132111
CREATED:20230711T211151Z
LAST-MODIFIED:20230711T212409Z
UID:10000013-1690156800-1690588799@aspenout.com
SUMMARY:Roc Doc Film Camp with Aspen Film Week One
DESCRIPTION:ROC DOC Film Camp with Aspen Film is headed to Basalt! \nSCHOLARSHIPS ARE AVALABLE. \nDuring this two-week immersive camp\, you will:\n• Make a short documentary film + a music video featuring students from the Rock and Roll Academy Roaring Fork\n• Learn filmmaking skills — storytelling\, videography\, editing\, sound design + mixing\n• Use professional filmmaking equipment and editing software\n• Be part of a creative team\n• See your film on the big screen at Movieland\n• Have fun! \nMore information at https://aspenfilm.org/film-camp/. \nAspen Film is a grantee of AspenOUT and benefits from the funds raised annually at Aspen Gay Ski Week.
URL:https://aspenout.com/event/roc-doc-film-camp-with-aspen-film/
LOCATION:The Art Base\, 174 Midland Avenue\, Basalt\, CO\, 81621
CATEGORIES:Youth
END:VEVENT
BEGIN:VEVENT
DTSTART;TZID=America/Denver:20230727T183000
DTEND;TZID=America/Denver:20230727T200000
DTSTAMP:20260422T132111
CREATED:20230717T185604Z
LAST-MODIFIED:20230717T185605Z
UID:10000028-1690482600-1690488000@aspenout.com
SUMMARY:Rifle Pizza & Game Night
DESCRIPTION:Join for pizza and game night\, the 4th Thursday of the month in Rifle. Spend time in a safe space to connect and build community. Non-binary host and experienced LGBTQ+ parents present. Spanish interpreter present. Email lovingbeyondunderstanding@gmail.com for details. \nCada cuarto jueves en Rifle. Lugar de reunión de pizza y juegos. Ven a pasar tiempo en un espacio seguro para conectarte y construir una comunidad. Anfitrión no binario y padres LGBTQ+ experimentados presentes. Intérprete español presente. Envíe un correo electrónico a loversbeyondunderstanding@gmail.com para obtener más detalles.
URL:https://aspenout.com/event/rifle-pizza-game-night/
CATEGORIES:Youth
ATTACH;FMTTYPE=image/jpeg:https://aspenout.com/wp-content/uploads/2023/07/Rifle-Pizza-Games.jpg
END:VEVENT
BEGIN:VEVENT
DTSTART;VALUE=DATE:20230731
DTEND;VALUE=DATE:20230805
DTSTAMP:20260422T132111
CREATED:20230711T213046Z
LAST-MODIFIED:20230711T213124Z
UID:10000014-1690761600-1691193599@aspenout.com
SUMMARY:Roc Doc Film Camp with Aspen Film Week Two
DESCRIPTION:ROC DOC Film Camp with Aspen Film is headed to Basalt! \nSCHOLARSHIPS ARE AVALABLE. \nDuring this two-week immersive camp\, you will:\n• Make a short documentary film + a music video featuring students from the Rock and Roll Academy Roaring Fork\n• Learn filmmaking skills — storytelling\, videography\, editing\, sound design + mixing\n• Use professional filmmaking equipment and editing software\n• Be part of a creative team\n• See your film on the big screen at Movieland\n• Have fun! \nMore information at https://aspenfilm.org/film-camp/. \nAspen Film is a grantee of AspenOUT and benefits from the funds raised annually at Aspen Gay Ski Week.
URL:https://aspenout.com/event/roc-doc-film-camp-with-aspen-film-week-2/
LOCATION:The Art Base\, 174 Midland Avenue\, Basalt\, CO\, 81621
CATEGORIES:Youth
END:VEVENT
END:VCALENDAR