BEGIN:VCALENDAR
VERSION:2.0
PRODID:-//AspenOUT - ECPv6.15.20//NONSGML v1.0//EN
CALSCALE:GREGORIAN
METHOD:PUBLISH
X-ORIGINAL-URL:https://aspenout.com
X-WR-CALDESC:Events for AspenOUT
REFRESH-INTERVAL;VALUE=DURATION:PT1H
X-Robots-Tag:noindex
X-PUBLISHED-TTL:PT1H
BEGIN:VTIMEZONE
TZID:America/Denver
BEGIN:DAYLIGHT
TZOFFSETFROM:-0700
TZOFFSETTO:-0600
TZNAME:MDT
DTSTART:20230312T090000
END:DAYLIGHT
BEGIN:STANDARD
TZOFFSETFROM:-0600
TZOFFSETTO:-0700
TZNAME:MST
DTSTART:20231105T080000
END:STANDARD
BEGIN:DAYLIGHT
TZOFFSETFROM:-0700
TZOFFSETTO:-0600
TZNAME:MDT
DTSTART:20240310T090000
END:DAYLIGHT
BEGIN:STANDARD
TZOFFSETFROM:-0600
TZOFFSETTO:-0700
TZNAME:MST
DTSTART:20241103T080000
END:STANDARD
BEGIN:DAYLIGHT
TZOFFSETFROM:-0700
TZOFFSETTO:-0600
TZNAME:MDT
DTSTART:20250309T090000
END:DAYLIGHT
BEGIN:STANDARD
TZOFFSETFROM:-0600
TZOFFSETTO:-0700
TZNAME:MST
DTSTART:20251102T080000
END:STANDARD
END:VTIMEZONE
BEGIN:VEVENT
DTSTART;TZID=America/Denver:20240506T173000
DTEND;TZID=America/Denver:20240506T193000
DTSTAMP:20260419T233044
CREATED:20231227T004237Z
LAST-MODIFIED:20231227T004237Z
UID:10000568-1715016600-1715023800@aspenout.com
SUMMARY:Read The Rainbow Teen Book Club
DESCRIPTION:Pitkin County Library is hosting a monthly book club for teenagers 14-18 years old to explore Queer literature. Scan the QR Code to find out more and sign up. \nIt is essential that all individuals have the opportunity to see themselves represented in the literature they read. However\, this can be a challenge for queer teens. We aim to establish a safe space for the LGBT+ youth and their supporters to congregate and connect over queer literature. Once a month\, we will select a book authored by a queer writer or featuring queer characters. We encourage open and respectful dialogue among all of our participants. \n 
URL:https://aspenout.com/event/read-the-rainbow-teen-book-club/2024-05-06/
LOCATION:Pitkin County Library\, 120 North Mill Street\, Aspen\, co\, 81611
CATEGORIES:Youth
ATTACH;FMTTYPE=image/png:https://aspenout.com/wp-content/uploads/2023/12/Read-the-Rainbow-Book-Club-Flyer-with-QR-Code.png
END:VEVENT
BEGIN:VEVENT
DTSTART;TZID=America/Denver:20240518T150000
DTEND;TZID=America/Denver:20240518T170000
DTSTAMP:20260419T233044
CREATED:20231208T025357Z
LAST-MODIFIED:20231208T025455Z
UID:10000558-1716044400-1716051600@aspenout.com
SUMMARY:Teen Art Space
DESCRIPTION:Every 3rd Saturday 3-5pm in Rifle\, local artist and youth advocate Carolyn McCann is leading an exploratory art group. Drop-in style\, supplies and snacks provided\, no art experience needed. We will explore different art media and styles and use art as expression and fun!\nAs usual – email\, text\, call\, or message on socials for more information and please share with anyone who might be interested! info@pflagrfv.org | (970) 306-6850.
URL:https://aspenout.com/event/teen-art-space/2024-05-18/
LOCATION:Rifle\, CO\, Rifle\, CO
CATEGORIES:Youth
ATTACH;FMTTYPE=image/png:https://aspenout.com/wp-content/uploads/2023/12/teen-art-space.png
ORGANIZER;CN="PFLAG Roaring Fork Valley":MAILTO:info@pflagrfv.org
END:VEVENT
BEGIN:VEVENT
DTSTART;TZID=America/Denver:20240521T173000
DTEND;TZID=America/Denver:20240521T183000
DTSTAMP:20260419T233045
CREATED:20230717T183916Z
LAST-MODIFIED:20230809T195719Z
UID:10000201-1716312600-1716316200@aspenout.com
SUMMARY:Connect & Climb
DESCRIPTION:Join PFLAG RFV and Cook Inclusive for a special climbing session with LGBTQ2A+ friends and family every 1st and 3rd Tuesday evening from 5:30-6:30pm at the Glenwood Springs Community Center. \nThe young folks can climb and spend time together while family members and Allies connect in the background. \nEmail info@pflagrfv.org if you have questions. \n.ALL ARE WELCOME! ¡TODOS SON BIENVENIDOS! \nCada 1er y 3er martes por la noche de 5:30 a 6:30. En el Centro Comunitario de Glenwood Springs. Únase a PFLAG RFV y Cook Inclusive para una sesión especial de escalada con amigos y familiares LGBTQ2A+. Los jóvenes pueden escalar y pasar tiempo juntos mientras los miembros de la familia y los Aliados se conectan de fondo. Envíe un correo electrónico a info@pflagrfv.org si tiene preguntas.
URL:https://aspenout.com/event/connect-climb-3/2024-05-21/
LOCATION:Glenwood Springs Community Center\, 100 Wulfsohn Road\, Glenwood Springs\, CO\, 81601
CATEGORIES:Youth,Youth and Adults
ATTACH;FMTTYPE=image/png:https://aspenout.com/wp-content/uploads/2023/07/ConnectClimbEnglish1.png
ORGANIZER;CN="PFLAG Roaring Fork Valley":MAILTO:info@pflagrfv.org
END:VEVENT
BEGIN:VEVENT
DTSTART;TZID=America/Denver:20240523T183000
DTEND;TZID=America/Denver:20240523T203000
DTSTAMP:20260419T233045
CREATED:20230717T190330Z
LAST-MODIFIED:20240325T172640Z
UID:10000489-1716489000-1716496200@aspenout.com
SUMMARY:Rifle Pizza & Game Night
DESCRIPTION:Join for pizza and game night\, the 4th Thursday of the month in Rifle. Spend time in a safe space to connect and build community. Non-binary host and experienced LGBTQ+ parents present. Spanish interpreter present. Email lovingbeyondunderstanding@gmail.com for details. \nCada cuarto jueves en Rifle. Lugar de reunión de pizza y juegos. Ven a pasar tiempo en un espacio seguro para conectarte y construir una comunidad. Anfitrión no binario y padres LGBTQ+ experimentados presentes. Intérprete español presente. Envíe un correo electrónico a loversbeyondunderstanding@gmail.com para obtener más detalles. \n 
URL:https://aspenout.com/event/rifle-pizza-game-night-3/2024-05-23/
CATEGORIES:Youth
ATTACH;FMTTYPE=image/jpeg:https://aspenout.com/wp-content/uploads/2023/07/Rifle-Pizza.jpeg
ORGANIZER;CN="Loving Beyond Understanding":MAILTO:lovingbeyondunderstanding@gmail.com
END:VEVENT
END:VCALENDAR