BEGIN:VCALENDAR
VERSION:2.0
PRODID:-//AspenOUT - ECPv6.15.20//NONSGML v1.0//EN
CALSCALE:GREGORIAN
METHOD:PUBLISH
X-ORIGINAL-URL:https://aspenout.com
X-WR-CALDESC:Events for AspenOUT
REFRESH-INTERVAL;VALUE=DURATION:PT1H
X-Robots-Tag:noindex
X-PUBLISHED-TTL:PT1H
BEGIN:VTIMEZONE
TZID:America/Denver
BEGIN:DAYLIGHT
TZOFFSETFROM:-0700
TZOFFSETTO:-0600
TZNAME:MDT
DTSTART:20230312T090000
END:DAYLIGHT
BEGIN:STANDARD
TZOFFSETFROM:-0600
TZOFFSETTO:-0700
TZNAME:MST
DTSTART:20231105T080000
END:STANDARD
BEGIN:DAYLIGHT
TZOFFSETFROM:-0700
TZOFFSETTO:-0600
TZNAME:MDT
DTSTART:20240310T090000
END:DAYLIGHT
BEGIN:STANDARD
TZOFFSETFROM:-0600
TZOFFSETTO:-0700
TZNAME:MST
DTSTART:20241103T080000
END:STANDARD
BEGIN:DAYLIGHT
TZOFFSETFROM:-0700
TZOFFSETTO:-0600
TZNAME:MDT
DTSTART:20250309T090000
END:DAYLIGHT
BEGIN:STANDARD
TZOFFSETFROM:-0600
TZOFFSETTO:-0700
TZNAME:MST
DTSTART:20251102T080000
END:STANDARD
END:VTIMEZONE
BEGIN:VEVENT
DTSTART;TZID=America/Denver:20240615T150000
DTEND;TZID=America/Denver:20240615T170000
DTSTAMP:20260419T214215
CREATED:20231208T025357Z
LAST-MODIFIED:20231208T025455Z
UID:10000559-1718463600-1718470800@aspenout.com
SUMMARY:Teen Art Space
DESCRIPTION:Every 3rd Saturday 3-5pm in Rifle\, local artist and youth advocate Carolyn McCann is leading an exploratory art group. Drop-in style\, supplies and snacks provided\, no art experience needed. We will explore different art media and styles and use art as expression and fun!\nAs usual – email\, text\, call\, or message on socials for more information and please share with anyone who might be interested! info@pflagrfv.org | (970) 306-6850.
URL:https://aspenout.com/event/teen-art-space/2024-06-15/
LOCATION:Rifle\, CO\, Rifle\, CO
CATEGORIES:Youth
ATTACH;FMTTYPE=image/png:https://aspenout.com/wp-content/uploads/2023/12/teen-art-space.png
ORGANIZER;CN="PFLAG Roaring Fork Valley":MAILTO:info@pflagrfv.org
END:VEVENT
BEGIN:VEVENT
DTSTART;TZID=America/Denver:20240618T173000
DTEND;TZID=America/Denver:20240618T183000
DTSTAMP:20260419T214215
CREATED:20230717T183916Z
LAST-MODIFIED:20230809T195719Z
UID:10000202-1718731800-1718735400@aspenout.com
SUMMARY:Connect & Climb
DESCRIPTION:Join PFLAG RFV and Cook Inclusive for a special climbing session with LGBTQ2A+ friends and family every 1st and 3rd Tuesday evening from 5:30-6:30pm at the Glenwood Springs Community Center. \nThe young folks can climb and spend time together while family members and Allies connect in the background. \nEmail info@pflagrfv.org if you have questions. \n.ALL ARE WELCOME! ¡TODOS SON BIENVENIDOS! \nCada 1er y 3er martes por la noche de 5:30 a 6:30. En el Centro Comunitario de Glenwood Springs. Únase a PFLAG RFV y Cook Inclusive para una sesión especial de escalada con amigos y familiares LGBTQ2A+. Los jóvenes pueden escalar y pasar tiempo juntos mientras los miembros de la familia y los Aliados se conectan de fondo. Envíe un correo electrónico a info@pflagrfv.org si tiene preguntas.
URL:https://aspenout.com/event/connect-climb-3/2024-06-18/
LOCATION:Glenwood Springs Community Center\, 100 Wulfsohn Road\, Glenwood Springs\, CO\, 81601
CATEGORIES:Youth,Youth and Adults
ATTACH;FMTTYPE=image/png:https://aspenout.com/wp-content/uploads/2023/07/ConnectClimbEnglish1.png
ORGANIZER;CN="PFLAG Roaring Fork Valley":MAILTO:info@pflagrfv.org
END:VEVENT
BEGIN:VEVENT
DTSTART;TZID=America/Denver:20240627T183000
DTEND;TZID=America/Denver:20240627T203000
DTSTAMP:20260419T214215
CREATED:20230717T190330Z
LAST-MODIFIED:20240325T172640Z
UID:10000490-1719513000-1719520200@aspenout.com
SUMMARY:Rifle Pizza & Game Night
DESCRIPTION:Join for pizza and game night\, the 4th Thursday of the month in Rifle. Spend time in a safe space to connect and build community. Non-binary host and experienced LGBTQ+ parents present. Spanish interpreter present. Email lovingbeyondunderstanding@gmail.com for details. \nCada cuarto jueves en Rifle. Lugar de reunión de pizza y juegos. Ven a pasar tiempo en un espacio seguro para conectarte y construir una comunidad. Anfitrión no binario y padres LGBTQ+ experimentados presentes. Intérprete español presente. Envíe un correo electrónico a loversbeyondunderstanding@gmail.com para obtener más detalles. \n 
URL:https://aspenout.com/event/rifle-pizza-game-night-3/2024-06-27/
CATEGORIES:Youth
ATTACH;FMTTYPE=image/jpeg:https://aspenout.com/wp-content/uploads/2023/07/Rifle-Pizza.jpeg
ORGANIZER;CN="Loving Beyond Understanding":MAILTO:lovingbeyondunderstanding@gmail.com
END:VEVENT
END:VCALENDAR