BEGIN:VCALENDAR
VERSION:2.0
PRODID:-//AspenOUT - ECPv6.15.20//NONSGML v1.0//EN
CALSCALE:GREGORIAN
METHOD:PUBLISH
X-WR-CALNAME:AspenOUT
X-ORIGINAL-URL:https://aspenout.com
X-WR-CALDESC:Events for AspenOUT
REFRESH-INTERVAL;VALUE=DURATION:PT1H
X-Robots-Tag:noindex
X-PUBLISHED-TTL:PT1H
BEGIN:VTIMEZONE
TZID:America/Denver
BEGIN:DAYLIGHT
TZOFFSETFROM:-0700
TZOFFSETTO:-0600
TZNAME:MDT
DTSTART:20230312T090000
END:DAYLIGHT
BEGIN:STANDARD
TZOFFSETFROM:-0600
TZOFFSETTO:-0700
TZNAME:MST
DTSTART:20231105T080000
END:STANDARD
BEGIN:DAYLIGHT
TZOFFSETFROM:-0700
TZOFFSETTO:-0600
TZNAME:MDT
DTSTART:20240310T090000
END:DAYLIGHT
BEGIN:STANDARD
TZOFFSETFROM:-0600
TZOFFSETTO:-0700
TZNAME:MST
DTSTART:20241103T080000
END:STANDARD
BEGIN:DAYLIGHT
TZOFFSETFROM:-0700
TZOFFSETTO:-0600
TZNAME:MDT
DTSTART:20250309T090000
END:DAYLIGHT
BEGIN:STANDARD
TZOFFSETFROM:-0600
TZOFFSETTO:-0700
TZNAME:MST
DTSTART:20251102T080000
END:STANDARD
END:VTIMEZONE
BEGIN:VEVENT
DTSTART;TZID=America/Denver:20240316T150000
DTEND;TZID=America/Denver:20240316T170000
DTSTAMP:20260420T071237
CREATED:20231208T025357Z
LAST-MODIFIED:20231208T025455Z
UID:10000556-1710601200-1710608400@aspenout.com
SUMMARY:Teen Art Space
DESCRIPTION:Every 3rd Saturday 3-5pm in Rifle\, local artist and youth advocate Carolyn McCann is leading an exploratory art group. Drop-in style\, supplies and snacks provided\, no art experience needed. We will explore different art media and styles and use art as expression and fun!\nAs usual – email\, text\, call\, or message on socials for more information and please share with anyone who might be interested! info@pflagrfv.org | (970) 306-6850.
URL:https://aspenout.com/event/teen-art-space/2024-03-16/
LOCATION:Rifle\, CO\, Rifle\, CO
CATEGORIES:Youth
ATTACH;FMTTYPE=image/png:https://aspenout.com/wp-content/uploads/2023/12/teen-art-space.png
ORGANIZER;CN="PFLAG Roaring Fork Valley":MAILTO:info@pflagrfv.org
END:VEVENT
BEGIN:VEVENT
DTSTART;TZID=America/Denver:20240316T150000
DTEND;TZID=America/Denver:20240316T170000
DTSTAMP:20260420T071237
CREATED:20240312T180323Z
LAST-MODIFIED:20240313T230427Z
UID:10000569-1710601200-1710608400@aspenout.com
SUMMARY:Teen Art Space
DESCRIPTION:Join the Art Space to hangout and explore different art styles and mediums! Teen Art Space is happening this Saturday\, March 16\, from 3-5 pm in Rifle! This month features the talented local artist Andres Garay leading the group. Supplies and snacks included. No art experience necessary. All are welcome\, neurodiverse\, LGBTQ2IA+\, and allied teens encouraged! \nReach out for location and questions! \nSe habla Español. \n¡GRANDES NOTICIAS! ¡Nueva reunión de adolescentes! \n¡Únase al Art Space para pasar el rato y explorar diferentes estilos y medios artísticos! ¡Teen Art Space se llevará a cabo este sábado 16 de marzo de 3 a 5 pm en Rifle! Este mes cuenta con el talentoso artista local Andrés Garay liderando el grupo. Suministros y refrigerios incluidos. No se necesita experiencia artística. ¡Todos son bienvenidos\, se anima a los adolescentes neurodiversos\, LGBTQ2IA+ y aliados!
URL:https://aspenout.com/event/teen-art-space-march-16/
CATEGORIES:Youth
ATTACH;FMTTYPE=image/jpeg:https://aspenout.com/wp-content/uploads/2024/03/teen-art-space-lgbtq-rifle.jpg
END:VEVENT
END:VCALENDAR