BEGIN:VCALENDAR
VERSION:2.0
PRODID:-//AspenOUT - ECPv6.15.20//NONSGML v1.0//EN
CALSCALE:GREGORIAN
METHOD:PUBLISH
X-WR-CALNAME:AspenOUT
X-ORIGINAL-URL:https://aspenout.com
X-WR-CALDESC:Events for AspenOUT
REFRESH-INTERVAL;VALUE=DURATION:PT1H
X-Robots-Tag:noindex
X-PUBLISHED-TTL:PT1H
BEGIN:VTIMEZONE
TZID:America/Denver
BEGIN:DAYLIGHT
TZOFFSETFROM:-0700
TZOFFSETTO:-0600
TZNAME:MDT
DTSTART:20230312T090000
END:DAYLIGHT
BEGIN:STANDARD
TZOFFSETFROM:-0600
TZOFFSETTO:-0700
TZNAME:MST
DTSTART:20231105T080000
END:STANDARD
BEGIN:DAYLIGHT
TZOFFSETFROM:-0700
TZOFFSETTO:-0600
TZNAME:MDT
DTSTART:20240310T090000
END:DAYLIGHT
BEGIN:STANDARD
TZOFFSETFROM:-0600
TZOFFSETTO:-0700
TZNAME:MST
DTSTART:20241103T080000
END:STANDARD
BEGIN:DAYLIGHT
TZOFFSETFROM:-0700
TZOFFSETTO:-0600
TZNAME:MDT
DTSTART:20250309T090000
END:DAYLIGHT
BEGIN:STANDARD
TZOFFSETFROM:-0600
TZOFFSETTO:-0700
TZNAME:MST
DTSTART:20251102T080000
END:STANDARD
BEGIN:DAYLIGHT
TZOFFSETFROM:-0700
TZOFFSETTO:-0600
TZNAME:MDT
DTSTART:20260308T090000
END:DAYLIGHT
BEGIN:STANDARD
TZOFFSETFROM:-0600
TZOFFSETTO:-0700
TZNAME:MST
DTSTART:20261101T080000
END:STANDARD
BEGIN:DAYLIGHT
TZOFFSETFROM:-0700
TZOFFSETTO:-0600
TZNAME:MDT
DTSTART:20270314T090000
END:DAYLIGHT
BEGIN:STANDARD
TZOFFSETFROM:-0600
TZOFFSETTO:-0700
TZNAME:MST
DTSTART:20271107T080000
END:STANDARD
END:VTIMEZONE
BEGIN:VEVENT
DTSTART;TZID=America/Denver:20240523T183000
DTEND;TZID=America/Denver:20240523T203000
DTSTAMP:20260420T122004
CREATED:20230717T190330Z
LAST-MODIFIED:20240325T172640Z
UID:10000489-1716489000-1716496200@aspenout.com
SUMMARY:Rifle Pizza & Game Night
DESCRIPTION:Join for pizza and game night\, the 4th Thursday of the month in Rifle. Spend time in a safe space to connect and build community. Non-binary host and experienced LGBTQ+ parents present. Spanish interpreter present. Email lovingbeyondunderstanding@gmail.com for details. \nCada cuarto jueves en Rifle. Lugar de reunión de pizza y juegos. Ven a pasar tiempo en un espacio seguro para conectarte y construir una comunidad. Anfitrión no binario y padres LGBTQ+ experimentados presentes. Intérprete español presente. Envíe un correo electrónico a loversbeyondunderstanding@gmail.com para obtener más detalles. \n 
URL:https://aspenout.com/event/rifle-pizza-game-night-3/2024-05-23/
LOCATION:CO
CATEGORIES:Youth
ATTACH;FMTTYPE=image/jpeg:https://aspenout.com/wp-content/uploads/2023/07/Rifle-Pizza.jpeg
ORGANIZER;CN="Loving Beyond Understanding":MAILTO:lovingbeyondunderstanding@gmail.com
END:VEVENT
BEGIN:VEVENT
DTSTART;TZID=America/Denver:20240615T150000
DTEND;TZID=America/Denver:20240615T170000
DTSTAMP:20260420T122004
CREATED:20231208T025357Z
LAST-MODIFIED:20231208T025455Z
UID:10000559-1718463600-1718470800@aspenout.com
SUMMARY:Teen Art Space
DESCRIPTION:Every 3rd Saturday 3-5pm in Rifle\, local artist and youth advocate Carolyn McCann is leading an exploratory art group. Drop-in style\, supplies and snacks provided\, no art experience needed. We will explore different art media and styles and use art as expression and fun!\nAs usual – email\, text\, call\, or message on socials for more information and please share with anyone who might be interested! info@pflagrfv.org | (970) 306-6850.
URL:https://aspenout.com/event/teen-art-space/2024-06-15/
LOCATION:Rifle\, CO\, Rifle\, CO
CATEGORIES:Youth
ATTACH;FMTTYPE=image/png:https://aspenout.com/wp-content/uploads/2023/12/teen-art-space.png
ORGANIZER;CN="PFLAG Roaring Fork Valley":MAILTO:info@pflagrfv.org
END:VEVENT
BEGIN:VEVENT
DTSTART;TZID=America/Denver:20240618T173000
DTEND;TZID=America/Denver:20240618T183000
DTSTAMP:20260420T122004
CREATED:20230717T183916Z
LAST-MODIFIED:20230809T195719Z
UID:10000202-1718731800-1718735400@aspenout.com
SUMMARY:Connect & Climb
DESCRIPTION:Join PFLAG RFV and Cook Inclusive for a special climbing session with LGBTQ2A+ friends and family every 1st and 3rd Tuesday evening from 5:30-6:30pm at the Glenwood Springs Community Center. \nThe young folks can climb and spend time together while family members and Allies connect in the background. \nEmail info@pflagrfv.org if you have questions. \n.ALL ARE WELCOME! ¡TODOS SON BIENVENIDOS! \nCada 1er y 3er martes por la noche de 5:30 a 6:30. En el Centro Comunitario de Glenwood Springs. Únase a PFLAG RFV y Cook Inclusive para una sesión especial de escalada con amigos y familiares LGBTQ2A+. Los jóvenes pueden escalar y pasar tiempo juntos mientras los miembros de la familia y los Aliados se conectan de fondo. Envíe un correo electrónico a info@pflagrfv.org si tiene preguntas.
URL:https://aspenout.com/event/connect-climb-3/2024-06-18/
LOCATION:Glenwood Springs Community Center\, 100 Wulfsohn Road\, Glenwood Springs\, CO\, 81601
CATEGORIES:Youth,Youth and Adults
ATTACH;FMTTYPE=image/png:https://aspenout.com/wp-content/uploads/2023/07/ConnectClimbEnglish1.png
ORGANIZER;CN="PFLAG Roaring Fork Valley":MAILTO:info@pflagrfv.org
END:VEVENT
BEGIN:VEVENT
DTSTART;TZID=America/Denver:20240627T183000
DTEND;TZID=America/Denver:20240627T203000
DTSTAMP:20260420T122004
CREATED:20230717T190330Z
LAST-MODIFIED:20240325T172640Z
UID:10000490-1719513000-1719520200@aspenout.com
SUMMARY:Rifle Pizza & Game Night
DESCRIPTION:Join for pizza and game night\, the 4th Thursday of the month in Rifle. Spend time in a safe space to connect and build community. Non-binary host and experienced LGBTQ+ parents present. Spanish interpreter present. Email lovingbeyondunderstanding@gmail.com for details. \nCada cuarto jueves en Rifle. Lugar de reunión de pizza y juegos. Ven a pasar tiempo en un espacio seguro para conectarte y construir una comunidad. Anfitrión no binario y padres LGBTQ+ experimentados presentes. Intérprete español presente. Envíe un correo electrónico a loversbeyondunderstanding@gmail.com para obtener más detalles. \n 
URL:https://aspenout.com/event/rifle-pizza-game-night-3/2024-06-27/
LOCATION:CO
CATEGORIES:Youth
ATTACH;FMTTYPE=image/jpeg:https://aspenout.com/wp-content/uploads/2023/07/Rifle-Pizza.jpeg
ORGANIZER;CN="Loving Beyond Understanding":MAILTO:lovingbeyondunderstanding@gmail.com
END:VEVENT
BEGIN:VEVENT
DTSTART;TZID=America/Denver:20240716T173000
DTEND;TZID=America/Denver:20240716T183000
DTSTAMP:20260420T122004
CREATED:20230717T183916Z
LAST-MODIFIED:20230809T195719Z
UID:10000203-1721151000-1721154600@aspenout.com
SUMMARY:Connect & Climb
DESCRIPTION:Join PFLAG RFV and Cook Inclusive for a special climbing session with LGBTQ2A+ friends and family every 1st and 3rd Tuesday evening from 5:30-6:30pm at the Glenwood Springs Community Center. \nThe young folks can climb and spend time together while family members and Allies connect in the background. \nEmail info@pflagrfv.org if you have questions. \n.ALL ARE WELCOME! ¡TODOS SON BIENVENIDOS! \nCada 1er y 3er martes por la noche de 5:30 a 6:30. En el Centro Comunitario de Glenwood Springs. Únase a PFLAG RFV y Cook Inclusive para una sesión especial de escalada con amigos y familiares LGBTQ2A+. Los jóvenes pueden escalar y pasar tiempo juntos mientras los miembros de la familia y los Aliados se conectan de fondo. Envíe un correo electrónico a info@pflagrfv.org si tiene preguntas.
URL:https://aspenout.com/event/connect-climb-3/2024-07-16/
LOCATION:Glenwood Springs Community Center\, 100 Wulfsohn Road\, Glenwood Springs\, CO\, 81601
CATEGORIES:Youth,Youth and Adults
ATTACH;FMTTYPE=image/png:https://aspenout.com/wp-content/uploads/2023/07/ConnectClimbEnglish1.png
ORGANIZER;CN="PFLAG Roaring Fork Valley":MAILTO:info@pflagrfv.org
END:VEVENT
BEGIN:VEVENT
DTSTART;TZID=America/Denver:20240720T150000
DTEND;TZID=America/Denver:20240720T170000
DTSTAMP:20260420T122004
CREATED:20231208T025357Z
LAST-MODIFIED:20231208T025455Z
UID:10000560-1721487600-1721494800@aspenout.com
SUMMARY:Teen Art Space
DESCRIPTION:Every 3rd Saturday 3-5pm in Rifle\, local artist and youth advocate Carolyn McCann is leading an exploratory art group. Drop-in style\, supplies and snacks provided\, no art experience needed. We will explore different art media and styles and use art as expression and fun!\nAs usual – email\, text\, call\, or message on socials for more information and please share with anyone who might be interested! info@pflagrfv.org | (970) 306-6850.
URL:https://aspenout.com/event/teen-art-space/2024-07-20/
LOCATION:Rifle\, CO\, Rifle\, CO
CATEGORIES:Youth
ATTACH;FMTTYPE=image/png:https://aspenout.com/wp-content/uploads/2023/12/teen-art-space.png
ORGANIZER;CN="PFLAG Roaring Fork Valley":MAILTO:info@pflagrfv.org
END:VEVENT
BEGIN:VEVENT
DTSTART;TZID=America/Denver:20240817T150000
DTEND;TZID=America/Denver:20240817T170000
DTSTAMP:20260420T122004
CREATED:20231208T025357Z
LAST-MODIFIED:20231208T025455Z
UID:10000561-1723906800-1723914000@aspenout.com
SUMMARY:Teen Art Space
DESCRIPTION:Every 3rd Saturday 3-5pm in Rifle\, local artist and youth advocate Carolyn McCann is leading an exploratory art group. Drop-in style\, supplies and snacks provided\, no art experience needed. We will explore different art media and styles and use art as expression and fun!\nAs usual – email\, text\, call\, or message on socials for more information and please share with anyone who might be interested! info@pflagrfv.org | (970) 306-6850.
URL:https://aspenout.com/event/teen-art-space/2024-08-17/
LOCATION:Rifle\, CO\, Rifle\, CO
CATEGORIES:Youth
ATTACH;FMTTYPE=image/png:https://aspenout.com/wp-content/uploads/2023/12/teen-art-space.png
ORGANIZER;CN="PFLAG Roaring Fork Valley":MAILTO:info@pflagrfv.org
END:VEVENT
BEGIN:VEVENT
DTSTART;TZID=America/Denver:20240820T173000
DTEND;TZID=America/Denver:20240820T183000
DTSTAMP:20260420T122004
CREATED:20230717T183916Z
LAST-MODIFIED:20230809T195719Z
UID:10000204-1724175000-1724178600@aspenout.com
SUMMARY:Connect & Climb
DESCRIPTION:Join PFLAG RFV and Cook Inclusive for a special climbing session with LGBTQ2A+ friends and family every 1st and 3rd Tuesday evening from 5:30-6:30pm at the Glenwood Springs Community Center. \nThe young folks can climb and spend time together while family members and Allies connect in the background. \nEmail info@pflagrfv.org if you have questions. \n.ALL ARE WELCOME! ¡TODOS SON BIENVENIDOS! \nCada 1er y 3er martes por la noche de 5:30 a 6:30. En el Centro Comunitario de Glenwood Springs. Únase a PFLAG RFV y Cook Inclusive para una sesión especial de escalada con amigos y familiares LGBTQ2A+. Los jóvenes pueden escalar y pasar tiempo juntos mientras los miembros de la familia y los Aliados se conectan de fondo. Envíe un correo electrónico a info@pflagrfv.org si tiene preguntas.
URL:https://aspenout.com/event/connect-climb-3/2024-08-20/
LOCATION:Glenwood Springs Community Center\, 100 Wulfsohn Road\, Glenwood Springs\, CO\, 81601
CATEGORIES:Youth,Youth and Adults
ATTACH;FMTTYPE=image/png:https://aspenout.com/wp-content/uploads/2023/07/ConnectClimbEnglish1.png
ORGANIZER;CN="PFLAG Roaring Fork Valley":MAILTO:info@pflagrfv.org
END:VEVENT
BEGIN:VEVENT
DTSTART;TZID=America/Denver:20260117T150000
DTEND;TZID=America/Denver:20260117T180000
DTSTAMP:20260420T122004
CREATED:20231101T213527Z
LAST-MODIFIED:20251213T151441Z
UID:10000547-1768662000-1768672800@aspenout.com
SUMMARY:AspenOUT Community Youth Party at the Collective
DESCRIPTION:AspenOUT is hosting a Community Youth Party Saturday\, January 17\, 3-6PM at The Collective. Young people from around the valley are invited to this free event featuring music in the Game Lounge; snacks and drinks; hat arts project; PRIDE gift bags; ice skating and more. \nGondola and coaster rides are available from 1-3PM. At 3pm the party moves to The Collective for games\, food\, music\, dancing\, and more. *Please note\, liability waivers must be signed for each activity\, see below. AspenOUT will reimburse youth participants using RFTA\, and the Town of Snowmass Village is running a dedicated party shuttle from the Brush Creek Intercept Lot to Base Village. \nA special THANK YOU to The Town of Snowmass Village\, Aspen Skiing Company\, and The Collective Snowmass. \nPlease sign and submit waivers before attending the event. Legal guardian required if you are under 18 years of age. ALL WAIVERS ARE ALSO AVAILABLE ON SITE WITH AN ADULT WHO CAN SIGN FOR YOU. \nUse of Ice rink Waiver: https://waiver.smartwaiver.com/w/5fc51da0cfcfc/web/ \nCollective Game Lounge: https://waiver.smartwaiver.com/w/61a153c05963c/web/ \nAspen Skiing Company for Gondola\, Tubing and Coaster Rides: https://drive.google.com/file/d/14MZGzBe5FR3fGKAbtGNY4Yt1Sq1obTf4/view?usp=sharingFIND US IN THE COLLECTIVE’S MAIN HALL (UPSTAIRS) STARTING AT 12:30PM TO SIGN WAIVERS IN EXCHANGE FOR YOUR GONDOLA AND COSTER PASS. \n  \n			\n			\n				\n				\n				\n				\n			\n				\n				\n				\n				\n				\n				\n				\n				\n				\n				\n				PLEASE R.S.V.P. HERE TO RECEIVE A PRIDE GIFT BAG\n				\n				\n				\n					\n						\n				\n				\n				\n				\n				First Name\n				\n			 \n\n				\n				\n				\n				\n				Last Name\n				\n			 \n\n				\n				\n				\n				\n				Email Address\n				\n			 \n\n				\n				\n				\n				\n				Phone Number\n				\n			 \n\n				\n				\n				\n				\n				What school do you attend?\n				\n			 \n\n						\n						\n							\n							Submit
URL:https://aspenout.com/event/community-party/
LOCATION:The Collective Snowmass\, Base Village\, Snowmass Village\, CO\, 81615
CATEGORIES:Youth
ATTACH;FMTTYPE=image/jpeg:https://aspenout.com/wp-content/uploads/2023/11/youth-party-the-collective-aspenout-2026.jpg
ORGANIZER;CN="AspenOUT":MAILTO:info@aspenout.org
END:VEVENT
END:VCALENDAR