BEGIN:VCALENDAR
VERSION:2.0
PRODID:-//AspenOUT - ECPv6.15.20//NONSGML v1.0//EN
CALSCALE:GREGORIAN
METHOD:PUBLISH
X-WR-CALNAME:AspenOUT
X-ORIGINAL-URL:https://aspenout.com
X-WR-CALDESC:Events for AspenOUT
REFRESH-INTERVAL;VALUE=DURATION:PT1H
X-Robots-Tag:noindex
X-PUBLISHED-TTL:PT1H
BEGIN:VTIMEZONE
TZID:America/Denver
BEGIN:DAYLIGHT
TZOFFSETFROM:-0700
TZOFFSETTO:-0600
TZNAME:MDT
DTSTART:20250309T090000
END:DAYLIGHT
BEGIN:STANDARD
TZOFFSETFROM:-0600
TZOFFSETTO:-0700
TZNAME:MST
DTSTART:20251102T080000
END:STANDARD
BEGIN:DAYLIGHT
TZOFFSETFROM:-0700
TZOFFSETTO:-0600
TZNAME:MDT
DTSTART:20260308T090000
END:DAYLIGHT
BEGIN:STANDARD
TZOFFSETFROM:-0600
TZOFFSETTO:-0700
TZNAME:MST
DTSTART:20261101T080000
END:STANDARD
BEGIN:DAYLIGHT
TZOFFSETFROM:-0700
TZOFFSETTO:-0600
TZNAME:MDT
DTSTART:20270314T090000
END:DAYLIGHT
BEGIN:STANDARD
TZOFFSETFROM:-0600
TZOFFSETTO:-0700
TZNAME:MST
DTSTART:20271107T080000
END:STANDARD
END:VTIMEZONE
BEGIN:VEVENT
DTSTART;TZID=America/Denver:20260315T160000
DTEND;TZID=America/Denver:20260315T173000
DTSTAMP:20260421T122943
CREATED:20260225T132525Z
LAST-MODIFIED:20260225T134356Z
UID:10000624-1773590400-1773595800@aspenout.com
SUMMARY:Queer Sober Club Goes Bowling - AspenOUT
DESCRIPTION:Join us for an early evening of Bowling! Please RSVP to save your spot. \n			\n				Click Here To RSVP
URL:https://aspenout.com/event/queer-sober-club-goes-bowling-aspenout/
LOCATION:Bowlski\, 280 Favre Ln\, El Jebel\, CO\, 81623\, United States
CATEGORIES:Adults Only
ATTACH;FMTTYPE=image/jpeg:https://aspenout.com/wp-content/uploads/2026/02/queer-sober-club-aspenout-bolwing-march-2026.jpg
END:VEVENT
BEGIN:VEVENT
DTSTART;TZID=America/Denver:20260320T183000
DTEND;TZID=America/Denver:20260320T203000
DTSTAMP:20260421T122943
CREATED:20260306T232552Z
LAST-MODIFIED:20260306T233312Z
UID:10000625-1774031400-1774038600@aspenout.com
SUMMARY:Quality Queers Taxes Workshop - Sponsored by AspenOUT
DESCRIPTION:RSVP FOR FULL INFO\n			\n			\n				\n				\n				\n				\n				\n				\n				\n				\n				\n				\n\n\n\nCarbondale\, CO\n\nRSVP by Fri\, Mar 20th at 6:29 pm\n\n\n📣 Listen up\, Queers 📣 Join us with your laptops\, W-2s\, and blue light glasses. We’re getting started on our taxes! Take the fear out of tackling your taxes by asking our very own queer CPA\, Cindy\, questions in real time while working on them. Our goal is to get you started and to instill the confidence and independence to finish the rest on your own.  \nWe’ll have food & a tea bar with gluten-free\, dairy-free\, and vegetarian options. Please don’t hesitate to reach out with any questions leading up to the workshop. This event is generously funded by AspenOUT and venue space donated by Stepping Stones.\n\n\n			\n			\n				\n				\n				\n				\n			\n				\n				\n			\n				\n				\n				\n				\n				\n				\n				\n				\n				\n				\n				\n				\n				\n				\n				\n				\n				\n				\n			\n			\n				\n				\n				\n				\n			\n				\n				\n				\n				\n				\n				\n				\n				\n				\n				\n				Get in Touch. Get Involved.\nWe are always looking for new volunteers\, future board members\, and more. Let us know how you’d like to be involved with AspenOUT. \n			\n			\n				\n				\n				\n				\n			\n				\n				\n				\n				\n				\n				\n				\n				\n				\n				\n				\n					\n					\n						298 Park Ave. Suite A5\, Basalt\, CO\, 81621\n						\n					\n				\n			\n			\n				\n				\n				\n				\n				\n				\n				\n				\n				\n				\n					\n					\n						Text Us: ‪(323) 553-0258\n						\n					\n				\n			\n			\n				\n				\n				\n				\n				\n				Become A Sponsor\n			\n			\n				\n				\n				\n				\n			\n				\n				\n				\n				\n				\n				\n				\n				\n				\n				\n				\n				\n				\n				\n					\n						\n				\n				\n				\n				\n				Name\n				\n			 \n\n				\n				\n				\n				\n				Email Address\n				\n			 \n\n				\n				\n				\n				\n				Message\n				\n			 \n\n						\n						\n							\n							Submit\n						\n						\n					\n				\n			\n\n			\n				\n				\n				\n				\n			\n				\n				\n				\n				\n				\n				\n				\n				\n				\n				\n				FollowFollow
URL:https://aspenout.com/event/quality-queers-taxes-workshop-sponsored-by-aspenout/
CATEGORIES:Adults Only
ATTACH;FMTTYPE=image/jpeg:https://aspenout.com/wp-content/uploads/2026/03/tax-time-aspen-out-march-2026.jpg
END:VEVENT
BEGIN:VEVENT
DTSTART;TZID=America/Denver:20260323T190000
DTEND;TZID=America/Denver:20260323T203000
DTSTAMP:20260421T122943
CREATED:20260217T153628Z
LAST-MODIFIED:20260217T153927Z
UID:10000623-1774292400-1774297800@aspenout.com
SUMMARY:Read the Rainbow Book Club - Alpenglow
DESCRIPTION:GET DIRECTIONS TO BOOKSTORE\n			\n				\n				\n				\n				\n				\n\nREAD the RAINBOW Book ClubMonday\, March 23\, 2026 • 7PM\n\n\n\n\nExplore queer characters and enjoy like-minded folks as we start a new journey with Read the Rainbow Book Club hosted at Alpenglow Bookstore in Glendwood Springs. Snacks provided. 
URL:https://aspenout.com/event/read-the-rainbow-book-club-march/
ATTACH;FMTTYPE=image/jpeg:https://aspenout.com/wp-content/uploads/2026/02/reading-rainbow-club-aspen-out-march.jpg
END:VEVENT
BEGIN:VEVENT
DTSTART;TZID=America/Denver:20260324T180000
DTEND;TZID=America/Denver:20260324T200000
DTSTAMP:20260421T122943
CREATED:20260309T162616Z
LAST-MODIFIED:20260309T163201Z
UID:10000626-1774375200-1774382400@aspenout.com
SUMMARY:Hues and Brews March: AspenOUT
DESCRIPTION:SIGN UP HERE\n			\n			\n				\n				\n				\n				\n				\n				\n				\n				\n				\n				\n\n\n\n\n\nIn this class\, you’ll develop portraiture skills through the medium of oil pastel! We’ll explore warm and cool colors and complementary colors to create fun and bright portraits of our friends and loved ones. \n4th Tuesday LGBTQIA+ Art & Social Night On the 4th Tuesday of each month\, local LGBTQIA+ community and allies gather to socialize\, make art\, network\, and have fun—optionally with an adult beverage. Enjoy a rotating mix of creative projects in a variety of media; no art experience needed. Come as you are\, meet new friends\, and explore creativity in a welcoming\, low-pressure space.\n\n\n\n\n\n			\n			\n				\n				\n				\n				\n			\n				\n				\n			\n				\n				\n				\n				\n				\n				\n				\n				\n				\n				\n				\n				\n				\n				\n				\n				\n				\n				\n			\n			\n				\n				\n				\n				\n			\n				\n				\n				\n				\n				\n				\n				\n				\n				\n				\n				Get in Touch. Get Involved.\nWe are always looking for new volunteers\, future board members\, and more. Let us know how you’d like to be involved with AspenOUT. \n			\n			\n				\n				\n				\n				\n			\n				\n				\n				\n				\n				\n				\n				\n				\n				\n				\n				\n					\n					\n						298 Park Ave. Suite A5\, Basalt\, CO\, 81621\n						\n					\n				\n			\n			\n				\n				\n				\n				\n				\n				\n				\n				\n				\n				\n					\n					\n						Text Us: ‪(323) 553-0258\n						\n					\n				\n			\n			\n				\n				\n				\n				\n				\n				Become A Sponsor\n			\n			\n				\n				\n				\n				\n			\n				\n				\n				\n				\n				\n				\n				\n				\n				\n				\n				\n				\n				\n				\n					\n						\n				\n				\n				\n				\n				Name\n				\n			 \n\n				\n				\n				\n				\n				Email Address\n				\n			 \n\n				\n				\n				\n				\n				Message\n				\n			 \n\n						\n						\n							\n							Submit\n						\n						\n					\n				\n			\n\n			\n				\n				\n				\n				\n			\n				\n				\n				\n				\n				\n				\n				\n				\n				\n				\n				FollowFollow
URL:https://aspenout.com/event/hues-and-brews-march-2026-aspenout/
LOCATION:The Art Base\, 174 Midland Avenue\, Basalt\, CO\, 81621
CATEGORIES:Adults Only
ATTACH;FMTTYPE=image/jpeg:https://aspenout.com/wp-content/uploads/2026/03/hues-brew-artbase-aspenout-2026-march.jpg
END:VEVENT
BEGIN:VEVENT
DTSTART;TZID=America/Denver:20260325T181500
DTEND;TZID=America/Denver:20260325T200000
DTSTAMP:20260421T122943
CREATED:20250707T155255Z
LAST-MODIFIED:20260318T231518Z
UID:10000594-1774462500-1774468800@aspenout.com
SUMMARY:Queer Art Club: March 2026
DESCRIPTION:GET DIRECTIONS TO 979 East\n			\n				\n				\n				\n				\n				Come make protest art with Tucker! All are welcome and as usual: its free!\nWednesday\, March 25\, 2026 from 6:15pm\, snacks and drinks will be provided! Sober space and all levels are welcome. Did we mention it is FREE?!? \nText Tucker at 802-458-2793 to respond and ask any questions.
URL:https://aspenout.com/event/queer-art-club-march-2026/
LOCATION:Stepping Stones\, 1010 Garfield Ave\, Carbondale\, CO\, 81623
CATEGORIES:Adults Only
ATTACH;FMTTYPE=image/jpeg:https://aspenout.com/wp-content/uploads/2025/07/march-queer-club-2026-queer-art.jpg
END:VEVENT
BEGIN:VEVENT
DTSTART;TZID=America/Denver:20260331T183000
DTEND;TZID=America/Denver:20260331T213000
DTSTAMP:20260421T122943
CREATED:20260316T210729Z
LAST-MODIFIED:20260316T210729Z
UID:10000629-1774981800-1774992600@aspenout.com
SUMMARY:Transgender Day of Visibility Film Festival - Carbondale
DESCRIPTION:
URL:https://aspenout.com/event/transgender-day-of-visibility-film-festival-carbondale/
LOCATION:Crystal Theatre\, 427 Main St\, Carbondale\, CO\, 81623\, United States
ATTACH;FMTTYPE=image/jpeg:https://aspenout.com/wp-content/uploads/2026/03/tdr-film-festival-carbondale-2026.jpg
END:VEVENT
END:VCALENDAR