BEGIN:VCALENDAR
VERSION:2.0
PRODID:-//AspenOUT - ECPv6.15.20//NONSGML v1.0//EN
CALSCALE:GREGORIAN
METHOD:PUBLISH
X-WR-CALNAME:AspenOUT
X-ORIGINAL-URL:https://aspenout.com
X-WR-CALDESC:Events for AspenOUT
REFRESH-INTERVAL;VALUE=DURATION:PT1H
X-Robots-Tag:noindex
X-PUBLISHED-TTL:PT1H
BEGIN:VTIMEZONE
TZID:America/Denver
BEGIN:DAYLIGHT
TZOFFSETFROM:-0700
TZOFFSETTO:-0600
TZNAME:MDT
DTSTART:20220313T090000
END:DAYLIGHT
BEGIN:STANDARD
TZOFFSETFROM:-0600
TZOFFSETTO:-0700
TZNAME:MST
DTSTART:20221106T080000
END:STANDARD
BEGIN:DAYLIGHT
TZOFFSETFROM:-0700
TZOFFSETTO:-0600
TZNAME:MDT
DTSTART:20230312T090000
END:DAYLIGHT
BEGIN:STANDARD
TZOFFSETFROM:-0600
TZOFFSETTO:-0700
TZNAME:MST
DTSTART:20231105T080000
END:STANDARD
BEGIN:DAYLIGHT
TZOFFSETFROM:-0700
TZOFFSETTO:-0600
TZNAME:MDT
DTSTART:20240310T090000
END:DAYLIGHT
BEGIN:STANDARD
TZOFFSETFROM:-0600
TZOFFSETTO:-0700
TZNAME:MST
DTSTART:20241103T080000
END:STANDARD
END:VTIMEZONE
BEGIN:VEVENT
DTSTART;TZID=America/Denver:20231222T200000
DTEND;TZID=America/Denver:20231222T220000
DTSTAMP:20260421T031341
CREATED:20231208T031509Z
LAST-MODIFIED:20231208T031729Z
UID:10000562-1703275200-1703282400@aspenout.com
SUMMARY:ALL OF US STRANGERS
DESCRIPTION:This is your chance to see 2023’s biggest LGBTQ+ film in Aspen.\nPurchase tickets HERE starting December 8. \nDRAMA | 105 MIN | UK\, US \n\nA screenwriter drawn back to his childhood home enters into a fledgling relationship with a mysterious neighbor as he then discovers his parents appear to be living just as they were on the day they died\, 30 years before. \nFESTIVAL | AWARDS 2023 Telluride Film Festival; New York Film Festival;  Montclair Film Festival\, Winner – Special Jury Prize; British Independent Film Awards – Winner\, Best Editing\, Best Cinematography\nDIRECTOR Andrew Haigh\nWRITTEN BY Andrew Haigh\nWITH Jamie Bell\, Claire Foy\, Carter John Grout\, Paul Mescal\, Andrew Scott + Ami Tredrea \n$20 Aspen Film Member; $25 General Admission
URL:https://aspenout.com/event/all-of-us-strangers/
LOCATION:Aspen Film Isis Theatre\, 406 East Hopkins Ave.\, Aspen\, CO\, 81611
ATTACH;FMTTYPE=image/jpeg:https://aspenout.com/wp-content/uploads/2023/12/allofusstrangers_still-1-scaled.jpeg
END:VEVENT
END:VCALENDAR