BEGIN:VCALENDAR
VERSION:2.0
PRODID:-//AspenOUT - ECPv6.15.20//NONSGML v1.0//EN
CALSCALE:GREGORIAN
METHOD:PUBLISH
X-WR-CALNAME:AspenOUT
X-ORIGINAL-URL:https://aspenout.com
X-WR-CALDESC:Events for AspenOUT
REFRESH-INTERVAL;VALUE=DURATION:PT1H
X-Robots-Tag:noindex
X-PUBLISHED-TTL:PT1H
BEGIN:VTIMEZONE
TZID:America/Denver
BEGIN:DAYLIGHT
TZOFFSETFROM:-0700
TZOFFSETTO:-0600
TZNAME:MDT
DTSTART:20220313T090000
END:DAYLIGHT
BEGIN:STANDARD
TZOFFSETFROM:-0600
TZOFFSETTO:-0700
TZNAME:MST
DTSTART:20221106T080000
END:STANDARD
BEGIN:DAYLIGHT
TZOFFSETFROM:-0700
TZOFFSETTO:-0600
TZNAME:MDT
DTSTART:20230312T090000
END:DAYLIGHT
BEGIN:STANDARD
TZOFFSETFROM:-0600
TZOFFSETTO:-0700
TZNAME:MST
DTSTART:20231105T080000
END:STANDARD
BEGIN:DAYLIGHT
TZOFFSETFROM:-0700
TZOFFSETTO:-0600
TZNAME:MDT
DTSTART:20240310T090000
END:DAYLIGHT
BEGIN:STANDARD
TZOFFSETFROM:-0600
TZOFFSETTO:-0700
TZNAME:MST
DTSTART:20241103T080000
END:STANDARD
END:VTIMEZONE
BEGIN:VEVENT
DTSTART;TZID=America/Denver:20231024T180000
DTEND;TZID=America/Denver:20231024T200000
DTSTAMP:20260420T161813
CREATED:20231019T203007Z
LAST-MODIFIED:20260410T151421Z
UID:10000450-1698170400-1698177600@aspenout.com
SUMMARY:Creations & Libations at The Art Base
DESCRIPTION:SOPHIA CATTO- OH MY GAUDI: A NOUVEAU PERSPECTIVE ON RECYCLING\nAll levels welcome. Supplies included. \nWe will create recycled sculptures inspired by the iconic architect Antoni Gaudí is an exciting and artistic way to explore eco-friendly art. Gaudí’s work is known for its organic and whimsical forms\, making it a great source of inspiration for environmentally conscious art. What’s more\, even though Gaudí and his modernist contemporaries lived over 200 years ago\, they actively used recycled materials in their high-end designs. \nOn the 4th Tuesday of each month\, The Art Base and AspenOUT welcome our local LGBTQIA+ community and allies come together to socialize\, make art\, network\, and have fun with or without an adult beverage. The class will feature a variety of projects in a variety of media. All levels are welcome. You will feel comfortable exploring creativity if you have no experience making art and have fun if you are an accomplished working artist\, all in a safe environment\, which is why Creations and Libations was conceived. \n$20/class. SCHOLARSHIPS AVAILABLE. Click HERE to register.
URL:https://aspenout.com/event/creations-libations-at-the-art-base-3-2/
LOCATION:The Art Base\, 174 Midland Avenue\, Basalt\, CO\, 81621
CATEGORIES:Adults Only
ATTACH;FMTTYPE=image/jpeg:https://aspenout.com/wp-content/uploads/2023/07/Creations-Libations_2023_webslide-scaled-1.jpg
END:VEVENT
END:VCALENDAR