BEGIN:VCALENDAR
VERSION:2.0
PRODID:-//AspenOUT - ECPv6.15.20//NONSGML v1.0//EN
CALSCALE:GREGORIAN
METHOD:PUBLISH
X-WR-CALNAME:AspenOUT
X-ORIGINAL-URL:https://aspenout.com
X-WR-CALDESC:Events for AspenOUT
REFRESH-INTERVAL;VALUE=DURATION:PT1H
X-Robots-Tag:noindex
X-PUBLISHED-TTL:PT1H
BEGIN:VTIMEZONE
TZID:America/Denver
BEGIN:DAYLIGHT
TZOFFSETFROM:-0700
TZOFFSETTO:-0600
TZNAME:MDT
DTSTART:20230312T090000
END:DAYLIGHT
BEGIN:STANDARD
TZOFFSETFROM:-0600
TZOFFSETTO:-0700
TZNAME:MST
DTSTART:20231105T080000
END:STANDARD
BEGIN:DAYLIGHT
TZOFFSETFROM:-0700
TZOFFSETTO:-0600
TZNAME:MDT
DTSTART:20240310T090000
END:DAYLIGHT
BEGIN:STANDARD
TZOFFSETFROM:-0600
TZOFFSETTO:-0700
TZNAME:MST
DTSTART:20241103T080000
END:STANDARD
BEGIN:DAYLIGHT
TZOFFSETFROM:-0700
TZOFFSETTO:-0600
TZNAME:MDT
DTSTART:20250309T090000
END:DAYLIGHT
BEGIN:STANDARD
TZOFFSETFROM:-0600
TZOFFSETTO:-0700
TZNAME:MST
DTSTART:20251102T080000
END:STANDARD
END:VTIMEZONE
BEGIN:VEVENT
DTSTART;TZID=America/Denver:20240528T180000
DTEND;TZID=America/Denver:20240528T200000
DTSTAMP:20260420T015603
CREATED:20230717T234022Z
LAST-MODIFIED:20230809T195428Z
UID:10000452-1716919200-1716926400@aspenout.com
SUMMARY:Creations & Libations at The Art Base
DESCRIPTION:On the 4th Tuesday of each month\, The Art Base and AspenOUT welcome our local LGBTQIA+ community and allies come together to socialize\, make art\, network\, and have fun with or without an adult beverage. The class will feature a variety of projects in a variety of media. All levels are welcome. You will feel comfortable exploring creativity if you have no experience making art and have fun if you are an accomplished working artist\, all in a safe environment\, which is why Creations and Libations was conceived. \n$20/class. SCHOLARSHIPS AVAILABLE. Click HERE to register.
URL:https://aspenout.com/event/creations-libations-at-the-art-base-3/2024-05-28/
LOCATION:The Art Base\, 174 Midland Avenue\, Basalt\, CO\, 81621
CATEGORIES:Adults Only
ATTACH;FMTTYPE=image/jpeg:https://aspenout.com/wp-content/uploads/2023/07/Creations-Libations_2023_webslide-scaled-1.jpg
END:VEVENT
END:VCALENDAR