BEGIN:VCALENDAR
VERSION:2.0
PRODID:-//AspenOUT - ECPv6.15.20//NONSGML v1.0//EN
CALSCALE:GREGORIAN
METHOD:PUBLISH
X-ORIGINAL-URL:https://aspenout.com
X-WR-CALDESC:Events for AspenOUT
REFRESH-INTERVAL;VALUE=DURATION:PT1H
X-Robots-Tag:noindex
X-PUBLISHED-TTL:PT1H
BEGIN:VTIMEZONE
TZID:America/Denver
BEGIN:DAYLIGHT
TZOFFSETFROM:-0700
TZOFFSETTO:-0600
TZNAME:MDT
DTSTART:20220313T090000
END:DAYLIGHT
BEGIN:STANDARD
TZOFFSETFROM:-0600
TZOFFSETTO:-0700
TZNAME:MST
DTSTART:20221106T080000
END:STANDARD
BEGIN:DAYLIGHT
TZOFFSETFROM:-0700
TZOFFSETTO:-0600
TZNAME:MDT
DTSTART:20230312T090000
END:DAYLIGHT
BEGIN:STANDARD
TZOFFSETFROM:-0600
TZOFFSETTO:-0700
TZNAME:MST
DTSTART:20231105T080000
END:STANDARD
BEGIN:DAYLIGHT
TZOFFSETFROM:-0700
TZOFFSETTO:-0600
TZNAME:MDT
DTSTART:20240310T090000
END:DAYLIGHT
BEGIN:STANDARD
TZOFFSETFROM:-0600
TZOFFSETTO:-0700
TZNAME:MST
DTSTART:20241103T080000
END:STANDARD
END:VTIMEZONE
BEGIN:VEVENT
DTSTART;TZID=America/Denver:20230621T173000
DTEND;TZID=America/Denver:20230621T193000
DTSTAMP:20260423T073523
CREATED:20230620T162348Z
LAST-MODIFIED:20230620T162348Z
UID:10000005-1687368600-1687375800@aspenout.com
SUMMARY:Basalt Summer Concert Series
DESCRIPTION:The free concerts take place every Wednesday from June 21- August 30 (no concert July 5).\n5:30 p.m – Supporting Act\n6:30 p.m. – Break\n7 p.m. – Headliner \nLOCATION\nTriangle Park\, Willits\nJune 21 and June 28 \nBasalt River Park\, Downtown Basalt\nJuly 12 – August 30
URL:https://aspenout.com/event/basalt-summer-concert-series/
LOCATION:CO
ATTACH;FMTTYPE=image/jpeg:https://aspenout.com/wp-content/uploads/2023/06/2023_BCS_Poster-scaled.jpg
END:VEVENT
BEGIN:VEVENT
DTSTART;TZID=America/Denver:20230624T100000
DTEND;TZID=America/Denver:20230624T104500
DTSTAMP:20260423T073523
CREATED:20230620T162718Z
LAST-MODIFIED:20230620T164856Z
UID:10000006-1687600800-1687603500@aspenout.com
SUMMARY:CycleBar at W - AspenOUT Fundraiser
DESCRIPTION:At the heart of CycleBar is our passion for giving back to the community. Our CycleGives platform enables us to partner with local organizations and charities to help them raise donations by creating exciting and energetic indoor cycling rides for companies\, teams\, groups\, and families to help raise proceeds that benefit their cause. This is a unique form of cause marketing that promotes health and wellness with a one-of-a-kind fitness experience to create fundraising events inside our studios. \nBook Your Spot Here
URL:https://aspenout.com/event/cyclebar-at-w-aspenout-fundraiser/
LOCATION:W Aspen Hotel\, 550 S Spring St\, Aspen\, CO\, 81611\, United States
ATTACH;FMTTYPE=image/jpeg:https://aspenout.com/wp-content/uploads/2023/06/aspenout-cyclebar-june-2023-scaled.jpg
END:VEVENT
BEGIN:VEVENT
DTSTART;TZID=America/Denver:20230625T093000
DTEND;TZID=America/Denver:20230625T223000
DTSTAMP:20260423T073523
CREATED:20230601T145150Z
LAST-MODIFIED:20230620T162635Z
UID:10000002-1687685400-1687732200@aspenout.com
SUMMARY:Free 30/30 Dual Class - CycleBar
DESCRIPTION:Book Your Bike and Spot Here \nThe CycleBar Classic is our primary ride of pure intoxication. As the lights dim\, your CycleBar instructor pumps up the volume on a wildly energetic cardio jam and upper body workout. Our state-of-the-art Cycle Theatre features heart-pounding audio and leading-edge technology CycleStats so you can track your performance in real-time.
URL:https://aspenout.com/event/free-30-30-dual-class-cyclebar/
LOCATION:CO
ATTACH;FMTTYPE=image/jpeg:https://aspenout.com/wp-content/uploads/2023/06/aspen-pride-ride-cyclebar.jpg
END:VEVENT
BEGIN:VEVENT
DTSTART;TZID=America/Denver:20230629T160000
DTEND;TZID=America/Denver:20230629T180000
DTSTAMP:20260423T073523
CREATED:20230616T194543Z
LAST-MODIFIED:20230627T223109Z
UID:10000004-1688054400-1688061600@aspenout.com
SUMMARY:Aspen PRIDE Party hosted by AMFS
DESCRIPTION:  \n \nThe Inclusion\, Diversity\, Equity and Inclusion Committee of the Aspen Music Festival & School presents an inaugural Aspen Pride month celebration featuring an amazing ice cream sundae bar\, lawn games facilitated by Dr. Zackarina Jenny-hoe\, performance by the Mister Sisters\, community partner booths\, a “Drag Closet” hosted by the Roaring Fork Divas\, dancing and fun\, for the LGBTQIA+ community\, friends\, families and allies. Everyone welcome! \nLead Support by: Jeff Grinspoon & Jon Foley and AspenOut
URL:https://aspenout.com/event/amfs-pride-event/
LOCATION:Aspen Music Festival & School\, 960 North 3rd Street\, Aspen\, co\, 81611
ATTACH;FMTTYPE=image/png:https://aspenout.com/wp-content/uploads/2023/06/Pride_EventPic_628-2.png
END:VEVENT
END:VCALENDAR