BEGIN:VCALENDAR
VERSION:2.0
PRODID:-//AspenOUT - ECPv6.15.20//NONSGML v1.0//EN
CALSCALE:GREGORIAN
METHOD:PUBLISH
X-ORIGINAL-URL:https://aspenout.com
X-WR-CALDESC:Events for AspenOUT
REFRESH-INTERVAL;VALUE=DURATION:PT1H
X-Robots-Tag:noindex
X-PUBLISHED-TTL:PT1H
BEGIN:VTIMEZONE
TZID:America/Denver
BEGIN:DAYLIGHT
TZOFFSETFROM:-0700
TZOFFSETTO:-0600
TZNAME:MDT
DTSTART:20220313T090000
END:DAYLIGHT
BEGIN:STANDARD
TZOFFSETFROM:-0600
TZOFFSETTO:-0700
TZNAME:MST
DTSTART:20221106T080000
END:STANDARD
BEGIN:DAYLIGHT
TZOFFSETFROM:-0700
TZOFFSETTO:-0600
TZNAME:MDT
DTSTART:20230312T090000
END:DAYLIGHT
BEGIN:STANDARD
TZOFFSETFROM:-0600
TZOFFSETTO:-0700
TZNAME:MST
DTSTART:20231105T080000
END:STANDARD
BEGIN:DAYLIGHT
TZOFFSETFROM:-0700
TZOFFSETTO:-0600
TZNAME:MDT
DTSTART:20240310T090000
END:DAYLIGHT
BEGIN:STANDARD
TZOFFSETFROM:-0600
TZOFFSETTO:-0700
TZNAME:MST
DTSTART:20241103T080000
END:STANDARD
END:VTIMEZONE
BEGIN:VEVENT
DTSTART;TZID=America/Denver:20231208T190000
DTEND;TZID=America/Denver:20231208T220000
DTSTAMP:20260422T150717
CREATED:20230731T171836Z
LAST-MODIFIED:20230809T185619Z
UID:10000461-1702062000-1702072800@aspenout.com
SUMMARY:Glenwood Springs Hot Springs Soak with AspenOUT
DESCRIPTION:AspenOUT hosts a FREE monthly group soak at the Glenwood Springs Hot Springs\, every 2nd Friday. No reservation required. \nMeet inside at 7:00pm and head into the pool at 7:15. This is an open and inclusive group for ADULTS. Bring your towel and suit. For more information call or text 970-896-6504\, or email info@aspenout.org.
URL:https://aspenout.com/event/glenwood-springs-hot-springs-soak-with-aspenout/2023-12-08/
LOCATION:Glenwood Hot Springs Resort\, 401 North River St\, Glenwood Springs\, CO\, 81601
CATEGORIES:Adults Only
ATTACH;FMTTYPE=image/jpeg:https://aspenout.com/wp-content/uploads/2023/07/GWS-Pool.jpg
ORGANIZER;CN="AspenOUT":MAILTO:info@aspenout.org
END:VEVENT
BEGIN:VEVENT
DTSTART;TZID=America/Denver:20231219T173000
DTEND;TZID=America/Denver:20231219T183000
DTSTAMP:20260422T150717
CREATED:20230717T183916Z
LAST-MODIFIED:20230809T195719Z
UID:10000196-1703007000-1703010600@aspenout.com
SUMMARY:Connect & Climb
DESCRIPTION:Join PFLAG RFV and Cook Inclusive for a special climbing session with LGBTQ2A+ friends and family every 1st and 3rd Tuesday evening from 5:30-6:30pm at the Glenwood Springs Community Center. \nThe young folks can climb and spend time together while family members and Allies connect in the background. \nEmail info@pflagrfv.org if you have questions. \n.ALL ARE WELCOME! ¡TODOS SON BIENVENIDOS! \nCada 1er y 3er martes por la noche de 5:30 a 6:30. En el Centro Comunitario de Glenwood Springs. Únase a PFLAG RFV y Cook Inclusive para una sesión especial de escalada con amigos y familiares LGBTQ2A+. Los jóvenes pueden escalar y pasar tiempo juntos mientras los miembros de la familia y los Aliados se conectan de fondo. Envíe un correo electrónico a info@pflagrfv.org si tiene preguntas.
URL:https://aspenout.com/event/connect-climb-3/2023-12-19/
LOCATION:Glenwood Springs Community Center\, 100 Wulfsohn Road\, Glenwood Springs\, CO\, 81601
CATEGORIES:Youth,Youth and Adults
ATTACH;FMTTYPE=image/png:https://aspenout.com/wp-content/uploads/2023/07/ConnectClimbEnglish1.png
ORGANIZER;CN="PFLAG Roaring Fork Valley":MAILTO:info@pflagrfv.org
END:VEVENT
BEGIN:VEVENT
DTSTART;TZID=America/Denver:20231225T163000
DTEND;TZID=America/Denver:20231225T183000
DTSTAMP:20260422T150717
CREATED:20231208T023214Z
LAST-MODIFIED:20231208T023215Z
UID:10000552-1703521800-1703529000@aspenout.com
SUMMARY:Gay For Good Christmas Day Dinner at Lift Up
DESCRIPTION:Back At LiftUp AND On Christmas Day\nJoin G4G Rocky Mountains as we once again partner with LiftUp to help those with food insecurity. We need volunteers on Christmas Day to help prepare a meal and serve it to patrons coming in. Food needs to be soft in nature since many of the people have dental issues.  We also want to make this as festive as possible.  We need volunteers to also bring decorations\, music\, clothes to donate and even presents if you have the ability. \nOther donations that would also be welcomed: Patrons have toiletry needs (think small bottles of body wash\, deodorant\, shampoo\, etc.)\, small cans or bags of cat food and/or dog food is also encouraged since many have pet companions as well.  Additionally\, if you have any clothing you’d like to donate\, bring that as well!  We can always use bags of ice\, bottled water or if someone would like to donate reusable water bottles (that’s even better)\, and to-go containers. \nREGISTER HERE
URL:https://aspenout.com/event/gay-for-good-christmas-day-dinner-at-lift-up/
LOCATION:LiftUp Glenwood Springs\, 824 Cooper Avenue\, Glenwood Springs\, CO
CATEGORIES:Youth and Adults
ATTACH;FMTTYPE=image/png:https://aspenout.com/wp-content/uploads/2023/12/LiftUp-1024x768-1.png
END:VEVENT
END:VCALENDAR