BEGIN:VCALENDAR
VERSION:2.0
PRODID:-//AspenOUT - ECPv6.15.20//NONSGML v1.0//EN
CALSCALE:GREGORIAN
METHOD:PUBLISH
X-ORIGINAL-URL:https://aspenout.com
X-WR-CALDESC:Events for AspenOUT
REFRESH-INTERVAL;VALUE=DURATION:PT1H
X-Robots-Tag:noindex
X-PUBLISHED-TTL:PT1H
BEGIN:VTIMEZONE
TZID:America/Denver
BEGIN:DAYLIGHT
TZOFFSETFROM:-0700
TZOFFSETTO:-0600
TZNAME:MDT
DTSTART:20220313T090000
END:DAYLIGHT
BEGIN:STANDARD
TZOFFSETFROM:-0600
TZOFFSETTO:-0700
TZNAME:MST
DTSTART:20221106T080000
END:STANDARD
BEGIN:DAYLIGHT
TZOFFSETFROM:-0700
TZOFFSETTO:-0600
TZNAME:MDT
DTSTART:20230312T090000
END:DAYLIGHT
BEGIN:STANDARD
TZOFFSETFROM:-0600
TZOFFSETTO:-0700
TZNAME:MST
DTSTART:20231105T080000
END:STANDARD
BEGIN:DAYLIGHT
TZOFFSETFROM:-0700
TZOFFSETTO:-0600
TZNAME:MDT
DTSTART:20240310T090000
END:DAYLIGHT
BEGIN:STANDARD
TZOFFSETFROM:-0600
TZOFFSETTO:-0700
TZNAME:MST
DTSTART:20241103T080000
END:STANDARD
END:VTIMEZONE
BEGIN:VEVENT
DTSTART;TZID=America/Denver:20230827T083000
DTEND;TZID=America/Denver:20230827T123000
DTSTAMP:20260423T042222
CREATED:20230814T213028Z
LAST-MODIFIED:20230814T213342Z
UID:10000539-1693125000-1693139400@aspenout.com
SUMMARY:Gay for Good Wildlife Sanctuary Service Project
DESCRIPTION:Gay for Good Rocky Mountains is partnering with the Pauline S. Schneegas Wildlife Foundation to help clean their resident bobcat cages by scraping up old bedding\, hosing\, disinfecting\, and placing new bedding. Volunteers may also help rewrap bird perches with rope which helps prevent a foot infection called bumblefoot that’s common in captive birds and clean some of their resident bird cages as well. \nVolunteers will receive a tour of the facility and get to the other residents housed at the facility. Our work will directly impact the bobcats\, eagles\, and black bird populations at the facility. \nDate: Sunday\, August 27th\, 2023\nTime: 8:30am-12:30pm\nLocation: 5945 County Road 346\, Silt\, Co \nAdditional Details: Please wear clothes that can dirty and sturdy\, close-toed shoes. \nSpace is limited to 12 volunteers so we kindly ask that you only sign up if you are sure you can attend. If you reserve a spot and your plans change\, please let us know so we can open the slot to another volunteer. \n\n\n\n\nRSVP Here
URL:https://aspenout.com/event/gay-for-good-wildlife-sanctuary-service-project/
LOCATION:co
CATEGORIES:Adults Only
ATTACH;FMTTYPE=image/png:https://aspenout.com/wp-content/uploads/2023/07/G4G-Progress-Logo.png
END:VEVENT
END:VCALENDAR