BEGIN:VCALENDAR
VERSION:2.0
PRODID:-//AspenOUT - ECPv6.15.20//NONSGML v1.0//EN
CALSCALE:GREGORIAN
METHOD:PUBLISH
X-ORIGINAL-URL:https://aspenout.com
X-WR-CALDESC:Events for AspenOUT
REFRESH-INTERVAL;VALUE=DURATION:PT1H
X-Robots-Tag:noindex
X-PUBLISHED-TTL:PT1H
BEGIN:VTIMEZONE
TZID:America/Denver
BEGIN:DAYLIGHT
TZOFFSETFROM:-0700
TZOFFSETTO:-0600
TZNAME:MDT
DTSTART:20220313T090000
END:DAYLIGHT
BEGIN:STANDARD
TZOFFSETFROM:-0600
TZOFFSETTO:-0700
TZNAME:MST
DTSTART:20221106T080000
END:STANDARD
BEGIN:DAYLIGHT
TZOFFSETFROM:-0700
TZOFFSETTO:-0600
TZNAME:MDT
DTSTART:20230312T090000
END:DAYLIGHT
BEGIN:STANDARD
TZOFFSETFROM:-0600
TZOFFSETTO:-0700
TZNAME:MST
DTSTART:20231105T080000
END:STANDARD
BEGIN:DAYLIGHT
TZOFFSETFROM:-0700
TZOFFSETTO:-0600
TZNAME:MDT
DTSTART:20240310T090000
END:DAYLIGHT
BEGIN:STANDARD
TZOFFSETFROM:-0600
TZOFFSETTO:-0700
TZNAME:MST
DTSTART:20241103T080000
END:STANDARD
END:VTIMEZONE
BEGIN:VEVENT
DTSTART;TZID=America/Denver:20231016T183000
DTEND;TZID=America/Denver:20231016T200000
DTSTAMP:20260423T005811
CREATED:20230926T204721Z
LAST-MODIFIED:20230926T204905Z
UID:10000543-1697481000-1697486400@aspenout.com
SUMMARY:One Colorado Tour in Glenwood Springs
DESCRIPTION:One Colorado is kicking off a statewide education and outreach tour at the end of September to connect with communities in 15 cities throughout the state. From Colorado Springs to Fort Collins\, from Grand Junction to Aurora\, from Pueblo to Glenwood Springs\, we are hitting the road to hear about what matters most to Coloradans in a time when the LGBTQ+ community is facing unprecedented attacks. \nFrom the over 520 anti-LGBTQ+ bills introduced in legislatures across the country to the U.S. Supreme Court’s decision in the 303 Creative LLC v. Elenis case to the current constitutional ban on same sex marriage in Colorado\, we know we can’t back down. We must come together to talk about how this climate is impacting us and our families\, and what we can do to organize together for a brighter future. \nRegister HERE
URL:https://aspenout.com/event/one-colorado-tour-in-glenwood-springs/
LOCATION:First United Methodist Church of Glenwood Springs\, 824 Cooper Avenue\, Glenwood Springs\, CO\, 81601
END:VEVENT
BEGIN:VEVENT
DTSTART;TZID=America/Denver:20231021T090000
DTEND;TZID=America/Denver:20231021T170000
DTSTAMP:20260423T005811
CREATED:20230728T222045Z
LAST-MODIFIED:20230807T003146Z
UID:10000118-1697878800-1697907600@aspenout.com
SUMMARY:One Colorado's 2023 Queer Youth Summit
DESCRIPTION:One Colorado is excited to bring back the Queer Youth Summit this year! The Summit is a 1-day forum welcoming LGBTQ+ youth and young adults\, parents\, and educators for speakers and workshops to learn\, share\, dialogue\, and connect in support of LGBTQ+ students. Learn more HERE. \nMark your calendars for October 21st and check this space for further updates\, including: \n\nour host location\,\nworkshop leaders and topics\,\nkeynote speakers\,\nand more.\n\nAbout the Queer Youth Summit\nOne Colorado developed the first Queer Youth Summit in 2014 to establish create a welcoming and safe environment for LGBTQIA+ students in Colorado schools to address the issues and challenges they face. Over the years we have partnered with Gender & Sexuality Alliances (GSA) and students across the state to create a forum for students\, parents and guardians\, and educators to gather\, learn\, and dialogue through various workshops\, panels\, and interactive sessions. Participants have the opportunity to interact with peers and mentors\, meet new people\, share their experiences\, shift and deepen their understanding\,  and improve their capacity to promote constructive change for LGBTQ+ students in Colorado. While the primary focus of this event is by and for young people\, parents\, college students\, and other allied community members are all warmly welcomed. \n\n\n\nWorkshop Proposal Application\nOne Colorado is seeking Workshop Proposals for our 2023 Queer Youth Summit. Workshops from youth serving organizations and those that are youth-led will be prioritized. Applications accepted through August 10\, 2023. \n\nWORKSHOP PROPOSAL \n\nVendor Application\nOne Colorado is seeking Vendor Applications for our 2023 Queer Youth Summit. \n\nVENDOR FORM\n \n\n\n\n\n\n\n\n\n\n\n\n\n\n\n\n\n\n\nOne Colorado is the state’s leading advocacy organization dedicated to advancing equality for (LGBTQ) Coloradans and their families. We are working together for a fair and just Colorado.
URL:https://aspenout.com/event/one-colorados-2023-queer-youth-summit/
LOCATION:co
CATEGORIES:Youth
ATTACH;FMTTYPE=image/png:https://aspenout.com/wp-content/uploads/2023/07/2023-Queer-Youth-Summit-webpage-header-2.png
END:VEVENT
BEGIN:VEVENT
DTSTART;TZID=America/Denver:20231026T150000
DTEND;TZID=America/Denver:20231026T180000
DTSTAMP:20260423T005811
CREATED:20231013T214012Z
LAST-MODIFIED:20231013T215533Z
UID:10000546-1698332400-1698343200@aspenout.com
SUMMARY:Gay 4 Good 'Trunk or Treat' with Ascendigo
DESCRIPTION:Gay 4 Good is hosting a car trunk to give out candy to all the little ghouls and goblins. We need volunteers to help decorate the vehicle\, manning the petting zoo area/gate\, provide candy\, and also hand out candy. We encourage everyone to dress up as well! This is a really fun event to connect with local kids and provide an inclusive\, safe environment for all to trick or treat. \nDate: Thursday\, October 26\nTime: 3pm–6:15pm\nLocation: Carbondale Fire Department parking lot\, 300 Meadowood Dr\, Carbondale \nSIGN UP HERE
URL:https://aspenout.com/event/gay-4-good-trunk-or-treat-with-ascendigo/
LOCATION:co
CATEGORIES:Youth and Adults
ATTACH;FMTTYPE=image/png:https://aspenout.com/wp-content/uploads/2023/07/G4G-Progress-Logo.png
END:VEVENT
END:VCALENDAR