BEGIN:VCALENDAR
VERSION:2.0
PRODID:-//AspenOUT - ECPv6.15.20//NONSGML v1.0//EN
CALSCALE:GREGORIAN
METHOD:PUBLISH
X-WR-CALNAME:AspenOUT
X-ORIGINAL-URL:https://aspenout.com
X-WR-CALDESC:Events for AspenOUT
REFRESH-INTERVAL;VALUE=DURATION:PT1H
X-Robots-Tag:noindex
X-PUBLISHED-TTL:PT1H
BEGIN:VTIMEZONE
TZID:America/Denver
BEGIN:DAYLIGHT
TZOFFSETFROM:-0700
TZOFFSETTO:-0600
TZNAME:MDT
DTSTART:20220313T090000
END:DAYLIGHT
BEGIN:STANDARD
TZOFFSETFROM:-0600
TZOFFSETTO:-0700
TZNAME:MST
DTSTART:20221106T080000
END:STANDARD
BEGIN:DAYLIGHT
TZOFFSETFROM:-0700
TZOFFSETTO:-0600
TZNAME:MDT
DTSTART:20230312T090000
END:DAYLIGHT
BEGIN:STANDARD
TZOFFSETFROM:-0600
TZOFFSETTO:-0700
TZNAME:MST
DTSTART:20231105T080000
END:STANDARD
BEGIN:DAYLIGHT
TZOFFSETFROM:-0700
TZOFFSETTO:-0600
TZNAME:MDT
DTSTART:20240310T090000
END:DAYLIGHT
BEGIN:STANDARD
TZOFFSETFROM:-0600
TZOFFSETTO:-0700
TZNAME:MST
DTSTART:20241103T080000
END:STANDARD
END:VTIMEZONE
BEGIN:VEVENT
DTSTART;TZID=America/Denver:20230801T160000
DTEND;TZID=America/Denver:20230801T170000
DTSTAMP:20260423T054918
CREATED:20230731T173616Z
LAST-MODIFIED:20230809T195930Z
UID:10000471-1690905600-1690909200@aspenout.com
SUMMARY:LGBTQIA+ Adult Therapy Group
DESCRIPTION:Midvalley Family Practice is hosting a therapy group for adult LGBTQIA+ community members. The group meets Tuesdays from 4-5pm from August 1 – September 26 at their Basalt office\, 1450 East Valley Road\, Suite 102.
URL:https://aspenout.com/event/lgbtqia-adult-therapy-group/2023-08-01/
LOCATION:Midvalley Family Practice\, 1450 East Valley Road\, Suite 102\, Basalt\, CO\, 81621
CATEGORIES:Adults Only
ATTACH;FMTTYPE=image/jpeg:https://aspenout.com/wp-content/uploads/2023/07/Midvalley-group.jpg
END:VEVENT
BEGIN:VEVENT
DTSTART;TZID=America/Denver:20230801T173000
DTEND;TZID=America/Denver:20230801T183000
DTSTAMP:20260423T054918
CREATED:20230717T183659Z
LAST-MODIFIED:20230717T183700Z
UID:10000025-1690911000-1690914600@aspenout.com
SUMMARY:Connect & Climb
DESCRIPTION:Join PFLAG RFV and Cook Inclusive for a special climbing session with LGBTQ2A+ friends and family every 1st and 3rd Tuesday evening from 5:30-6:30pm at the Glenwood Springs Community Center. \nThe young folks can climb and spend time together while family members and Allies connect in the background. \nEmail info@pflagrfv.org if you have questions. \n.ALL ARE WELCOME! ¡TODOS SON BIENVENIDOS! \nCada 1er y 3er martes por la noche de 5:30 a 6:30. En el Centro Comunitario de Glenwood Springs. Únase a PFLAG RFV y Cook Inclusive para una sesión especial de escalada con amigos y familiares LGBTQ2A+. Los jóvenes pueden escalar y pasar tiempo juntos mientras los miembros de la familia y los Aliados se conectan de fondo. Envíe un correo electrónico a info@pflagrfv.org si tiene preguntas.
URL:https://aspenout.com/event/connect-climb-2/
LOCATION:Glenwood Springs Community Center\, 100 Wulfsohn Road\, Glenwood Springs\, CO\, 81601
CATEGORIES:Youth
ATTACH;FMTTYPE=image/png:https://aspenout.com/wp-content/uploads/2023/07/ConnectClimbEnglish1.png
END:VEVENT
BEGIN:VEVENT
DTSTART;TZID=America/Denver:20230802T183000
DTEND;TZID=America/Denver:20230802T193000
DTSTAMP:20260423T054918
CREATED:20230712T205543Z
LAST-MODIFIED:20230717T174337Z
UID:10000016-1691001000-1691004600@aspenout.com
SUMMARY:Queers & Coffee Glenwood Springs
DESCRIPTION:Queers & Coffee meets every Wednesday at 6:30pm at the Bluebird Café in Glenwood Springs. \nRelax and talk over a warm cup of coffee or tea. Sponsored by AspenOUT\, hosted by Cook Inclusive.
URL:https://aspenout.com/event/queers-coffee-glenwood-springs-2/
LOCATION:Bluebird Cafe\, 730 Grand Avenue\, Glenwood Springs\, CO\, 81601
ATTACH;FMTTYPE=image/jpeg:https://aspenout.com/wp-content/uploads/2023/07/QC-2023-English-2.jpg
END:VEVENT
BEGIN:VEVENT
DTSTART;TZID=America/Denver:20230808T160000
DTEND;TZID=America/Denver:20230808T170000
DTSTAMP:20260423T054918
CREATED:20230731T173616Z
LAST-MODIFIED:20230809T195930Z
UID:10000472-1691510400-1691514000@aspenout.com
SUMMARY:LGBTQIA+ Adult Therapy Group
DESCRIPTION:Midvalley Family Practice is hosting a therapy group for adult LGBTQIA+ community members. The group meets Tuesdays from 4-5pm from August 1 – September 26 at their Basalt office\, 1450 East Valley Road\, Suite 102.
URL:https://aspenout.com/event/lgbtqia-adult-therapy-group/2023-08-08/
LOCATION:Midvalley Family Practice\, 1450 East Valley Road\, Suite 102\, Basalt\, CO\, 81621
CATEGORIES:Adults Only
ATTACH;FMTTYPE=image/jpeg:https://aspenout.com/wp-content/uploads/2023/07/Midvalley-group.jpg
END:VEVENT
BEGIN:VEVENT
DTSTART;TZID=America/Denver:20230809T183000
DTEND;TZID=America/Denver:20230809T193000
DTSTAMP:20260423T054918
CREATED:20230717T173530Z
LAST-MODIFIED:20230717T174448Z
UID:10000019-1691605800-1691609400@aspenout.com
SUMMARY:Queers & Coffee Glenwood Springs
DESCRIPTION:Queers & Coffee meets every Wednesday at 6:30pm at the Bluebird Café in Glenwood Springs. \nRelax and talk over a warm cup of coffee or tea. Sponsored by AspenOUT\, hosted by Cook Inclusive.
URL:https://aspenout.com/event/queers-coffee-glenwood-springs-5/
LOCATION:Bluebird Cafe\, 730 Grand Avenue\, Glenwood Springs\, CO\, 81601
ATTACH;FMTTYPE=image/jpeg:https://aspenout.com/wp-content/uploads/2023/07/QC-2023-Spanish-2.jpg
END:VEVENT
BEGIN:VEVENT
DTSTART;TZID=America/Denver:20230811T190000
DTEND;TZID=America/Denver:20230811T220000
DTSTAMP:20260423T054918
CREATED:20230731T171836Z
LAST-MODIFIED:20230809T185619Z
UID:10000457-1691780400-1691791200@aspenout.com
SUMMARY:Glenwood Springs Hot Springs Soak with AspenOUT
DESCRIPTION:AspenOUT hosts a FREE monthly group soak at the Glenwood Springs Hot Springs\, every 2nd Friday. No reservation required. \nMeet inside at 7:00pm and head into the pool at 7:15. This is an open and inclusive group for ADULTS. Bring your towel and suit. For more information call or text 970-896-6504\, or email info@aspenout.org.
URL:https://aspenout.com/event/glenwood-springs-hot-springs-soak-with-aspenout/2023-08-11/
LOCATION:Glenwood Hot Springs Resort\, 401 North River St\, Glenwood Springs\, CO\, 81601
CATEGORIES:Adults Only
ATTACH;FMTTYPE=image/jpeg:https://aspenout.com/wp-content/uploads/2023/07/GWS-Pool.jpg
ORGANIZER;CN="AspenOUT":MAILTO:info@aspenout.org
END:VEVENT
BEGIN:VEVENT
DTSTART;TZID=America/Denver:20230812T160000
DTEND;TZID=America/Denver:20230812T200000
DTSTAMP:20260423T054918
CREATED:20230725T003956Z
LAST-MODIFIED:20230809T195757Z
UID:10000117-1691856000-1691870400@aspenout.com
SUMMARY:RENT presented by Theatre Aspen
DESCRIPTION:Theatre Aspen has generously donated 30 tickets to PFLAG see the rock musical RENT on Saturday\, August 12th! Dinner is included. Please RSVP to info@pflagrfv.org buy August 1st. \nPlease be advised that some of the content could be distressing for younger viewers\, or triggering for others – the story follows people in the 1990s who are living with drug addiction\, HIV and AIDS\, poverty. The overall messages\, however\, are uplifting and inspiring. \nRSVP NOW!
URL:https://aspenout.com/event/rent-presented-by-theatre-aspen/
LOCATION:Theater Aspen Tent\, 470 Rio Grande Place\, Aspen\, CO\, 81611
CATEGORIES:Youth,Youth and Adults
ATTACH;FMTTYPE=image/jpeg:https://aspenout.com/wp-content/uploads/2023/07/RENT.jpg
END:VEVENT
BEGIN:VEVENT
DTSTART;TZID=America/Denver:20230813T183000
DTEND;TZID=America/Denver:20230813T200000
DTSTAMP:20260423T054918
CREATED:20230814T211015Z
LAST-MODIFIED:20230814T211509Z
UID:10000525-1691951400-1691956800@aspenout.com
SUMMARY:PFLAG Peer to Peer Meetup in Glenwood Springs
DESCRIPTION:Join other parents\, caregivers and allies of LGBTQ+ loved ones to learn and support each other. \n\nBasalt – Every 3rd Monday at 6:30pm\nGlenwood Springs – Every 2nd Sunday at 6:30pm. In person and Zoom.\nRifle – Coming Soon!\n\nIt doesn’t matter where you are in your journey of understanding and allyship for your loved ones; we will meet you where you’re at and offer empathy\, support\, and chances to learn in a way that feels right for you. \nFor location and details\, please contact info@pflagrfv.org\, twilson@youthzone.org\, call or text to (970)945-9300.\nPeer to Peer Metups are financially supported by AspenOUT.
URL:https://aspenout.com/event/pflag-peer-to-peer-meetup-2/2023-08-13/
LOCATION:CO
CATEGORIES:Youth and Adults
ATTACH;FMTTYPE=image/jpeg:https://aspenout.com/wp-content/uploads/2023/08/Peer-to-Peer.jpeg
ORGANIZER;CN="PFLAG Roaring Fork Valley":MAILTO:info@pflagrfv.org
END:VEVENT
BEGIN:VEVENT
DTSTART;TZID=America/Denver:20230815T160000
DTEND;TZID=America/Denver:20230815T170000
DTSTAMP:20260423T054918
CREATED:20230731T173616Z
LAST-MODIFIED:20230809T195930Z
UID:10000473-1692115200-1692118800@aspenout.com
SUMMARY:LGBTQIA+ Adult Therapy Group
DESCRIPTION:Midvalley Family Practice is hosting a therapy group for adult LGBTQIA+ community members. The group meets Tuesdays from 4-5pm from August 1 – September 26 at their Basalt office\, 1450 East Valley Road\, Suite 102.
URL:https://aspenout.com/event/lgbtqia-adult-therapy-group/2023-08-15/
LOCATION:Midvalley Family Practice\, 1450 East Valley Road\, Suite 102\, Basalt\, CO\, 81621
CATEGORIES:Adults Only
ATTACH;FMTTYPE=image/jpeg:https://aspenout.com/wp-content/uploads/2023/07/Midvalley-group.jpg
END:VEVENT
BEGIN:VEVENT
DTSTART;TZID=America/Denver:20230815T173000
DTEND;TZID=America/Denver:20230815T183000
DTSTAMP:20260423T054918
CREATED:20230717T183916Z
LAST-MODIFIED:20230809T195719Z
UID:10000026-1692120600-1692124200@aspenout.com
SUMMARY:Connect & Climb
DESCRIPTION:Join PFLAG RFV and Cook Inclusive for a special climbing session with LGBTQ2A+ friends and family every 1st and 3rd Tuesday evening from 5:30-6:30pm at the Glenwood Springs Community Center. \nThe young folks can climb and spend time together while family members and Allies connect in the background. \nEmail info@pflagrfv.org if you have questions. \n.ALL ARE WELCOME! ¡TODOS SON BIENVENIDOS! \nCada 1er y 3er martes por la noche de 5:30 a 6:30. En el Centro Comunitario de Glenwood Springs. Únase a PFLAG RFV y Cook Inclusive para una sesión especial de escalada con amigos y familiares LGBTQ2A+. Los jóvenes pueden escalar y pasar tiempo juntos mientras los miembros de la familia y los Aliados se conectan de fondo. Envíe un correo electrónico a info@pflagrfv.org si tiene preguntas.
URL:https://aspenout.com/event/connect-climb-3/2023-08-15/
LOCATION:Glenwood Springs Community Center\, 100 Wulfsohn Road\, Glenwood Springs\, CO\, 81601
CATEGORIES:Youth,Youth and Adults
ATTACH;FMTTYPE=image/png:https://aspenout.com/wp-content/uploads/2023/07/ConnectClimbEnglish1.png
ORGANIZER;CN="PFLAG Roaring Fork Valley":MAILTO:info@pflagrfv.org
END:VEVENT
BEGIN:VEVENT
DTSTART;TZID=America/Denver:20230816T183000
DTEND;TZID=America/Denver:20230816T193000
DTSTAMP:20260423T054918
CREATED:20230717T175109Z
LAST-MODIFIED:20230717T175110Z
UID:10000020-1692210600-1692214200@aspenout.com
SUMMARY:Queers & Coffee Glenwood Springs
DESCRIPTION:Queers & Coffee meets every Wednesday at 6:30pm at the Bluebird Café in Glenwood Springs. \nRelax and talk over a warm cup of coffee or tea. Sponsored by AspenOUT\, hosted by Cook Inclusive.
URL:https://aspenout.com/event/queers-coffee-glenwood-springs-6/
LOCATION:Bluebird Cafe\, 730 Grand Avenue\, Glenwood Springs\, CO\, 81601
ATTACH;FMTTYPE=image/jpeg:https://aspenout.com/wp-content/uploads/2023/07/QC-2023-English-2.jpg
END:VEVENT
BEGIN:VEVENT
DTSTART;TZID=America/Denver:20230821T183000
DTEND;TZID=America/Denver:20230821T200000
DTSTAMP:20260423T054918
CREATED:20230814T210749Z
LAST-MODIFIED:20230814T211442Z
UID:10000497-1692642600-1692648000@aspenout.com
SUMMARY:PFLAG Peer to Peer Meetup in Basalt
DESCRIPTION:Join other parents\, caregivers and allies of LGBTQ+ loved ones to learn and support each other. \n\nBasalt – Every 3rd Monday at 6:30pm\nGlenwood Springs – Every 2nd Sunday at 6:30pm\nRifle – Coming Soon!\n\nIt doesn’t matter where you are in your journey of understanding and allyship for your loved ones; we will meet you where you’re at and offer empathy\, support\, and chances to learn in a way that feels right for you. \nFor location and details\, please contact info@pflagrfv.org\, twilson@youthzone.org\, call or text to (970)945-9300.\nPeer to Peer Metups are financially supported by AspenOUT.
URL:https://aspenout.com/event/pflag-peer-to-peer-meetup/2023-08-21/
LOCATION:CO
CATEGORIES:Youth and Adults
ATTACH;FMTTYPE=image/jpeg:https://aspenout.com/wp-content/uploads/2023/08/Peer-to-Peer.jpeg
ORGANIZER;CN="PFLAG Roaring Fork Valley":MAILTO:info@pflagrfv.org
END:VEVENT
BEGIN:VEVENT
DTSTART;TZID=America/Denver:20230822T160000
DTEND;TZID=America/Denver:20230822T170000
DTSTAMP:20260423T054918
CREATED:20230731T173616Z
LAST-MODIFIED:20230809T195930Z
UID:10000474-1692720000-1692723600@aspenout.com
SUMMARY:LGBTQIA+ Adult Therapy Group
DESCRIPTION:Midvalley Family Practice is hosting a therapy group for adult LGBTQIA+ community members. The group meets Tuesdays from 4-5pm from August 1 – September 26 at their Basalt office\, 1450 East Valley Road\, Suite 102.
URL:https://aspenout.com/event/lgbtqia-adult-therapy-group/2023-08-22/
LOCATION:Midvalley Family Practice\, 1450 East Valley Road\, Suite 102\, Basalt\, CO\, 81621
CATEGORIES:Adults Only
ATTACH;FMTTYPE=image/jpeg:https://aspenout.com/wp-content/uploads/2023/07/Midvalley-group.jpg
END:VEVENT
BEGIN:VEVENT
DTSTART;TZID=America/Denver:20230822T180000
DTEND;TZID=America/Denver:20230822T200000
DTSTAMP:20260423T054918
CREATED:20230717T233204Z
LAST-MODIFIED:20230717T233205Z
UID:10000055-1692727200-1692734400@aspenout.com
SUMMARY:Creations & Libations at The Art Base
DESCRIPTION:On the 4th Tuesday of each month\, The Art Base and AspenOUT welcome our local LGBTQIA+ community and allies come together to socialize\, make art\, network\, and have fun with or without an adult beverage. The class will feature a variety of projects in a variety of media. All levels are welcome. You will feel comfortable exploring creativity if you have no experience making art and have fun if you are an accomplished working artist\, all in a safe environment\, which is why Creations and Libations was conceived. \n$20/class. SCHOLARSHIPS AVAILABLE. Click HERE to register. \nThis week features Amanda Selsky – Drawing with Soft Pastels\nBring a favorite fruit or vegetable to life through pastel drawing! This class will go through the techniques of using soft pastels\, including composition\, layering\, color theory\, and more. Bring home your very own colorful still life of a greater than life size fruit or vegetable.
URL:https://aspenout.com/event/creations-libations-at-the-art-base-2/
LOCATION:The Art Base\, 174 Midland Avenue\, Basalt\, CO\, 81621
CATEGORIES:Adults Only
ATTACH;FMTTYPE=image/jpeg:https://aspenout.com/wp-content/uploads/2023/07/Creations-Libations_2023_webslide-scaled-1.jpg
END:VEVENT
BEGIN:VEVENT
DTSTART;TZID=America/Denver:20230823T183000
DTEND;TZID=America/Denver:20230823T193000
DTSTAMP:20260423T054918
CREATED:20230717T175634Z
LAST-MODIFIED:20230717T175635Z
UID:10000021-1692815400-1692819000@aspenout.com
SUMMARY:Queers & Coffee Glenwood Springs
DESCRIPTION:Queers & Coffee meets every Wednesday at 6:30pm at the Bluebird Café in Glenwood Springs. \nRelax and talk over a warm cup of coffee or tea. Sponsored by AspenOUT\, hosted by Cook Inclusive.
URL:https://aspenout.com/event/queers-coffee-glenwood-springs-7/
LOCATION:Bluebird Cafe\, 730 Grand Avenue\, Glenwood Springs\, CO\, 81601
ATTACH;FMTTYPE=image/jpeg:https://aspenout.com/wp-content/uploads/2023/07/QC-2023-Spanish-2.jpg
END:VEVENT
BEGIN:VEVENT
DTSTART;TZID=America/Denver:20230824T183000
DTEND;TZID=America/Denver:20230824T200000
DTSTAMP:20260423T054918
CREATED:20230717T190222Z
LAST-MODIFIED:20230717T190223Z
UID:10000029-1692901800-1692907200@aspenout.com
SUMMARY:Rifle Pizza & Game Night
DESCRIPTION:Join for pizza and game night\, the 4th Thursday of the month in Rifle. Spend time in a safe space to connect and build community. Non-binary host and experienced LGBTQ+ parents present. Spanish interpreter present. Email lovingbeyondunderstanding@gmail.com for details. \nCada cuarto jueves en Rifle. Lugar de reunión de pizza y juegos. Ven a pasar tiempo en un espacio seguro para conectarte y construir una comunidad. Anfitrión no binario y padres LGBTQ+ experimentados presentes. Intérprete español presente. Envíe un correo electrónico a loversbeyondunderstanding@gmail.com para obtener más detalles.
URL:https://aspenout.com/event/rifle-pizza-game-night-2/
LOCATION:CO
CATEGORIES:Youth
ATTACH;FMTTYPE=image/jpeg:https://aspenout.com/wp-content/uploads/2023/07/Rifle-Pizza-Games.jpg
END:VEVENT
BEGIN:VEVENT
DTSTART;TZID=America/Denver:20230829T160000
DTEND;TZID=America/Denver:20230829T170000
DTSTAMP:20260423T054918
CREATED:20230731T173616Z
LAST-MODIFIED:20230809T195930Z
UID:10000475-1693324800-1693328400@aspenout.com
SUMMARY:LGBTQIA+ Adult Therapy Group
DESCRIPTION:Midvalley Family Practice is hosting a therapy group for adult LGBTQIA+ community members. The group meets Tuesdays from 4-5pm from August 1 – September 26 at their Basalt office\, 1450 East Valley Road\, Suite 102.
URL:https://aspenout.com/event/lgbtqia-adult-therapy-group/2023-08-29/
LOCATION:Midvalley Family Practice\, 1450 East Valley Road\, Suite 102\, Basalt\, CO\, 81621
CATEGORIES:Adults Only
ATTACH;FMTTYPE=image/jpeg:https://aspenout.com/wp-content/uploads/2023/07/Midvalley-group.jpg
END:VEVENT
BEGIN:VEVENT
DTSTART;TZID=America/Denver:20230830T183000
DTEND;TZID=America/Denver:20230830T193000
DTSTAMP:20260423T054918
CREATED:20230717T180231Z
LAST-MODIFIED:20230809T195622Z
UID:10000023-1693420200-1693423800@aspenout.com
SUMMARY:Queers & Coffee Glenwood Springs
DESCRIPTION:Queers & Coffee meets every Wednesday at 6:30pm at the Bluebird Café in Glenwood Springs. \nRelax and talk over a warm cup of coffee or tea. Sponsored by AspenOUT\, hosted by Cook Inclusive.
URL:https://aspenout.com/event/queers-coffee-glenwood-springs-9/
LOCATION:Bluebird Cafe\, 730 Grand Avenue\, Glenwood Springs\, CO\, 81601
ATTACH;FMTTYPE=image/jpeg:https://aspenout.com/wp-content/uploads/2023/07/QC-2023-Spanish-2.jpg
END:VEVENT
END:VCALENDAR