BEGIN:VCALENDAR
VERSION:2.0
PRODID:-//AspenOUT - ECPv6.15.20//NONSGML v1.0//EN
CALSCALE:GREGORIAN
METHOD:PUBLISH
X-WR-CALNAME:AspenOUT
X-ORIGINAL-URL:https://aspenout.com
X-WR-CALDESC:Events for AspenOUT
REFRESH-INTERVAL;VALUE=DURATION:PT1H
X-Robots-Tag:noindex
X-PUBLISHED-TTL:PT1H
BEGIN:VTIMEZONE
TZID:America/Denver
BEGIN:DAYLIGHT
TZOFFSETFROM:-0700
TZOFFSETTO:-0600
TZNAME:MDT
DTSTART:20220313T090000
END:DAYLIGHT
BEGIN:STANDARD
TZOFFSETFROM:-0600
TZOFFSETTO:-0700
TZNAME:MST
DTSTART:20221106T080000
END:STANDARD
BEGIN:DAYLIGHT
TZOFFSETFROM:-0700
TZOFFSETTO:-0600
TZNAME:MDT
DTSTART:20230312T090000
END:DAYLIGHT
BEGIN:STANDARD
TZOFFSETFROM:-0600
TZOFFSETTO:-0700
TZNAME:MST
DTSTART:20231105T080000
END:STANDARD
BEGIN:DAYLIGHT
TZOFFSETFROM:-0700
TZOFFSETTO:-0600
TZNAME:MDT
DTSTART:20240310T090000
END:DAYLIGHT
BEGIN:STANDARD
TZOFFSETFROM:-0600
TZOFFSETTO:-0700
TZNAME:MST
DTSTART:20241103T080000
END:STANDARD
END:VTIMEZONE
BEGIN:VEVENT
DTSTART;TZID=America/Denver:20231008T183000
DTEND;TZID=America/Denver:20231008T200000
DTSTAMP:20260421T064101
CREATED:20230814T211015Z
LAST-MODIFIED:20230814T211509Z
UID:10000527-1696789800-1696795200@aspenout.com
SUMMARY:PFLAG Peer to Peer Meetup in Glenwood Springs
DESCRIPTION:Join other parents\, caregivers and allies of LGBTQ+ loved ones to learn and support each other. \n\nBasalt – Every 3rd Monday at 6:30pm\nGlenwood Springs – Every 2nd Sunday at 6:30pm. In person and Zoom.\nRifle – Coming Soon!\n\nIt doesn’t matter where you are in your journey of understanding and allyship for your loved ones; we will meet you where you’re at and offer empathy\, support\, and chances to learn in a way that feels right for you. \nFor location and details\, please contact info@pflagrfv.org\, twilson@youthzone.org\, call or text to (970)945-9300.\nPeer to Peer Metups are financially supported by AspenOUT.
URL:https://aspenout.com/event/pflag-peer-to-peer-meetup-2/2023-10-08/
LOCATION:CO
CATEGORIES:Youth and Adults
ATTACH;FMTTYPE=image/jpeg:https://aspenout.com/wp-content/uploads/2023/08/Peer-to-Peer.jpeg
ORGANIZER;CN="PFLAG Roaring Fork Valley":MAILTO:info@pflagrfv.org
END:VEVENT
BEGIN:VEVENT
DTSTART;TZID=America/Denver:20231013T190000
DTEND;TZID=America/Denver:20231013T220000
DTSTAMP:20260421T064101
CREATED:20230731T171836Z
LAST-MODIFIED:20230809T185619Z
UID:10000459-1697223600-1697234400@aspenout.com
SUMMARY:Glenwood Springs Hot Springs Soak with AspenOUT
DESCRIPTION:AspenOUT hosts a FREE monthly group soak at the Glenwood Springs Hot Springs\, every 2nd Friday. No reservation required. \nMeet inside at 7:00pm and head into the pool at 7:15. This is an open and inclusive group for ADULTS. Bring your towel and suit. For more information call or text 970-896-6504\, or email info@aspenout.org.
URL:https://aspenout.com/event/glenwood-springs-hot-springs-soak-with-aspenout/2023-10-13/
LOCATION:Glenwood Hot Springs Resort\, 401 North River St\, Glenwood Springs\, CO\, 81601
CATEGORIES:Adults Only
ATTACH;FMTTYPE=image/jpeg:https://aspenout.com/wp-content/uploads/2023/07/GWS-Pool.jpg
ORGANIZER;CN="AspenOUT":MAILTO:info@aspenout.org
END:VEVENT
BEGIN:VEVENT
DTSTART;TZID=America/Denver:20231016T183000
DTEND;TZID=America/Denver:20231016T200000
DTSTAMP:20260421T064101
CREATED:20230814T210749Z
LAST-MODIFIED:20230814T211442Z
UID:10000499-1697481000-1697486400@aspenout.com
SUMMARY:PFLAG Peer to Peer Meetup in Basalt
DESCRIPTION:Join other parents\, caregivers and allies of LGBTQ+ loved ones to learn and support each other. \n\nBasalt – Every 3rd Monday at 6:30pm\nGlenwood Springs – Every 2nd Sunday at 6:30pm\nRifle – Coming Soon!\n\nIt doesn’t matter where you are in your journey of understanding and allyship for your loved ones; we will meet you where you’re at and offer empathy\, support\, and chances to learn in a way that feels right for you. \nFor location and details\, please contact info@pflagrfv.org\, twilson@youthzone.org\, call or text to (970)945-9300.\nPeer to Peer Metups are financially supported by AspenOUT.
URL:https://aspenout.com/event/pflag-peer-to-peer-meetup/2023-10-16/
LOCATION:CO
CATEGORIES:Youth and Adults
ATTACH;FMTTYPE=image/jpeg:https://aspenout.com/wp-content/uploads/2023/08/Peer-to-Peer.jpeg
ORGANIZER;CN="PFLAG Roaring Fork Valley":MAILTO:info@pflagrfv.org
END:VEVENT
BEGIN:VEVENT
DTSTART;TZID=America/Denver:20231017T173000
DTEND;TZID=America/Denver:20231017T183000
DTSTAMP:20260421T064101
CREATED:20230717T183916Z
LAST-MODIFIED:20230809T195719Z
UID:10000194-1697563800-1697567400@aspenout.com
SUMMARY:Connect & Climb
DESCRIPTION:Join PFLAG RFV and Cook Inclusive for a special climbing session with LGBTQ2A+ friends and family every 1st and 3rd Tuesday evening from 5:30-6:30pm at the Glenwood Springs Community Center. \nThe young folks can climb and spend time together while family members and Allies connect in the background. \nEmail info@pflagrfv.org if you have questions. \n.ALL ARE WELCOME! ¡TODOS SON BIENVENIDOS! \nCada 1er y 3er martes por la noche de 5:30 a 6:30. En el Centro Comunitario de Glenwood Springs. Únase a PFLAG RFV y Cook Inclusive para una sesión especial de escalada con amigos y familiares LGBTQ2A+. Los jóvenes pueden escalar y pasar tiempo juntos mientras los miembros de la familia y los Aliados se conectan de fondo. Envíe un correo electrónico a info@pflagrfv.org si tiene preguntas.
URL:https://aspenout.com/event/connect-climb-3/2023-10-17/
LOCATION:Glenwood Springs Community Center\, 100 Wulfsohn Road\, Glenwood Springs\, CO\, 81601
CATEGORIES:Youth,Youth and Adults
ATTACH;FMTTYPE=image/png:https://aspenout.com/wp-content/uploads/2023/07/ConnectClimbEnglish1.png
ORGANIZER;CN="PFLAG Roaring Fork Valley":MAILTO:info@pflagrfv.org
END:VEVENT
BEGIN:VEVENT
DTSTART;TZID=America/Denver:20231021T090000
DTEND;TZID=America/Denver:20231021T170000
DTSTAMP:20260421T064101
CREATED:20230728T222045Z
LAST-MODIFIED:20230807T003146Z
UID:10000118-1697878800-1697907600@aspenout.com
SUMMARY:One Colorado's 2023 Queer Youth Summit
DESCRIPTION:One Colorado is excited to bring back the Queer Youth Summit this year! The Summit is a 1-day forum welcoming LGBTQ+ youth and young adults\, parents\, and educators for speakers and workshops to learn\, share\, dialogue\, and connect in support of LGBTQ+ students. Learn more HERE. \nMark your calendars for October 21st and check this space for further updates\, including: \n\nour host location\,\nworkshop leaders and topics\,\nkeynote speakers\,\nand more.\n\nAbout the Queer Youth Summit\nOne Colorado developed the first Queer Youth Summit in 2014 to establish create a welcoming and safe environment for LGBTQIA+ students in Colorado schools to address the issues and challenges they face. Over the years we have partnered with Gender & Sexuality Alliances (GSA) and students across the state to create a forum for students\, parents and guardians\, and educators to gather\, learn\, and dialogue through various workshops\, panels\, and interactive sessions. Participants have the opportunity to interact with peers and mentors\, meet new people\, share their experiences\, shift and deepen their understanding\,  and improve their capacity to promote constructive change for LGBTQ+ students in Colorado. While the primary focus of this event is by and for young people\, parents\, college students\, and other allied community members are all warmly welcomed. \n\n\n\nWorkshop Proposal Application\nOne Colorado is seeking Workshop Proposals for our 2023 Queer Youth Summit. Workshops from youth serving organizations and those that are youth-led will be prioritized. Applications accepted through August 10\, 2023. \n\nWORKSHOP PROPOSAL \n\nVendor Application\nOne Colorado is seeking Vendor Applications for our 2023 Queer Youth Summit. \n\nVENDOR FORM\n \n\n\n\n\n\n\n\n\n\n\n\n\n\n\n\n\n\n\nOne Colorado is the state’s leading advocacy organization dedicated to advancing equality for (LGBTQ) Coloradans and their families. We are working together for a fair and just Colorado.
URL:https://aspenout.com/event/one-colorados-2023-queer-youth-summit/
LOCATION:CO
CATEGORIES:Youth
ATTACH;FMTTYPE=image/png:https://aspenout.com/wp-content/uploads/2023/07/2023-Queer-Youth-Summit-webpage-header-2.png
END:VEVENT
BEGIN:VEVENT
DTSTART;TZID=America/Denver:20231024T180000
DTEND;TZID=America/Denver:20231024T200000
DTSTAMP:20260421T064101
CREATED:20231019T203007Z
LAST-MODIFIED:20260410T151421Z
UID:10000450-1698170400-1698177600@aspenout.com
SUMMARY:Creations & Libations at The Art Base
DESCRIPTION:SOPHIA CATTO- OH MY GAUDI: A NOUVEAU PERSPECTIVE ON RECYCLING\nAll levels welcome. Supplies included. \nWe will create recycled sculptures inspired by the iconic architect Antoni Gaudí is an exciting and artistic way to explore eco-friendly art. Gaudí’s work is known for its organic and whimsical forms\, making it a great source of inspiration for environmentally conscious art. What’s more\, even though Gaudí and his modernist contemporaries lived over 200 years ago\, they actively used recycled materials in their high-end designs. \nOn the 4th Tuesday of each month\, The Art Base and AspenOUT welcome our local LGBTQIA+ community and allies come together to socialize\, make art\, network\, and have fun with or without an adult beverage. The class will feature a variety of projects in a variety of media. All levels are welcome. You will feel comfortable exploring creativity if you have no experience making art and have fun if you are an accomplished working artist\, all in a safe environment\, which is why Creations and Libations was conceived. \n$20/class. SCHOLARSHIPS AVAILABLE. Click HERE to register.
URL:https://aspenout.com/event/creations-libations-at-the-art-base-3-2/
LOCATION:The Art Base\, 174 Midland Avenue\, Basalt\, CO\, 81621
CATEGORIES:Adults Only
ATTACH;FMTTYPE=image/jpeg:https://aspenout.com/wp-content/uploads/2023/07/Creations-Libations_2023_webslide-scaled-1.jpg
END:VEVENT
BEGIN:VEVENT
DTSTART;TZID=America/Denver:20231026T183000
DTEND;TZID=America/Denver:20231026T203000
DTSTAMP:20260421T064101
CREATED:20230717T190330Z
LAST-MODIFIED:20240325T172640Z
UID:10000482-1698345000-1698352200@aspenout.com
SUMMARY:Rifle Pizza & Game Night
DESCRIPTION:Join for pizza and game night\, the 4th Thursday of the month in Rifle. Spend time in a safe space to connect and build community. Non-binary host and experienced LGBTQ+ parents present. Spanish interpreter present. Email lovingbeyondunderstanding@gmail.com for details. \nCada cuarto jueves en Rifle. Lugar de reunión de pizza y juegos. Ven a pasar tiempo en un espacio seguro para conectarte y construir una comunidad. Anfitrión no binario y padres LGBTQ+ experimentados presentes. Intérprete español presente. Envíe un correo electrónico a loversbeyondunderstanding@gmail.com para obtener más detalles. \n 
URL:https://aspenout.com/event/rifle-pizza-game-night-3/2023-10-26/
LOCATION:CO
CATEGORIES:Youth
ATTACH;FMTTYPE=image/jpeg:https://aspenout.com/wp-content/uploads/2023/07/Rifle-Pizza.jpeg
ORGANIZER;CN="Loving Beyond Understanding":MAILTO:lovingbeyondunderstanding@gmail.com
END:VEVENT
END:VCALENDAR