BEGIN:VCALENDAR
VERSION:2.0
PRODID:-//AspenOUT - ECPv6.15.20//NONSGML v1.0//EN
CALSCALE:GREGORIAN
METHOD:PUBLISH
X-WR-CALNAME:AspenOUT
X-ORIGINAL-URL:https://aspenout.com
X-WR-CALDESC:Events for AspenOUT
REFRESH-INTERVAL;VALUE=DURATION:PT1H
X-Robots-Tag:noindex
X-PUBLISHED-TTL:PT1H
BEGIN:VTIMEZONE
TZID:America/Denver
BEGIN:DAYLIGHT
TZOFFSETFROM:-0700
TZOFFSETTO:-0600
TZNAME:MDT
DTSTART:20230312T090000
END:DAYLIGHT
BEGIN:STANDARD
TZOFFSETFROM:-0600
TZOFFSETTO:-0700
TZNAME:MST
DTSTART:20231105T080000
END:STANDARD
BEGIN:DAYLIGHT
TZOFFSETFROM:-0700
TZOFFSETTO:-0600
TZNAME:MDT
DTSTART:20240310T090000
END:DAYLIGHT
BEGIN:STANDARD
TZOFFSETFROM:-0600
TZOFFSETTO:-0700
TZNAME:MST
DTSTART:20241103T080000
END:STANDARD
BEGIN:DAYLIGHT
TZOFFSETFROM:-0700
TZOFFSETTO:-0600
TZNAME:MDT
DTSTART:20250309T090000
END:DAYLIGHT
BEGIN:STANDARD
TZOFFSETFROM:-0600
TZOFFSETTO:-0700
TZNAME:MST
DTSTART:20251102T080000
END:STANDARD
END:VTIMEZONE
BEGIN:VEVENT
DTSTART;TZID=America/Denver:20240308T190000
DTEND;TZID=America/Denver:20240308T220000
DTSTAMP:20260420T142502
CREATED:20230731T171836Z
LAST-MODIFIED:20230809T185619Z
UID:10000464-1709924400-1709935200@aspenout.com
SUMMARY:Glenwood Springs Hot Springs Soak with AspenOUT
DESCRIPTION:AspenOUT hosts a FREE monthly group soak at the Glenwood Springs Hot Springs\, every 2nd Friday. No reservation required. \nMeet inside at 7:00pm and head into the pool at 7:15. This is an open and inclusive group for ADULTS. Bring your towel and suit. For more information call or text 970-896-6504\, or email info@aspenout.org.
URL:https://aspenout.com/event/glenwood-springs-hot-springs-soak-with-aspenout/2024-03-08/
LOCATION:Glenwood Hot Springs Resort\, 401 North River St\, Glenwood Springs\, CO\, 81601
CATEGORIES:Adults Only
ATTACH;FMTTYPE=image/jpeg:https://aspenout.com/wp-content/uploads/2023/07/GWS-Pool.jpg
ORGANIZER;CN="AspenOUT":MAILTO:info@aspenout.org
END:VEVENT
BEGIN:VEVENT
DTSTART;TZID=America/Denver:20240310T183000
DTEND;TZID=America/Denver:20240310T200000
DTSTAMP:20260420T142502
CREATED:20230814T211015Z
LAST-MODIFIED:20230814T211509Z
UID:10000532-1710095400-1710100800@aspenout.com
SUMMARY:PFLAG Peer to Peer Meetup in Glenwood Springs
DESCRIPTION:Join other parents\, caregivers and allies of LGBTQ+ loved ones to learn and support each other. \n\nBasalt – Every 3rd Monday at 6:30pm\nGlenwood Springs – Every 2nd Sunday at 6:30pm. In person and Zoom.\nRifle – Coming Soon!\n\nIt doesn’t matter where you are in your journey of understanding and allyship for your loved ones; we will meet you where you’re at and offer empathy\, support\, and chances to learn in a way that feels right for you. \nFor location and details\, please contact info@pflagrfv.org\, twilson@youthzone.org\, call or text to (970)945-9300.\nPeer to Peer Metups are financially supported by AspenOUT.
URL:https://aspenout.com/event/pflag-peer-to-peer-meetup-2/2024-03-10/
LOCATION:CO
CATEGORIES:Youth and Adults
ATTACH;FMTTYPE=image/jpeg:https://aspenout.com/wp-content/uploads/2023/08/Peer-to-Peer.jpeg
ORGANIZER;CN="PFLAG Roaring Fork Valley":MAILTO:info@pflagrfv.org
END:VEVENT
BEGIN:VEVENT
DTSTART;TZID=America/Denver:20240318T183000
DTEND;TZID=America/Denver:20240318T200000
DTSTAMP:20260420T142502
CREATED:20230814T210749Z
LAST-MODIFIED:20230814T211442Z
UID:10000504-1710786600-1710792000@aspenout.com
SUMMARY:PFLAG Peer to Peer Meetup in Basalt
DESCRIPTION:Join other parents\, caregivers and allies of LGBTQ+ loved ones to learn and support each other. \n\nBasalt – Every 3rd Monday at 6:30pm\nGlenwood Springs – Every 2nd Sunday at 6:30pm\nRifle – Coming Soon!\n\nIt doesn’t matter where you are in your journey of understanding and allyship for your loved ones; we will meet you where you’re at and offer empathy\, support\, and chances to learn in a way that feels right for you. \nFor location and details\, please contact info@pflagrfv.org\, twilson@youthzone.org\, call or text to (970)945-9300.\nPeer to Peer Metups are financially supported by AspenOUT.
URL:https://aspenout.com/event/pflag-peer-to-peer-meetup/2024-03-18/
LOCATION:CO
CATEGORIES:Youth and Adults
ATTACH;FMTTYPE=image/jpeg:https://aspenout.com/wp-content/uploads/2023/08/Peer-to-Peer.jpeg
ORGANIZER;CN="PFLAG Roaring Fork Valley":MAILTO:info@pflagrfv.org
END:VEVENT
BEGIN:VEVENT
DTSTART;TZID=America/Denver:20240319T173000
DTEND;TZID=America/Denver:20240319T183000
DTSTAMP:20260420T142502
CREATED:20230717T183916Z
LAST-MODIFIED:20230809T195719Z
UID:10000199-1710869400-1710873000@aspenout.com
SUMMARY:Connect & Climb
DESCRIPTION:Join PFLAG RFV and Cook Inclusive for a special climbing session with LGBTQ2A+ friends and family every 1st and 3rd Tuesday evening from 5:30-6:30pm at the Glenwood Springs Community Center. \nThe young folks can climb and spend time together while family members and Allies connect in the background. \nEmail info@pflagrfv.org if you have questions. \n.ALL ARE WELCOME! ¡TODOS SON BIENVENIDOS! \nCada 1er y 3er martes por la noche de 5:30 a 6:30. En el Centro Comunitario de Glenwood Springs. Únase a PFLAG RFV y Cook Inclusive para una sesión especial de escalada con amigos y familiares LGBTQ2A+. Los jóvenes pueden escalar y pasar tiempo juntos mientras los miembros de la familia y los Aliados se conectan de fondo. Envíe un correo electrónico a info@pflagrfv.org si tiene preguntas.
URL:https://aspenout.com/event/connect-climb-3/2024-03-19/
LOCATION:Glenwood Springs Community Center\, 100 Wulfsohn Road\, Glenwood Springs\, CO\, 81601
CATEGORIES:Youth,Youth and Adults
ATTACH;FMTTYPE=image/png:https://aspenout.com/wp-content/uploads/2023/07/ConnectClimbEnglish1.png
ORGANIZER;CN="PFLAG Roaring Fork Valley":MAILTO:info@pflagrfv.org
END:VEVENT
BEGIN:VEVENT
DTSTART;TZID=America/Denver:20240328T183000
DTEND;TZID=America/Denver:20240328T203000
DTSTAMP:20260420T142502
CREATED:20230717T190330Z
LAST-MODIFIED:20240325T172640Z
UID:10000487-1711650600-1711657800@aspenout.com
SUMMARY:Rifle Pizza & Game Night
DESCRIPTION:Join for pizza and game night\, the 4th Thursday of the month in Rifle. Spend time in a safe space to connect and build community. Non-binary host and experienced LGBTQ+ parents present. Spanish interpreter present. Email lovingbeyondunderstanding@gmail.com for details. \nCada cuarto jueves en Rifle. Lugar de reunión de pizza y juegos. Ven a pasar tiempo en un espacio seguro para conectarte y construir una comunidad. Anfitrión no binario y padres LGBTQ+ experimentados presentes. Intérprete español presente. Envíe un correo electrónico a loversbeyondunderstanding@gmail.com para obtener más detalles. \n 
URL:https://aspenout.com/event/rifle-pizza-game-night-3/2024-03-28/
LOCATION:CO
CATEGORIES:Youth
ATTACH;FMTTYPE=image/jpeg:https://aspenout.com/wp-content/uploads/2023/07/Rifle-Pizza.jpeg
ORGANIZER;CN="Loving Beyond Understanding":MAILTO:lovingbeyondunderstanding@gmail.com
END:VEVENT
END:VCALENDAR