BEGIN:VCALENDAR
VERSION:2.0
PRODID:-//AspenOUT - ECPv6.15.20//NONSGML v1.0//EN
CALSCALE:GREGORIAN
METHOD:PUBLISH
X-WR-CALNAME:AspenOUT
X-ORIGINAL-URL:https://aspenout.com
X-WR-CALDESC:Events for AspenOUT
REFRESH-INTERVAL;VALUE=DURATION:PT1H
X-Robots-Tag:noindex
X-PUBLISHED-TTL:PT1H
BEGIN:VTIMEZONE
TZID:America/Denver
BEGIN:DAYLIGHT
TZOFFSETFROM:-0700
TZOFFSETTO:-0600
TZNAME:MDT
DTSTART:20240310T090000
END:DAYLIGHT
BEGIN:STANDARD
TZOFFSETFROM:-0600
TZOFFSETTO:-0700
TZNAME:MST
DTSTART:20241103T080000
END:STANDARD
BEGIN:DAYLIGHT
TZOFFSETFROM:-0700
TZOFFSETTO:-0600
TZNAME:MDT
DTSTART:20250309T090000
END:DAYLIGHT
BEGIN:STANDARD
TZOFFSETFROM:-0600
TZOFFSETTO:-0700
TZNAME:MST
DTSTART:20251102T080000
END:STANDARD
BEGIN:DAYLIGHT
TZOFFSETFROM:-0700
TZOFFSETTO:-0600
TZNAME:MDT
DTSTART:20260308T090000
END:DAYLIGHT
BEGIN:STANDARD
TZOFFSETFROM:-0600
TZOFFSETTO:-0700
TZNAME:MST
DTSTART:20261101T080000
END:STANDARD
END:VTIMEZONE
BEGIN:VEVENT
DTSTART;VALUE=DATE:20250112
DTEND;VALUE=DATE:20250121
DTSTAMP:20260420T015822
CREATED:20240917T233437Z
LAST-MODIFIED:20240917T234809Z
UID:10000583-1736650800-1737341999@aspenout.com
SUMMARY:AGSW 2025
DESCRIPTION:What is AGSW?\nOne of the longest traditions of LGBTQ+ Pride in Aspen and Snowmass\, Colorado \n			\n				\n				\n				\n				\n				\n			\n			\n				\n				\n				\n				\n				\n				\n				\n				\n				\n				AGSW is a long-standing tradition of pop-up events\, VIP mingling\, and so much more. Oh\, did we also mention skiing and snowboarding? There’s that\, too. \nAGSW 2025 (Aspen Gay Ski Week) is a renowned LGBTQ+ event that offers a unique blend of skiing\, socializing\, and celebration. Here are some compelling reasons to attend: \n\nWorld-Class Skiing: Aspen is a premier ski destination\, renowned for its powdery slopes and stunning mountain scenery. Whether you’re a seasoned skier or a beginner\, you’ll find plenty of opportunities to enjoy the winter wonderland.\nInclusive Community: AGSW fosters a welcoming and inclusive atmosphere\, making it a safe and enjoyable space for LGBTQ+ individuals and allies.\nSocial Events and Parties: The week is packed with exciting social events\, including parties\, concerts\, and après-ski gatherings. It’s a great chance to meet new people\, make friends\, and have a blast.\nPhilanthropic Focus: AGSW is committed to giving back to the community. The event supports various LGBTQ+ causes and organizations.\nStunning Location: Aspen’s picturesque setting\, with its snow-capped mountains and charming town\, provides a breathtaking backdrop for your winter getaway.\n\nIf you’re looking for an unforgettable winter experience that combines skiing\, socializing\, and giving back\, AGSW 2025 in Aspen is a must-attend event. \n			\n			\n				\n				\n				\n				\n			\n				\n				\n			\n				\n				\n				\n				\n				\n				\n				\n				\n				\n			\n				\n				\n				\n				\n				\n				\n				\n				\n				\n				\n				\n				\n				\n				\n				\n				\n				\n				AGSW 2025 is put on by our not for profit AspenOUT. Every year we invite members of the LGBTQ+ Community to support the mission of our non-profit.\n			\n			\n				\n				\n				\n				\n				\n				\n				\n				\n				\n				About AspenOUT\nEstablished as the Roaring Fork Gay and Lesbian Community Fund (RFGLCF)\, the organization grew with only one staff member and a Board of Directors to help maximize the profit for charity\, anchored by Aspen Gay Ski Week (ASGW) as a grassroots fundraiser. While the RFGLCF/AspenOUT is best known for producing AGSW\, we strive to support the development of a strong local Gay\, Lesbian\, Bi\, and Transgender community with programs and initiatives including: The Art Base Partnership\, CP Burger Youth Event\, Carbondale Pride\, Affirming Voices\, and more. We invite you to become a part of AspenOUT\, whether as a visitor\, part-time resident\, or full-time local. \n			\n			\n				\n				\n				\n				\n			\n				\n				\n			\n				\n				\n				\n				\n				\n				\n				\n				\n				\n				\n				\n				\n				\n				\n				\n				\n				\n				\n			\n			\n				\n				\n				\n				\n			\n				\n				\n				\n				\n				\n				\n				\n				\n				\n				\n				Get in Touch. Get Involved.\nWe are always looking for new volunteers\, future board members\, and more. Let us know how you’d like to be involved with AspenOUT. \n			\n			\n				\n				\n				\n				\n			\n				\n				\n				\n				\n				\n				\n				\n				\n				\n				\n				\n					\n					\n						P.O. Box 3143 Aspen\,Colorado 81612\n						\n					\n				\n			\n			\n				\n				\n				\n				\n				\n				\n				\n				\n				\n				\n					\n					\n						Call Us: 970-236-6504\n						\n					\n				\n			\n			\n				\n				\n				\n				\n				\n				Become A Sponsor\n			\n			\n				\n				\n				\n				\n			\n				\n				\n				\n				\n				\n				\n				\n				\n				\n				\n				\n				\n				\n				\n					\n						\n				\n				\n				\n				\n				Name\n				\n			 \n\n				\n				\n				\n				\n				Email Address\n				\n			 \n\n				\n				\n				\n				\n				Message\n				\n			 \n\n						\n						\n							\n							Submit\n						\n						\n					\n				\n			\n\n			\n				\n				\n				\n				\n			\n				\n				\n				\n				\n				\n				\n				\n				\n				\n				\n				FollowFollow
URL:https://aspenout.com/event/what-is-agsw-2025/
LOCATION:Aspen\, Aspen\, CO
ATTACH;FMTTYPE=image/png:https://aspenout.com/wp-content/uploads/2024/09/agsw-2025-aspen-out-e1726616933585.png
END:VEVENT
END:VCALENDAR