BEGIN:VCALENDAR
VERSION:2.0
PRODID:-//AspenOUT - ECPv6.15.20//NONSGML v1.0//EN
CALSCALE:GREGORIAN
METHOD:PUBLISH
X-WR-CALNAME:AspenOUT
X-ORIGINAL-URL:https://aspenout.com
X-WR-CALDESC:Events for AspenOUT
REFRESH-INTERVAL;VALUE=DURATION:PT1H
X-Robots-Tag:noindex
X-PUBLISHED-TTL:PT1H
BEGIN:VTIMEZONE
TZID:America/Denver
BEGIN:DAYLIGHT
TZOFFSETFROM:-0700
TZOFFSETTO:-0600
TZNAME:MDT
DTSTART:20240310T090000
END:DAYLIGHT
BEGIN:STANDARD
TZOFFSETFROM:-0600
TZOFFSETTO:-0700
TZNAME:MST
DTSTART:20241103T080000
END:STANDARD
BEGIN:DAYLIGHT
TZOFFSETFROM:-0700
TZOFFSETTO:-0600
TZNAME:MDT
DTSTART:20250309T090000
END:DAYLIGHT
BEGIN:STANDARD
TZOFFSETFROM:-0600
TZOFFSETTO:-0700
TZNAME:MST
DTSTART:20251102T080000
END:STANDARD
BEGIN:DAYLIGHT
TZOFFSETFROM:-0700
TZOFFSETTO:-0600
TZNAME:MDT
DTSTART:20260308T090000
END:DAYLIGHT
BEGIN:STANDARD
TZOFFSETFROM:-0600
TZOFFSETTO:-0700
TZNAME:MST
DTSTART:20261101T080000
END:STANDARD
END:VTIMEZONE
BEGIN:VEVENT
DTSTART;TZID=America/Denver:20251126T170000
DTEND;TZID=America/Denver:20251126T193000
DTSTAMP:20260420T112918
CREATED:20251122T013333Z
LAST-MODIFIED:20251122T013550Z
UID:10000613-1764176400-1764185400@aspenout.com
SUMMARY:Friends-giving at Blue Bird Cafe - PFLAG
DESCRIPTION:Friends-giving at Blue Bird Cafe – PFLAG\n \nJoin PFLAG RFV\, Greater RFV LGBTQ+ & Allies for a Friendsgiving Celebration. A heartwarming gathering designed to bring our community\, chosen family\, and allies together for an evening of gratitude\, tasty food\, and joy.\n \nNovember 26th\, 2025 at 5PM\nThe Blue Bird Cafe • 730 Grand Ave\, Glendwood Springs\n \nBe a part of the feast by registering online and signing up to bring a dish. If you can’t contribute food\, your presence is more than enough! This event is free.\n \nRSVP via KatrinaMcalpine4[a]gmail.com • 303-364-4332\n			\n			\n				\n				\n				\n				\n			\n				\n				\n			\n				\n				\n				\n				\n				\n				\n				\n				\n				\n				\n				\n				\n				\n				\n				\n				\n				\n				\n			\n			\n				\n				\n				\n				\n			\n				\n				\n				\n				\n				\n				\n				\n				\n				\n				\n				Get in Touch. Get Involved.\nWe are always looking for new volunteers\, future board members\, and more. Let us know how you’d like to be involved with AspenOUT. \n			\n			\n				\n				\n				\n				\n			\n				\n				\n				\n				\n				\n				\n				\n				\n				\n				\n				\n					\n					\n						298 Park Ave. Suite A5\, Basalt\, CO\, 81621\n						\n					\n				\n			\n			\n				\n				\n				\n				\n				\n				\n				\n				\n				\n				\n					\n					\n						Text Us: ‪(323) 553-0258\n						\n					\n				\n			\n			\n				\n				\n				\n				\n				\n				Become A Sponsor\n			\n			\n				\n				\n				\n				\n			\n				\n				\n				\n				\n				\n				\n				\n				\n				\n				\n				\n				\n				\n				\n					\n						\n				\n				\n				\n				\n				Name\n				\n			 \n\n				\n				\n				\n				\n				Email Address\n				\n			 \n\n				\n				\n				\n				\n				Message\n				\n			 \n\n						\n						\n							\n							Submit\n						\n						\n					\n				\n			\n\n			\n				\n				\n				\n				\n			\n				\n				\n				\n				\n				\n				\n				\n				\n				\n				\n				FollowFollow
URL:https://aspenout.com/event/friends-giving-at-blue-bird-cafe-pflag/
LOCATION:Blue Bird Cafe\, 730 Grand Ave\, Glendwood Springs\, CO\, 81601\, United States
CATEGORIES:Youth and Adults
ATTACH;FMTTYPE=image/jpeg:https://aspenout.com/wp-content/uploads/2025/11/friendsgiving-pflag-blue-bird-thanksgiving-2025.jpg
END:VEVENT
END:VCALENDAR