BEGIN:VCALENDAR
VERSION:2.0
PRODID:-//AspenOUT - ECPv6.15.20//NONSGML v1.0//EN
CALSCALE:GREGORIAN
METHOD:PUBLISH
X-ORIGINAL-URL:https://aspenout.com
X-WR-CALDESC:Events for AspenOUT
REFRESH-INTERVAL;VALUE=DURATION:PT1H
X-Robots-Tag:noindex
X-PUBLISHED-TTL:PT1H
BEGIN:VTIMEZONE
TZID:America/Denver
BEGIN:DAYLIGHT
TZOFFSETFROM:-0700
TZOFFSETTO:-0600
TZNAME:MDT
DTSTART:20240310T090000
END:DAYLIGHT
BEGIN:STANDARD
TZOFFSETFROM:-0600
TZOFFSETTO:-0700
TZNAME:MST
DTSTART:20241103T080000
END:STANDARD
BEGIN:DAYLIGHT
TZOFFSETFROM:-0700
TZOFFSETTO:-0600
TZNAME:MDT
DTSTART:20250309T090000
END:DAYLIGHT
BEGIN:STANDARD
TZOFFSETFROM:-0600
TZOFFSETTO:-0700
TZNAME:MST
DTSTART:20251102T080000
END:STANDARD
BEGIN:DAYLIGHT
TZOFFSETFROM:-0700
TZOFFSETTO:-0600
TZNAME:MDT
DTSTART:20260308T090000
END:DAYLIGHT
BEGIN:STANDARD
TZOFFSETFROM:-0600
TZOFFSETTO:-0700
TZNAME:MST
DTSTART:20261101T080000
END:STANDARD
END:VTIMEZONE
BEGIN:VEVENT
DTSTART;TZID=America/Denver:20250816T140000
DTEND;TZID=America/Denver:20250816T173000
DTSTAMP:20260421T102604
CREATED:20250624T181712Z
LAST-MODIFIED:20250710T190134Z
UID:10000593-1755352800-1755365400@aspenout.com
SUMMARY:Cidermass Invitational
DESCRIPTION:CLICK HERE FOR TICKETS\n			\n				\n				\n				\n				\n				\n\nSaturday\, August 16th 2-5:30pm\n\n\n\n\nCidermass Invitational\n\n\n\n\nCidermass Invitational is a tasting event held in Snowmass Village.CIDER\, beer\, wine\, and cocktails. High quality low low-key festival. 21+ \nJoin us for the Cidermass event held from 2:00pm-5:30pm on the Snowmass Mall. Schilling\, Anna’s Cider\, Stem’s Cider\, and 2 Towns Ciderhouse\, to name a few of the 20-25 attending vendors\, will be on site for some delicious hard-cider\, beer\, wine\, and cocktail tasting. \nFor more information visit Cidermass.com
URL:https://aspenout.com/event/cidermass-invitational-2025/
LOCATION:Snowmass Village\, 81615
CATEGORIES:Adults Only
ATTACH;FMTTYPE=image/jpeg:https://aspenout.com/wp-content/uploads/2025/06/cidermass-invitational-august.jpg
END:VEVENT
END:VCALENDAR